BOTTLE,,,,,,,,,,,,,,,,,,,,,,,,,,,,,,,,,,,,
EXPOCODE, STNNBR, CASTNO,BTLNBR, DATE,TIME,LONGITUDE, LATITUDE, MAXDEPTH, CTDPRS, CTDTMP, CTDSAL,CTDSAL_FLAG_W, SALNTY, SALNTY_FLAG_W, CTDOXY, OXYGEN, OXYGEN_FLAG_W, NITRIT, NITRIT_FLAG_W, NITRAT, NITRAT_FLAG_W, PHSPHT, PHSPHT_FLAG_W, SILCAT, SILCAT_FLAG_W, CFC12, CFC12_FLAG_W, SF6, SF6_FLAG_W, TCARBN, TCARBN_FLAG_W, ALKALI, ALKALI_FLAG_W, PH_TOT, PH_TOT_FLAG_W, PH_TEMP
,,,,,,,,meter,dbar,ITS-90,PSS-78,,PSS-78,,umol/kg,umol/kg,,umol/kg,,umol/kg,,umol/kg,,umol/kg,,pmol/kg,,fmol/kg,,umol/kg,,umol/kg,,,,degC
58JH20190515,531,1,1,20190526,505,1.8662,70.5468,3123,1799.55,-0.61,34.9139,2,-999,9,287.05,-999,9,0.03,2,14.7,2,0.96,2,10.06,2,-999,9,-999,9,-999,9,-999,9,-999,9,-999
58JH20190515,531,1,2,20190526,505,1.8662,70.5468,3123,1500.17,-0.46,34.9134,2,-999,9,292.52,-999,9,0.04,2,13.97,2,0.93,2,8.62,2,-999,9,-999,9,-999,9,-999,9,-999,9,-999
58JH20190515,531,1,3,20190526,505,1.8662,70.5468,3123,1249.88,-0.24,34.9138,2,-999,9,293.98,-999,9,0.04,2,14.22,2,0.91,2,7.59,2,-999,9,-999,9,-999,9,-999,9,-999,9,-999
58JH20190515,531,1,4,20190526,505,1.8662,70.5468,3123,999.66,0.38,34.9136,2,-999,9,294.08,-999,9,0.03,2,13.53,2,0.9,2,6.23,2,-999,9,-999,9,-999,9,-999,9,-999,9,-999
58JH20190515,531,1,5,20190526,505,1.8662,70.5468,3123,799.78,2.58,34.965,2,-999,9,288.07,-999,9,0.04,2,13.27,2,0.86,2,5.56,2,-999,9,-999,9,-999,9,-999,9,-999,9,-999
58JH20190515,531,1,6,20190526,505,1.8662,70.5468,3123,570.37,4.78,35.0596,2,-999,9,287.64,-999,9,0.04,2,11.95,2,0.77,2,4.9,2,-999,9,-999,9,-999,9,-999,9,-999,9,-999
58JH20190515,531,1,7,20190526,505,1.8662,70.5468,3123,499.61,4.82,35.0536,2,-999,9,289.15,-999,9,0.08,2,12.06,2,0.76,2,4.87,2,-999,9,-999,9,-999,9,-999,9,-999,9,-999
58JH20190515,531,1,8,20190526,505,1.8662,70.5468,3123,399.86,4.9,35.058,2,-999,9,288.87,-999,9,0.05,2,11.54,2,0.77,2,4.86,2,-999,9,-999,9,-999,9,-999,9,-999,9,-999
58JH20190515,531,1,9,20190526,505,1.8662,70.5468,3123,199.25,5.04,35.0572,2,-999,9,291.68,-999,9,0.14,2,11.08,2,0.75,2,4.82,2,-999,9,-999,9,-999,9,-999,9,-999,9,-999
58JH20190515,531,1,10,20190526,505,1.8662,70.5468,3123,99.87,5.3,35.0703,2,-999,9,296.9,-999,9,0.14,2,10.13,2,0.71,2,4.72,2,-999,9,-999,9,-999,9,-999,9,-999,9,-999
58JH20190515,531,1,11,20190526,505,1.8662,70.5468,3123,48.62,5.38,35.0478,2,-999,9,290.25,-999,9,0.14,2,10.82,2,0.74,2,4.85,2,-999,9,-999,9,-999,9,-999,9,-999,9,-999
58JH20190515,531,1,12,20190526,505,1.8662,70.5468,3123,9.4,5.71,35.0567,2,-999,9,304.31,-999,9,0.14,2,8.46,2,0.62,2,4.71,2,-999,9,-999,9,-999,9,-999,9,-999,9,-999
58JH20190515,532,1,1,20190526,705,2.0435,70.5995,3011,1801.45,-0.63,34.9141,2,-999,9,286.45,-999,9,0.1,2,14.35,2,0.94,2,10.45,2,-999,9,-999,9,-999,9,-999,9,-999,9,-999
58JH20190515,532,1,2,20190526,705,2.0435,70.5995,3011,1501.38,-0.51,34.9133,2,-999,9,291.91,304.35,2,0.1,2,14.11,2,0.92,2,9.03,2,1.708,2,1.458,2,-999,9,2305.45,2,7.6906,6,25
58JH20190515,532,1,3,20190526,705,2.0435,70.5995,3011,1251.56,-0.32,34.9139,2,-999,9,293.66,305.05,2,0.08,2,14.04,2,0.91,2,7.99,2,1.991,2,1.987,2,-999,9,2299.37,2,7.7052,4,25
58JH20190515,532,1,4,20190526,705,2.0435,70.5995,3011,1000.46,0.1,34.9127,2,-999,9,294.82,305.71,2,0.09,2,13.58,2,0.9,2,6.82,2,2.397,2,2.121,2,-999,9,2298.42,2,7.6754,4,25
58JH20190515,532,1,5,20190526,705,2.0435,70.5995,3011,801.1,1.4,34.9305,2,-999,9,299.46,310.38,2,0.07,2,12.77,2,0.85,2,5.54,2,2.568,2,3.039,2,-999,9,2300.61,2,7.6857,4,25
58JH20190515,532,1,6,20190526,705,2.0435,70.5995,3011,501.03,4.78,35.0514,2,-999,9,288.94,299.58,2,0.09,2,12.15,2,0.76,2,4.86,2,2.308,2,3.008,2,-999,9,2309.55,2,7.7322,4,25
58JH20190515,532,1,7,20190526,705,2.0435,70.5995,3011,402.35,4.89,35.0573,2,-999,9,289.06,299.54,2,0.08,2,11.98,2,0.75,2,4.8,2,2.236,2,2.367,9,-999,9,2308.71,2,7.735,2,25
58JH20190515,532,1,8,20190526,705,2.0435,70.5995,3011,199.78,5.04,35.0528,2,-999,9,290.63,-999,9,0.15,2,11.83,2,0.76,2,4.81,2,-999,9,-999,9,-999,9,-999,9,-999,9,-999
58JH20190515,532,1,9,20190526,705,2.0435,70.5995,3011,101,5.36,35.0547,2,-999,9,285.66,-999,9,0.21,2,11.92,2,0.78,2,4.92,2,-999,9,-999,9,-999,9,-999,9,-999,9,-999
58JH20190515,532,1,10,20190526,705,2.0435,70.5995,3011,50.86,5.61,35.0554,2,-999,9,297.49,-999,9,0.2,2,9.52,2,0.65,2,4.76,2,-999,9,-999,9,-999,9,-999,9,-999,9,-999
58JH20190515,532,1,11,20190526,705,2.0435,70.5995,3011,30.83,5.79,35.0585,2,-999,9,300.43,-999,9,0.18,2,8.44,2,0.6,2,4.62,2,-999,9,-999,9,-999,9,-999,9,-999,9,-999
58JH20190515,532,1,12,20190526,705,2.0435,70.5995,3011,10.26,6.01,35.0671,2,-999,9,302.96,-999,9,0.16,2,7.8,2,0.57,2,4.63,2,2.262,2,3.138,2,-999,9,-999,9,-999,9,-999
58JH20190515,533,1,1,20190526,1005,2.228,70.6568,3170,1801.21,-0.66,34.9143,2,-999,9,285.4,-999,9,0.02,2,14.02,2,0.97,2,10.55,2,-999,9,-999,9,-999,9,-999,9,-999,9,-999
58JH20190515,533,1,2,20190526,1005,2.228,70.6568,3170,1501.68,-0.53,34.9134,2,-999,9,291.41,-999,9,0.1,2,13.47,2,0.94,2,9.08,2,-999,9,-999,9,-999,9,-999,9,-999,9,-999
58JH20190515,533,1,3,20190526,1005,2.228,70.6568,3170,1250.86,-0.29,34.9138,2,-999,9,293.54,-999,9,0.02,2,13.09,2,0.91,2,7.79,2,-999,9,-999,9,-999,9,-999,9,-999,9,-999
58JH20190515,533,1,4,20190526,1005,2.228,70.6568,3170,999.36,-0.02,34.9124,2,-999,9,296.25,-999,9,0.02,2,13.13,2,0.9,2,6.87,2,-999,9,-999,9,-999,9,-999,9,-999,9,-999
58JH20190515,533,1,5,20190526,1005,2.228,70.6568,3170,801.33,0.62,34.9149,2,-999,9,293.39,-999,9,0.03,2,13.21,2,0.91,2,6.24,2,-999,9,-999,9,-999,9,-999,9,-999,9,-999
58JH20190515,533,1,6,20190526,1005,2.228,70.6568,3170,500.2,4.53,35.0418,2,-999,9,292.07,-999,9,0.04,2,11.38,2,0.78,2,4.93,2,-999,9,-999,9,-999,9,-999,9,-999,9,-999
58JH20190515,533,1,7,20190526,1005,2.228,70.6568,3170,399.56,4.8,35.0547,2,-999,9,289.77,-999,9,0.03,2,11.24,2,0.77,2,4.85,2,-999,9,-999,9,-999,9,-999,9,-999,9,-999
58JH20190515,533,1,8,20190526,1005,2.228,70.6568,3170,200.49,5.02,35.0558,2,-999,9,289.89,-999,9,0.07,2,11.16,2,0.76,2,4.8,2,-999,9,-999,9,-999,9,-999,9,-999,9,-999
58JH20190515,533,1,9,20190526,1005,2.228,70.6568,3170,97.74,5.32,35.0478,2,-999,9,293.03,-999,9,0.16,2,10.06,2,0.73,2,4.83,2,-999,9,-999,9,-999,9,-999,9,-999,9,-999
58JH20190515,533,1,10,20190526,1005,2.228,70.6568,3170,50.33,5.92,35.0569,2,-999,9,297.06,-999,9,0.16,2,8.68,2,0.66,2,4.72,2,-999,9,-999,9,-999,9,-999,9,-999,9,-999
58JH20190515,533,1,11,20190526,1005,2.228,70.6568,3170,28.41,5.92,35.056,2,-999,9,297.41,-999,9,0.15,2,8.69,2,0.64,2,4.76,2,-999,9,-999,9,-999,9,-999,9,-999,9,-999
58JH20190515,533,1,12,20190526,1005,2.228,70.6568,3170,9.43,5.92,35.0562,2,-999,9,297.49,-999,9,0.15,2,8.53,2,0.64,2,4.85,2,-999,9,-999,9,-999,9,-999,9,-999,9,-999
58JH20190515,534,1,1,20190526,1205,2.4087,70.7142,3172,1799.08,-0.66,34.9144,2,-999,9,285.32,-999,9,0,2,13.93,2,0.98,2,10.62,2,-999,9,-999,9,-999,9,-999,9,-999,9,-999
58JH20190515,534,1,2,20190526,1205,2.4087,70.7142,3172,1500.8,-0.52,34.9136,2,-999,9,290.76,303.75,2,0,2,13.6,2,0.95,2,9.06,2,1.7,2,1.549,2,-999,9,2298.52,2,-999,9,-999
58JH20190515,534,1,3,20190526,1205,2.4087,70.7142,3172,1250.94,-0.33,34.914,2,34.9105,2,293.3,304.83,2,0,2,13.4,2,0.94,2,8,2,2.09,2,1.852,2,-999,9,2296.75,2,-999,9,-999
58JH20190515,534,1,4,20190526,1205,2.4087,70.7142,3172,1000.28,-0.02,34.9131,2,-999,9,294.32,305.19,2,0,2,12.96,2,0.92,2,7.05,2,2.359,2,2.107,2,-999,9,2298.48,2,-999,9,-999
58JH20190515,534,1,5,20190526,1205,2.4087,70.7142,3172,800.87,0.58,34.9151,2,-999,9,296.03,306.76,2,0,2,12.6,2,0.89,2,6.19,2,2.633,2,2.597,2,-999,9,2297.29,2,-999,9,-999
58JH20190515,534,1,6,20190526,1205,2.4087,70.7142,3172,501.3,4.15,35.0209,2,35.0181,2,292.15,302.83,2,0.02,2,11.33,2,0.78,2,5.05,2,2.526,2,3.162,2,-999,9,2306.87,2,-999,9,-999
58JH20190515,534,1,7,20190526,1205,2.4087,70.7142,3172,400.01,4.57,35.0437,2,-999,9,290.81,301.58,2,0.01,2,11.58,2,0.77,2,4.97,2,2.522,2,3.426,2,-999,9,2309.74,2,-999,9,-999
58JH20190515,534,1,8,20190526,1205,2.4087,70.7142,3172,201.47,4.84,35.0524,2,-999,9,293.44,303.45,2,0.13,2,11.01,2,0.75,2,4.92,2,2.509,2,3.346,2,-999,9,2309.96,2,-999,9,-999
58JH20190515,534,1,9,20190526,1205,2.4087,70.7142,3172,101.83,5.11,35.052,2,-999,9,303.56,-999,9,0.14,2,9.15,2,0.66,2,4.88,2,-999,9,-999,9,-999,9,-999,9,-999,9,-999
58JH20190515,534,1,10,20190526,1205,2.4087,70.7142,3172,50.92,5.42,35.0463,2,-999,9,302.41,-999,9,0.14,2,9.16,2,0.68,2,4.8,2,-999,9,-999,9,-999,9,-999,9,-999,9,-999
58JH20190515,534,1,11,20190526,1205,2.4087,70.7142,3172,30.47,5.43,35.0455,2,-999,9,300.59,-999,9,0.14,2,9.31,2,0.66,2,4.87,2,-999,9,-999,9,-999,9,-999,9,-999,9,-999
58JH20190515,534,1,12,20190526,1205,2.4087,70.7142,3172,10.1,5.4,35.0454,2,-999,9,302.64,-999,9,0.15,2,8.78,2,0.66,2,4.82,2,2.53,2,3.264,2,-999,9,-999,9,-999,9,-999
58JH20190515,535,1,1,20190526,2005,4.9165,71.416,2793,2814.89,-0.76,34.9157,2,-999,9,277.77,-999,9,0,2,14.94,2,1.01,2,13.26,2,-999,9,-999,9,-999,9,-999,9,-999,9,-999
58JH20190515,535,1,2,20190526,2005,4.9165,71.416,2793,2501.24,-0.76,34.9161,2,-999,9,279.54,-999,9,0.01,2,14.92,2,1.01,2,12.53,2,-999,9,-999,9,-999,9,-999,9,-999,9,-999
58JH20190515,535,1,3,20190526,2005,4.9165,71.416,2793,2001.24,-0.71,34.9155,2,-999,9,283.73,-999,9,0.01,2,14.37,2,0.98,2,11.35,2,-999,9,-999,9,-999,9,-999,9,-999,9,-999
58JH20190515,535,1,4,20190526,2005,4.9165,71.416,2793,1499.8,-0.54,34.913,2,-999,9,291.67,-999,9,0,2,13.8,2,0.97,2,9.2,2,-999,9,-999,9,-999,9,-999,9,-999,9,-999
58JH20190515,535,1,5,20190526,2005,4.9165,71.416,2793,1000.42,-0.06,34.9128,2,-999,9,294.71,-999,9,0,2,13.48,2,0.9,2,7.14,2,-999,9,-999,9,-999,9,-999,9,-999,9,-999
58JH20190515,535,1,6,20190526,2005,4.9165,71.416,2793,800.2,0.62,34.917,2,-999,9,293.9,-999,9,0,2,13.42,2,0.91,2,6.25,2,-999,9,-999,9,-999,9,-999,9,-999,9,-999
58JH20190515,535,1,7,20190526,2005,4.9165,71.416,2793,500.42,4.55,35.0504,2,-999,9,290.46,-999,9,0.01,2,11.57,2,0.78,2,4.9,2,-999,9,-999,9,-999,9,-999,9,-999,9,-999
58JH20190515,535,1,8,20190526,2005,4.9165,71.416,2793,200.46,4.99,35.0594,2,-999,9,291.94,-999,9,0.15,2,11,2,0.77,2,4.81,2,-999,9,-999,9,-999,9,-999,9,-999,9,-999
58JH20190515,535,1,9,20190526,2005,4.9165,71.416,2793,99.95,5.26,35.0568,2,-999,9,290.76,-999,9,0.13,2,10.67,2,0.75,2,4.84,2,-999,9,-999,9,-999,9,-999,9,-999,9,-999
58JH20190515,535,1,10,20190526,2005,4.9165,71.416,2793,50.44,5.74,35.0667,2,-999,9,309.62,-999,9,0.12,2,8.35,2,0.65,2,4.71,2,-999,9,-999,9,-999,9,-999,9,-999,9,-999
58JH20190515,535,1,11,20190526,2005,4.9165,71.416,2793,30.6,5.79,35.0722,2,-999,9,312.2,-999,9,0.1,2,6.71,2,0.56,2,4.59,2,-999,9,-999,9,-999,9,-999,9,-999,9,-999
58JH20190515,535,1,12,20190526,2005,4.9165,71.416,2793,13.36,5.93,35.0702,2,-999,9,305.15,-999,9,0.11,2,6.97,2,0.56,2,4.4,2,-999,9,-999,9,-999,9,-999,9,-999,9,-999
58JH20190515,536,1,1,20190527,205,3.8393,71.7497,3030,3082.09,-0.74,34.916,2,34.9137,2,276.62,292.1,2,0.02,2,15.13,2,0.98,2,13.56,2,0.496,2,0.406,2,-999,9,2304.59,2,7.7531,2,25
58JH20190515,536,1,2,20190527,205,3.8393,71.7497,3030,2500.23,-0.73,34.9167,2,-999,9,280.73,-390.97,4,0.01,2,14.39,2,0.94,2,12.15,2,0.689,2,0.444,2,-999,9,2301.14,2,7.7086,2,25
58JH20190515,536,1,3,20190527,205,3.8393,71.7497,3030,1998.86,-0.68,34.9154,2,-999,9,284.44,297.66,2,0.02,2,14.43,2,0.97,2,11.08,2,1.025,2,0.811,2,-999,9,2299.9,2,7.7046,3,25
58JH20190515,536,1,4,20190527,205,3.8393,71.7497,3030,1502.13,-0.48,34.9138,2,34.9094,2,291.24,302.83,2,0,2,13.8,2,0.91,2,8.94,2,1.804,2,1.531,2,-999,9,2300.2,2,7.6916,2,25
58JH20190515,536,1,5,20190527,205,3.8393,71.7497,3030,1000.55,0.09,34.9139,2,-999,9,295.9,306.54,2,0.01,2,13.26,2,0.89,2,6.87,2,2.468,2,2.167,2,-999,9,2296.93,2,7.6809,2,25
58JH20190515,536,1,6,20190527,205,3.8393,71.7497,3030,800.12,0.88,34.9179,2,34.9162,2,303.9,314.37,2,0.01,2,12.2,2,0.83,2,5.64,2,2.726,2,2.98,2,-999,9,2300.07,2,7.6908,2,25
58JH20190515,536,1,7,20190527,205,3.8393,71.7497,3030,498.45,4.55,35.0537,2,-999,9,290.42,300.7,2,0.01,2,11.62,2,0.75,2,4.94,2,2.431,2,3.28,2,-999,9,2307.25,2,7.7449,2,25
58JH20190515,536,1,8,20190527,205,3.8393,71.7497,3030,200.18,4.93,35.0605,2,-999,9,290.87,300.19,2,0.07,2,11.22,2,0.75,2,4.88,2,2.398,2,3.214,2,-999,9,2311.34,2,7.7497,2,25
58JH20190515,536,1,9,20190527,205,3.8393,71.7497,3030,101.92,5.1,35.0639,2,-999,9,295.9,305.11,2,0.18,2,10.21,2,0.7,2,4.79,2,2.452,2,3.201,2,-999,9,2310.99,2,7.759,2,25
58JH20190515,536,1,10,20190527,205,3.8393,71.7497,3030,50.44,5.3,35.0631,2,35.0618,2,296.22,305.55,2,0.16,2,9.5,2,0.68,2,4.74,2,2.479,2,3.283,2,-999,9,2324.35,6,7.7691,2,25
58JH20190515,536,1,11,20190527,205,3.8393,71.7497,3030,29.75,5.55,35.0675,2,-999,9,307.15,316.34,2,0.11,2,7.31,2,0.58,2,4.6,2,2.499,2,3.166,2,-999,9,2317.99,2,7.8037,2,25
58JH20190515,536,1,12,20190527,205,3.8393,71.7497,3030,9.93,5.55,35.0676,2,-999,9,307.28,316.55,2,0.12,2,7.41,2,0.55,2,4.57,2,2.479,2,2.981,2,-999,9,2314.54,2,7.8036,3,25
58JH20190515,537,1,1,20190527,605,3.2877,71.9168,2636,2717.22,-0.71,34.9172,2,-999,9,280.14,-999,9,-999,9,-999,9,-999,9,-999,9,-999,9,-999,9,-999,9,-999,9,-999,9,25
58JH20190515,538,1,1,20190527,905,2.745,72.0883,2361,2527.35,-0.72,34.917,2,34.9123,2,279.86,294.66,2,-999,9,-999,9,-999,9,-999,9,0.657,2,0.463,2,-999,9,2301.66,2,7.7109,6,25
58JH20190515,538,1,2,20190527,905,2.745,72.0883,2361,1999.12,-0.73,34.9168,2,-999,9,283.11,296.36,2,-999,9,-999,9,-999,9,-999,9,0.812,2,0.575,2,-999,9,2300.05,2,7.7082,6,25
58JH20190515,538,1,3,20190527,905,2.745,72.0883,2361,1501.35,-0.64,34.9151,2,-999,9,288.94,300.57,2,-999,9,-999,9,-999,9,-999,9,1.289,2,1.012,2,-999,9,2300.57,2,7.7029,2,25
58JH20190515,538,1,4,20190527,905,2.745,72.0883,2361,1000.08,-0.32,34.9175,2,34.9158,2,303.43,313.65,2,-999,9,-999,9,-999,9,-999,9,2.283,2,2.078,2,-999,9,2297.03,2,7.6895,2,25
58JH20190515,538,1,5,20190527,905,2.745,72.0883,2361,799.67,-0.2,34.9146,2,-999,9,299.09,309.22,2,-999,9,-999,9,-999,9,-999,9,2.271,2,2.154,2,-999,9,2298.39,2,7.6879,2,25
58JH20190515,538,1,6,20190527,905,2.745,72.0883,2361,500.52,0.23,34.9104,3,34.9892,2,302.08,311.23,2,-999,9,-999,9,-999,9,-999,9,2.534,2,2.534,2,-999,9,2297.92,2,7.6826,2,25
58JH20190515,538,1,7,20190527,905,2.745,72.0883,2361,401.34,0.92,34.9232,2,-999,9,303.98,313.11,2,-999,9,-999,9,-999,9,-999,9,-999,9,-999,9,-999,9,2298.13,2,7.6924,2,25
58JH20190515,538,1,8,20190527,905,2.745,72.0883,2361,200.24,2.98,34.9614,2,-999,9,299.1,309.63,2,-999,9,-999,9,-999,9,-999,9,2.548,2,3.316,2,-999,9,2303,2,7.7172,2,25
58JH20190515,538,1,9,20190527,905,2.745,72.0883,2361,102.3,3.69,34.984,2,-999,9,304.89,313.21,2,-999,9,-999,9,-999,9,-999,9,2.528,2,3.457,2,-999,9,2306.03,2,7.7353,2,25
58JH20190515,538,1,10,20190527,905,2.745,72.0883,2361,50.39,4.68,35.0145,2,-999,9,311.25,320.06,2,-999,9,-999,9,-999,9,-999,9,2.594,2,3.501,2,-999,9,2310.53,2,7.7758,2,25
58JH20190515,538,1,11,20190527,905,2.745,72.0883,2361,29.97,5.28,35.0351,2,35.0312,2,308.1,317.77,2,-999,9,-999,9,-999,9,-999,9,2.39,2,3.419,2,-999,9,2311.44,2,7.79,6,25
58JH20190515,538,1,12,20190527,905,2.745,72.0883,2361,9.84,5.5,35.0402,2,-999,9,308.61,318.51,2,-999,9,-999,9,-999,9,-999,9,2.363,2,3.307,2,-999,9,2313.04,2,7.7969,2,25
58JH20190515,539,1,1,20190527,1305,2.3875,72.198,2568,2619.09,-0.73,34.917,2,-999,9,279.62,-999,9,-999,9,-999,9,-999,9,-999,9,-999,9,-999,9,-999,9,-999,9,-999,9,-999
58JH20190515,540,1,1,20190527,1705,2.0182,72.3167,2517,2557.81,-0.74,34.9165,2,-999,9,279.27,-999,9,-999,9,-999,9,-999,9,-999,9,-999,9,-999,9,-999,9,-999,9,-999,9,-999
58JH20190515,541,1,1,20190527,1905,1.6647,72.4152,3054,3129.72,-0.68,34.9174,2,34.9145,2,278.76,293.92,2,0.02,2,14.46,2,0.98,2,12.37,2,0.581,2,0.453,2,-999,9,2305.78,2,7.7087,6,25
58JH20190515,541,1,2,20190527,1905,1.6647,72.4152,3054,2000.77,-0.73,34.9176,2,-999,9,283.09,295.62,2,0.03,2,14.31,2,0.97,2,11.68,2,0.67,2,0.608,2,-999,9,2305.38,2,7.7098,2,25
58JH20190515,541,1,3,20190527,1905,1.6647,72.4152,3054,2500.52,-0.72,34.9171,2,34.9131,2,280.65,294.58,2,0.02,2,14.38,2,0.98,2,12.23,2,0.587,2,0.346,2,-999,9,2306.32,2,7.7091,2,25
58JH20190515,541,1,4,20190527,1905,1.6647,72.4152,3054,1502.06,-0.71,34.9159,2,-999,9,286.1,297.57,2,0.02,2,14.29,2,0.96,2,11.09,2,0.919,3,0.763,3,-999,9,2303.15,2,7.7077,2,25
58JH20190515,541,1,5,20190527,1905,1.6647,72.4152,3054,999.87,-0.5,34.9169,2,-999,9,301.07,311.39,2,0.02,2,12.94,2,0.89,2,7.94,2,2.037,2,1.555,2,-999,9,2302.45,2,7.698,2,25
58JH20190515,541,1,6,20190527,1905,1.6647,72.4152,3054,802.24,-0.42,34.9143,2,-999,9,295.5,305.79,2,0.01,2,13.55,2,0.91,2,8.16,2,1.973,2,1.58,2,-999,9,2304,2,7.6916,2,25
58JH20190515,541,1,7,20190527,1905,1.6647,72.4152,3054,501.92,-0.19,34.9142,2,-999,9,298.67,306.88,2,0.02,2,12.96,2,0.89,2,7.19,2,2.329,2,2.097,2,-999,9,2303.24,2,7.6881,3,25
58JH20190515,541,1,8,20190527,1905,1.6647,72.4152,3054,200.64,0.16,34.8953,2,34.891,2,322,330.13,2,0.06,2,11.01,2,0.78,2,5.39,2,2.818,2,3.344,2,-999,9,2302.21,2,7.7008,2,25
58JH20190515,541,1,9,20190527,1905,1.6647,72.4152,3054,101.44,0.83,34.9167,2,-999,9,309.92,317.32,2,0.06,2,11.77,2,0.81,2,5.4,2,2.758,2,3.007,2,-999,9,2305.57,2,7.6914,2,25
58JH20190515,541,1,10,20190527,1905,1.6647,72.4152,3054,50,1.78,34.9412,2,-999,9,316.97,324.64,2,0.09,2,10.53,2,0.75,2,5.1,2,2.777,2,3.357,2,-999,9,2311.02,6,7.7196,2,25
58JH20190515,541,1,11,20190527,1905,1.6647,72.4152,3054,29.61,2.8,34.9627,2,-999,9,322.7,330.83,2,0.08,2,8.83,2,0.67,2,4.9,2,2.777,2,3.286,2,-999,9,2308.63,2,7.7524,2,25
58JH20190515,541,1,12,20190527,1905,1.6647,72.4152,3054,10.96,3.99,34.9926,2,34.99,2,318.02,327.38,2,0.09,2,7.64,2,0.6,2,4.75,2,2.637,2,3.389,2,-999,9,2311.51,2,7.7805,2,25
58JH20190515,542,1,1,20190528,5,1.133,72.5838,2459,2480.08,-0.72,34.9216,2,-999,9,280.64,-999,9,-999,9,-999,9,-999,9,-999,9,-999,9,-999,9,-999,9,-999,9,-999,9,-999
58JH20190515,543,1,1,20190528,905,-0.503,73.0825,2713,2792.23,-0.73,34.9218,2,34.9201,2,279.94,295.36,2,0.02,2,14.54,2,0.98,2,12.18,2,-999,9,-999,9,-999,9,2303.49,2,7.7186,2,25
58JH20190515,543,1,2,20190528,905,-0.503,73.0825,2713,2499.68,-0.74,34.9216,2,-999,9,281.91,295.66,2,0.01,2,14.62,2,0.98,2,11.94,2,0.464,2,0.144,9,-999,9,2300.99,2,7.7145,6,25
58JH20190515,543,1,3,20190528,905,-0.503,73.0825,2713,2001.47,-0.69,34.9193,2,-999,9,285.14,298.27,2,0.01,2,14.31,2,0.97,2,10.96,2,0.779,2,0.659,2,-999,9,2301.99,2,7.7107,2,25
58JH20190515,543,1,4,20190528,905,-0.503,73.0825,2713,1499.93,-0.53,34.9164,2,34.9116,2,299,311.13,2,0.02,2,13.33,2,0.9,2,8.31,2,1.844,2,1.414,2,-999,9,2302.15,2,7.7014,2,25
58JH20190515,543,1,5,20190528,905,-0.503,73.0825,2713,1002.19,-0.3,34.9184,2,-999,9,309.72,322.12,2,0.02,2,12.39,2,0.85,2,6.38,2,2.606,2,2.697,2,-999,9,2301.39,2,7.6913,2,25
58JH20190515,543,1,6,20190528,905,-0.503,73.0825,2713,800.4,-0.23,34.9169,2,-999,9,315.64,325.9,2,0.02,2,11.88,2,0.83,2,5.97,2,2.721,2,3.006,2,-999,9,2302.13,2,7.6866,2,25
58JH20190515,543,1,7,20190528,905,-0.503,73.0825,2713,499.41,-0.21,34.9133,2,-999,9,319.62,328.51,2,0.02,2,11.93,2,0.81,2,5.75,2,2.76,2,3.221,2,-999,9,2302.1,2,7.6907,2,25
58JH20190515,543,1,8,20190528,905,-0.503,73.0825,2713,201.14,-0.22,34.9022,2,34.9074,2,322.04,333.25,2,0.05,2,11.33,2,0.79,2,5.68,2,2.849,2,3.239,2,-999,9,2302.29,2,7.6967,2,25
58JH20190515,543,1,9,20190528,905,-0.503,73.0825,2713,100.14,-0.02,34.898,2,34.8947,2,335.32,344.46,2,0.04,2,9.88,2,0.73,2,5.53,2,2.983,2,3.504,2,-999,9,2304.76,2,7.708,2,25
58JH20190515,543,1,10,20190528,905,-0.503,73.0825,2713,51.08,0.88,34.9,2,-999,9,342.29,350.56,2,0.06,2,8.29,2,0.65,2,5.04,2,2.963,2,3.568,2,-999,9,2304.32,2,7.741,6,25
58JH20190515,543,1,11,20190528,905,-0.503,73.0825,2713,30.04,0.87,34.9008,2,-999,9,342.98,349.87,2,0.06,2,8.19,2,0.65,2,4.94,2,2.989,2,3.654,2,-999,9,2303.34,2,7.7443,2,25
58JH20190515,543,1,12,20190528,905,-0.503,73.0825,2713,9.91,0.88,34.9003,2,-999,9,343.45,350.56,2,0.05,2,8.13,2,0.65,2,5.01,2,2.992,2,3.616,2,-999,9,2302.96,2,7.7409,2,25