BOTTLE,,,,,,,,,,,,,,,,,,,,,,,,,,,,,,,,,,,,
EXPOCODE, STNNBR, CASTNO,BTLNBR, DATE,TIME,LONGITUDE, LATITUDE, MAXDEPTH, CTDPRS, CTDTMP, CTDSAL,CTDSAL_FLAG_W, SALNTY, SALNTY_FLAG_W, CTDOXY, OXYGEN, OXYGEN_FLAG_W, NITRIT, NITRIT_FLAG_W, NITRAT, NITRAT_FLAG_W, PHSPHT, PHSPHT_FLAG_W, SILCAT, SILCAT_FLAG_W, CFC12, CFC12_FLAG_W, SF6, SF6_FLAG_W, TCARBN, TCARBN_FLAG_W, ALKALI, ALKALI_FLAG_W, PH_TOT, PH_TOT_FLAG_W, PH_TEMP
,,,,,,,,meter,dbar,ITS-90,PSS-78,,PSS-78,,umol/kg,umol/kg,,umol/kg,,umol/kg,,umol/kg,,umol/kg,,pmol/kg,,fmol/kg,,umol/kg,,umol/kg,,,,degC
58JH20190515,553,1,1,20190530,905,2.9945,74.499,3365,3435.18,-0.69,34.921,2,-999,9,278.22,295.23,2,0.01,2,14.5,2,1,2,12.63,2,0.421,2,0.4,2,2126.89,3,2301.22,2,7.7141,2,25
58JH20190515,553,1,2,20190530,905,2.9945,74.499,3365,3000.6,-0.73,34.9213,2,34.9141,2,279.98,296.01,2,-999,4,-999,9,-999,9,12.43,2,0.443,2,0.325,2,2160.12,2,2300.53,2,7.7162,2,25
58JH20190515,553,1,3,20190530,905,2.9945,74.499,3365,2498.89,-0.73,34.9204,2,-999,9,282.11,297.7,2,0.02,2,14.53,2,0.99,2,11.74,2,0.547,2,0.509,2,2184.89,2,2300.51,2,7.7146,2,25
58JH20190515,553,1,4,20190530,905,2.9945,74.499,3365,2000.45,-0.67,34.9186,2,34.9125,2,286.45,300.05,2,0.04,2,13.75,2,1.01,2,10.57,2,0.935,2,0.924,2,2162.35,2,2299.83,2,7.7113,2,25
58JH20190515,553,1,5,20190530,905,2.9945,74.499,3365,1500.9,-0.52,34.916,2,-999,9,301.52,314.52,2,0.01,2,12.86,2,0.9,2,7.91,2,0.001,3,1.855,3,2171.83,2,2297.97,2,7.699,2,25
58JH20190515,553,1,6,20190530,905,2.9945,74.499,3365,1000.48,-0.31,34.9185,2,-999,9,310.22,321.91,2,0.03,2,12.33,2,0.87,2,6.39,2,2.704,2,2.588,2,2156.06,2,2298.36,2,7.6879,2,25
58JH20190515,553,1,7,20190530,905,2.9945,74.499,3365,499.99,-0.05,34.9195,2,34.9159,2,316.53,325.91,2,0.02,2,11.8,2,0.84,2,5.55,2,2.789,2,3.084,2,2161.78,2,2297.92,2,7.6899,2,25
58JH20190515,553,1,8,20190530,905,2.9945,74.499,3365,200.01,0.15,34.9166,2,-999,9,321.18,330.3,2,0.05,2,11.51,2,0.8,2,5.22,2,2.922,2,2.98,2,2134.73,3,2298.18,2,7.6919,6,25
58JH20190515,553,1,9,20190530,905,2.9945,74.499,3365,101.03,1.2,34.9384,2,34.9382,2,331.66,341.35,2,0.07,2,9.25,2,0.72,2,5.08,2,0.001,3,4.026,3,2179.85,2,2302.17,2,7.7234,2,25
58JH20190515,553,1,10,20190530,905,2.9945,74.499,3365,50.32,1.24,34.9387,2,-999,9,333.27,342.65,2,0.07,2,9.5,2,0.71,2,4.88,2,3.031,2,3.586,2,2122.26,3,2301.76,2,7.7277,2,25
58JH20190515,553,1,11,20190530,905,2.9945,74.499,3365,30.75,1.41,34.939,2,-999,9,335.55,344.35,2,0.06,2,9.16,2,0.7,2,4.94,2,3.245,3,3.867,3,2158.74,2,2303.28,2,7.7281,2,25
58JH20190515,553,1,12,20190530,905,2.9945,74.499,3365,10.84,1.48,34.9404,2,-999,9,335.08,344.4,2,0.07,2,8.87,2,0.7,2,5,2,3.01,2,3.724,2,2176.27,2,2306.35,2,7.7282,2,25
58JH20190515,554,1,1,20190530,1605,4.9983,74.499,3085,3148.35,-0.71,34.9217,2,-999,9,279.21,295.79,2,0.06,2,14.67,2,1,2,12.36,2,0.346,2,0.364,2,2162.63,2,2301.42,2,7.7148,2,25
58JH20190515,554,1,2,20190530,1605,4.9983,74.499,3085,2500.29,-0.74,34.9214,2,34.9162,2,281.25,296.4,2,0.03,2,14.43,2,0.99,2,11.95,2,0.406,2,0.263,2,2165.04,2,2298.15,2,7.715,2,25
58JH20190515,554,1,3,20190530,1605,4.9983,74.499,3085,1998.87,-0.72,34.9195,2,-999,9,283.97,297.83,2,0.02,2,14.13,2,0.98,2,11.18,2,0.607,2,0.446,2,2156.6,2,2299.24,2,7.713,2,25
58JH20190515,554,1,4,20190530,1605,4.9983,74.499,3085,1500.72,-0.59,34.9172,2,-999,9,294.7,306.78,2,0.01,2,13.51,2,0.94,2,9.09,2,1.393,2,1.005,2,2167.24,2,2296.93,2,7.7062,6,25
58JH20190515,554,1,5,20190530,1605,4.9983,74.499,3085,1000.91,-0.37,34.9189,2,34.9148,2,304.23,316,2,0.02,2,12.72,2,0.89,2,7.08,2,2.324,2,2.228,2,2174.57,2,2297.74,2,7.6918,2,25
58JH20190515,554,1,6,20190530,1605,4.9983,74.499,3085,800.11,-0.29,34.9169,2,-999,9,303.31,314.3,2,0.03,2,12.79,2,0.89,2,6.91,2,2.358,2,2.188,2,2175.49,2,2297.31,2,7.6872,2,25
58JH20190515,554,1,7,20190530,1605,4.9983,74.499,3085,501,-0.06,34.9149,2,-999,9,307.17,317.48,2,0.02,2,12.25,2,0.86,2,6.03,2,2.55,2,2.513,2,2184.79,2,2299.66,2,7.6856,2,25
58JH20190515,554,1,8,20190530,1605,4.9983,74.499,3085,198.73,0.71,34.9233,2,34.9207,2,302.86,311.54,2,0.02,2,12.47,2,0.87,2,5.69,2,2.619,2,2.894,2,2180.93,2,2299.13,2,7.6852,2,25
58JH20190515,554,1,9,20190530,1605,4.9983,74.499,3085,102.03,2.08,34.9694,2,-999,9,300.49,309.99,2,0.05,2,12.08,2,0.85,2,5.32,2,2.594,2,3.065,2,2172.54,2,2299.15,2,7.7051,2,25
58JH20190515,554,1,10,20190530,1605,4.9983,74.499,3085,50.31,3.56,35.0191,2,-999,9,315.18,325.49,2,0.09,2,9.23,2,0.68,2,4.83,2,2.576,2,2.907,2,2160.12,2,2307.34,2,7.7626,2,25
58JH20190515,554,1,11,20190530,1605,4.9983,74.499,3085,30.34,3.57,35.0193,2,-999,9,315.85,325.4,2,0.09,2,9.27,2,0.69,2,4.85,2,2.538,2,3.202,2,2153.87,2,2306.8,2,7.7612,2,25
58JH20190515,554,1,12,20190530,1605,4.9983,74.499,3085,9.87,3.56,35.0183,2,35.0136,2,316.22,325.8,2,0.09,2,9.38,2,0.68,2,4.89,2,-0.014,3,3.335,2,2161.18,2,2306.92,2,7.7627,2,25
58JH20190515,555,1,1,20190530,2205,6.9957,74.4993,2449,2463.02,-0.7,34.9197,2,-999,9,280.96,296.75,2,0.01,2,14.57,2,0.99,2,11.74,2,0.607,2,0.258,2,2180.04,2,2303.51,2,7.7268,2,25
58JH20190515,555,1,2,20190530,2205,6.9957,74.4993,2449,2002.1,-0.72,34.9187,2,34.9157,2,283.01,297.62,2,0.02,2,14.32,2,0.99,2,11.53,2,0.684,2,0.311,2,2178.97,2,2299.26,2,7.7101,6,25
58JH20190515,555,1,3,20190530,2205,6.9957,74.4993,2449,1501.15,-0.62,34.9175,2,-999,9,290.21,303.96,2,0.01,2,14.05,2,0.95,2,9.76,2,1.225,3,0.72,3,2168.21,2,2297.24,2,7.7057,2,25
58JH20190515,555,1,4,20190530,2205,6.9957,74.4993,2449,999.79,-0.31,34.9183,2,-999,9,305.28,317.61,2,0.01,2,12.66,2,0.88,2,6.78,2,2.404,2,2.298,2,2185.43,2,2297.34,2,7.6843,2,25
58JH20190515,555,1,5,20190530,2205,6.9957,74.4993,2449,800.24,-0.18,34.9157,2,34.9128,2,301.68,312.22,2,0.02,2,13,2,0.89,2,6.81,2,2.447,2,2.332,2,2171.7,2,2298.46,2,7.6832,2,25
58JH20190515,555,1,6,20190530,2205,6.9957,74.4993,2449,501.17,0.06,34.9028,2,-999,9,314.24,325,2,0.02,2,11.9,2,0.83,2,5.48,2,2.741,2,3.189,2,2173.85,2,2295.89,2,7.689,2,25
58JH20190515,555,1,7,20190530,2205,6.9957,74.4993,2449,400.38,0.45,34.9098,2,-999,9,307.86,318.66,2,0.02,2,12.12,2,0.84,2,5.53,2,2.671,2,2.771,2,2173.88,2,2299.13,2,7.684,2,25
58JH20190515,555,1,8,20190530,2205,6.9957,74.4993,2449,201.12,3.11,35.0133,2,-999,9,297.77,307.62,2,0.04,2,11.57,2,0.8,2,4.95,2,2.537,2,3.138,2,2179.8,2,2304.55,2,7.7262,2,25
58JH20190515,555,1,9,20190530,2205,6.9957,74.4993,2449,101.53,3.88,35.0393,3,35.1187,2,296.56,306.25,2,0.07,2,11.39,2,0.78,2,4.85,2,2.449,2,3.187,2,2166.46,2,2306.47,2,7.7398,2,25
58JH20190515,555,1,10,20190530,2205,6.9957,74.4993,2449,49.58,4.09,35.0462,2,-999,9,307.27,317.68,2,0.11,2,9.63,2,0.71,2,4.76,2,2.478,2,3.349,2,2171.64,2,2308.02,2,7.7582,2,25
58JH20190515,555,1,11,20190530,2205,6.9957,74.4993,2449,30.77,4.26,35.0459,2,-999,9,306.51,316.69,2,0.12,2,9.78,2,0.69,2,4.73,2,2.457,2,3.326,2,2158.45,2,2307.87,2,7.7635,2,25
58JH20190515,555,1,12,20190530,2205,6.9957,74.4993,2449,10.9,4.37,35.046,2,35.0418,2,306.28,316.21,2,0.12,2,9.75,2,0.69,2,4.83,2,2.399,2,3.168,2,2173.17,2,2306.85,2,7.7655,2,25
58JH20190515,556,1,1,20190531,205,8.0037,74.4978,2506,2550.51,-0.73,34.9189,2,34.9113,2,279.06,294.53,2,0.01,2,14.56,2,1.02,2,12.52,2,0.556,3,0.543,3,2170.2,2,2300.11,2,7.7092,2,25
58JH20190515,556,1,2,20190531,205,8.0037,74.4978,2506,2003.51,-0.74,34.9188,2,-999,9,281.54,296.18,2,0.02,2,14.64,2,1,2,11.85,2,0.686,2,0.437,2,2168.39,2,2298.46,2,7.7073,2,25
58JH20190515,556,1,3,20190531,205,8.0037,74.4978,2506,1499.32,-0.68,34.9164,2,-999,9,287.34,299.83,2,0.02,2,14.13,2,0.98,2,10.47,2,1.095,2,0.939,2,2165.86,2,2297.26,2,7.7018,2,25
58JH20190515,556,1,4,20190531,205,8.0037,74.4978,2506,1002.78,-0.44,34.9173,2,-999,9,298.58,310.52,2,0,2,13.39,2,0.91,2,7.77,2,2.099,2,1.675,2,2176.91,2,2296.99,2,7.6915,2,25
58JH20190515,556,1,5,20190531,205,8.0037,74.4978,2506,801.75,-0.3,34.9172,2,34.9131,2,300.07,311.13,2,0,2,13.23,2,0.91,2,7.21,2,2.312,2,1.805,2,2176.82,2,2297.06,2,7.6855,2,25
58JH20190515,556,1,6,20190531,205,8.0037,74.4978,2506,502.03,0.04,34.9166,2,-999,9,299.9,309.92,2,0.01,2,13.28,2,0.89,2,6.51,2,2.528,2,2.385,2,2175.47,2,2299.02,2,7.6789,2,25
58JH20190515,556,1,7,20190531,205,8.0037,74.4978,2506,401.61,0.3,34.9199,2,-999,9,299.34,309.1,2,0.02,2,13.13,2,0.89,2,6.23,2,2.561,2,2.358,2,2177.3,2,2296.34,2,7.6801,6,25
58JH20190515,556,1,8,20190531,205,8.0037,74.4978,2506,200.01,2.1,34.9721,2,34.9668,2,300,309.99,2,0.03,2,12.12,2,0.83,2,5.23,2,2.637,2,3.078,2,-999,9,2299.81,2,7.7033,2,25
58JH20190515,556,1,9,20190531,205,8.0037,74.4978,2506,101.57,3.56,35.0311,2,-999,9,300.76,311.24,2,0.13,2,11.15,2,0.77,2,4.88,2,2.543,2,3.022,2,-999,9,2303.63,2,7.7329,2,25
58JH20190515,556,1,10,20190531,205,8.0037,74.4978,2506,50.64,3.86,35.0402,2,35.0346,2,308.18,318.2,2,0.11,2,10.16,2,0.72,2,4.81,2,2.525,2,3.146,2,-999,9,2306.83,2,7.7521,2,25
58JH20190515,556,1,11,20190531,205,8.0037,74.4978,2506,30.53,3.85,35.0402,2,-999,9,308.11,317.94,2,0.11,2,9.98,2,0.72,2,4.86,2,2.516,2,3.188,2,-999,9,2306.17,2,7.7573,2,25
58JH20190515,556,1,12,20190531,205,8.0037,74.4978,2506,11.38,3.86,35.0404,2,-999,9,307.54,318.07,2,0.12,2,10.11,2,0.72,2,4.9,2,2.548,2,3.397,2,-999,9,2305.78,2,7.759,2,25
58JH20190515,557,1,1,20190531,605,8.9952,74.4993,2600,2621.68,-0.73,34.9181,2,34.9156,2,278.58,294.14,2,0.03,2,14.88,2,1.01,2,12.73,2,-999,9,-999,9,-999,9,2299.98,2,7.7096,2,25
58JH20190515,557,1,2,20190531,605,8.9952,74.4993,2600,2000.8,-0.71,34.9174,2,-999,9,282.97,296.97,2,0.03,2,14.34,2,1.01,2,11.46,2,0.792,3,-999,9,-999,9,2297.7,2,7.7083,2,25
58JH20190515,557,1,3,20190531,605,8.9952,74.4993,2600,1500.39,-0.55,34.9155,2,-999,9,293.09,305.7,2,0.03,2,13.64,2,0.96,2,9.1,2,1.634,3,1.205,3,-999,9,2296.29,2,7.6994,2,25
58JH20190515,557,1,4,20190531,605,8.9952,74.4993,2600,1003.78,-0.24,34.917,2,34.9148,2,301.65,313.22,2,0.03,2,12.93,2,0.93,2,6.87,2,2.389,3,2.027,3,-999,9,2295.13,2,7.6863,2,25
58JH20190515,557,1,5,20190531,605,8.9952,74.4993,2600,801.44,-0.01,34.9135,2,-999,9,304.24,315.48,2,0.03,2,12.32,2,0.89,2,6.15,2,2.509,2,2.484,2,-999,9,2296.39,2,7.6857,2,25
58JH20190515,557,1,6,20190531,605,8.9952,74.4993,2600,503.36,1.61,34.9507,2,-999,9,300.52,310.16,2,0.09,2,12.2,2,0.87,2,5.48,2,2.568,2,3.104,2,-999,9,2299.63,2,7.6993,2,25
58JH20190515,557,1,7,20190531,605,8.9952,74.4993,2600,400.52,3.16,35.0122,2,-999,9,297.34,307.28,2,0.03,2,11.73,2,0.82,2,5.05,2,2.483,2,3.021,2,-999,9,2300.63,2,7.7227,2,25
58JH20190515,557,1,8,20190531,605,8.9952,74.4993,2600,199.31,4.19,35.0504,2,35.05,2,296.43,306.95,2,0.17,2,11.05,2,0.79,2,4.86,2,2.379,2,2.813,2,-999,9,2305.39,2,7.743,2,25
58JH20190515,557,1,9,20190531,605,8.9952,74.4993,2600,102.97,4.43,35.0503,2,-999,9,301.34,311.13,2,0.2,2,9.95,2,0.72,2,4.78,2,2.311,2,1.771,2,-999,9,2307.91,2,7.7577,2,25
58JH20190515,557,1,10,20190531,605,8.9952,74.4993,2600,49.85,4.58,35.0445,2,-999,9,305.62,315.09,2,0.14,2,9.16,2,0.67,2,4.74,2,2.386,2,3.382,2,-999,9,2306.71,2,7.7711,6,25
58JH20190515,557,1,11,20190531,605,8.9952,74.4993,2600,29.33,4.57,35.0445,2,35.0405,2,305.41,314.92,2,0.14,2,8.9,2,0.66,2,4.75,2,-999,9,-999,9,-999,9,2307.1,2,7.7728,2,25
58JH20190515,557,1,12,20190531,605,8.9952,74.4993,2600,11.08,4.57,35.0446,2,-999,9,305.34,-391.09,4,0.15,2,8.88,2,0.67,2,4.83,2,-999,9,-999,9,-999,9,2308.57,2,7.7691,2,25
58JH20190515,558,1,1,20190531,1105,9.825,74.4997,2277,2352.2,-0.76,34.917,2,34.913,2,277.42,292.27,2,0.02,2,15.31,2,0.97,2,13.22,2,0.509,2,0.56,2,-999,9,2306.5,2,7.7077,2,25
58JH20190515,558,1,2,20190531,1105,9.825,74.4997,2277,2000.54,-0.75,34.9172,2,-999,9,280.87,295.18,2,0.02,2,14.75,2,0.95,2,12.07,2,0.666,2,0.513,2,-999,9,2305.46,2,7.7032,2,25
58JH20190515,558,1,3,20190531,1105,9.825,74.4997,2277,1503.14,-0.63,34.9153,2,34.9605,2,286.89,503.27,4,0.05,2,12.58,3,0.84,3,7.76,2,2.366,3,2.808,3,-999,9,2304.56,2,7.7115,2,25
58JH20190515,558,1,4,20190531,1105,9.825,74.4997,2277,1000.71,-0.31,34.9165,2,-999,9,294.78,306.14,2,0.01,2,13.97,2,0.89,2,7.89,2,2.178,2,1.845,2,-999,9,2302.91,2,7.6854,2,25
58JH20190515,558,1,5,20190531,1105,9.825,74.4997,2277,800.09,0.02,34.9187,2,-999,9,291.66,303.27,2,0.02,2,13.63,2,0.88,2,7.23,2,2.367,2,2.263,2,-999,9,2302.53,2,7.6808,2,25
58JH20190515,558,1,6,20190531,1105,9.825,74.4997,2277,500.02,2.62,34.9897,2,34.9854,2,294.07,305.01,2,0.04,2,12.54,2,0.79,2,5.26,2,2.689,2,3.102,2,-999,9,2307.35,2,7.7076,2,25
58JH20190515,558,1,7,20190531,1105,9.825,74.4997,2277,398.96,3.59,35.0306,2,-999,9,294.76,306.28,2,0.02,2,11.68,2,0.74,2,4.88,2,2.653,2,2.03,9,-999,9,2309.7,2,7.7292,2,25
58JH20190515,558,1,8,20190531,1105,9.825,74.4997,2277,203.02,4.21,35.0448,2,35.0424,2,293.57,304.17,2,0.1,2,11.22,2,0.72,2,4.84,2,2.609,2,2.981,2,-999,9,2314.59,2,7.7402,6,25
58JH20190515,558,1,9,20190531,1105,9.825,74.4997,2277,101.04,4.66,35.0506,2,-999,9,292.99,304.18,2,0.17,2,10.78,2,0.72,2,4.75,2,2.567,2,3.03,2,-999,9,2314.52,2,7.7478,2,25
58JH20190515,558,1,10,20190531,1105,9.825,74.4997,2277,48.83,4.93,35.0321,2,-999,9,301.41,311.41,2,0.15,2,9.03,2,0.61,2,4.51,2,2.597,2,2.791,2,-999,9,2315.73,2,7.7723,2,25
58JH20190515,558,1,11,20190531,1105,9.825,74.4997,2277,32.84,4.94,35.0318,2,-999,9,303.07,312.28,2,0.15,2,9.11,2,0.6,2,4.54,2,2.559,2,3.239,2,-999,9,2314.97,2,7.7744,2,25
58JH20190515,558,1,12,20190531,1105,9.825,74.4997,2277,8.66,4.94,35.0314,2,-999,9,301.99,312.76,2,0.15,2,9.11,2,0.6,2,4.58,2,2.539,2,2.758,2,-999,9,2315.72,2,7.7748,2,25
58JH20190515,560,1,1,20190531,1805,11.6592,74.5007,2340,2367.04,-0.76,34.9171,2,-999,9,277.63,293.58,2,0.01,2,15.28,2,0.96,2,13.08,2,0.515,2,0.616,2,-999,9,2307.58,2,7.7105,2,25
58JH20190515,560,1,2,20190531,1805,11.6592,74.5007,2340,1998.9,-0.75,34.9171,2,34.9123,2,280.87,295.62,2,0.01,2,15,2,0.94,2,12.18,2,0.657,2,0.746,2,-999,9,2304.72,2,7.7037,2,25
58JH20190515,560,1,3,20190531,1805,11.6592,74.5007,2340,1499.25,-0.64,34.9149,2,-999,9,286.68,300.14,2,0,2,14.69,2,0.93,2,10.48,2,1.231,2,1.113,2,-999,9,2326.09,2,7.702,2,25
58JH20190515,560,1,4,20190531,1805,11.6592,74.5007,2340,999.26,-0.26,34.9156,2,-999,9,295.53,309.14,2,0.03,2,13.69,2,0.88,2,7.56,2,2.333,2,2.08,2,-999,9,2301.06,2,7.685,2,25
58JH20190515,560,1,5,20190531,1805,11.6592,74.5007,2340,800.61,0.07,34.9174,2,34.914,2,297.25,307.92,2,0.02,2,13.6,2,0.86,2,6.75,2,2.5,2,1.534,9,-999,9,2304.03,2,7.6826,2,25
58JH20190515,560,1,6,20190531,1805,11.6592,74.5007,2340,498.25,3.25,35.0172,2,35.0191,2,296.61,308.06,2,0.02,2,11.76,2,0.75,2,4.84,2,2.618,2,3.24,2,-999,9,2313.95,2,7.7296,2,25
58JH20190515,560,1,7,20190531,1805,11.6592,74.5007,2340,398.81,3.67,35.0338,2,-999,9,296.6,307.98,2,0.04,2,11.88,2,0.74,2,4.79,2,2.57,2,3.297,2,-999,9,2310.92,2,7.7365,2,25
58JH20190515,560,1,8,20190531,1805,11.6592,74.5007,2340,200.76,4.11,35.0391,2,35.0375,2,294.77,306.26,2,0.1,2,11.55,2,0.72,2,4.77,2,2.525,2,3.315,2,-999,9,2311.76,2,7.7422,2,25
58JH20190515,560,1,9,20190531,1805,11.6592,74.5007,2340,101.44,4.6,35.0392,2,-999,9,300.48,310.7,2,0.13,2,10.23,2,0.66,2,4.65,2,2.48,2,3.467,2,-999,9,2312.93,2,7.7613,2,25
58JH20190515,560,1,10,20190531,1805,11.6592,74.5007,2340,51.08,4.79,35.0355,2,-999,9,303.98,313.93,2,0.15,2,9.07,2,0.61,2,4.54,2,2.423,2,3.338,2,-999,9,2314.45,2,7.7776,6,25
58JH20190515,560,1,11,20190531,1805,11.6592,74.5007,2340,30.69,4.79,35.0353,2,-999,9,303.48,314.01,2,0.14,2,9.28,2,0.6,2,4.64,2,2.412,2,3.426,2,-999,9,2314.78,2,7.775,2,25
58JH20190515,560,1,12,20190531,1805,11.6592,74.5007,2340,12.14,4.78,35.0356,2,-999,9,303.77,314.1,2,0.13,2,9.12,2,0.6,2,4.65,2,2.4,2,3.201,2,-999,9,2314.1,2,7.777,2,25
58JH20190515,561,1,1,20190531,2205,12.4963,74.5005,2284,2313.14,-0.77,34.9169,2,34.9154,2,276.92,293.1,2,0.01,2,15.16,2,0.97,2,13.19,2,0.506,2,0.315,2,-999,9,2307.28,2,7.7213,2,25
58JH20190515,561,1,2,20190531,2205,12.4963,74.5005,2284,2001.86,-0.75,34.918,2,-999,9,281.01,295.75,2,0.02,2,14.96,2,0.95,2,12.18,2,0.634,2,0.563,2,-999,9,2305.48,2,7.7088,2,25
58JH20190515,561,1,3,20190531,2205,12.4963,74.5005,2284,1501.9,-0.67,34.9155,2,-999,9,285.86,299.79,2,0.01,2,14.42,2,0.93,2,10.64,2,1.075,2,0.935,2,-999,9,2302.64,2,7.703,2,25
58JH20190515,561,1,4,20190531,2205,12.4963,74.5005,2284,1001.5,-0.32,34.9158,2,34.9116,2,294.17,306.4,2,0,2,13.79,2,0.89,2,7.89,2,2.032,2,1.81,2,-999,9,2302.96,2,7.6852,6,25
58JH20190515,561,1,5,20190531,2205,12.4963,74.5005,2284,800.02,0.01,34.9148,2,-999,9,296.77,308.53,2,0.01,2,13.38,2,0.85,2,6.59,2,2.355,2,2.325,2,-999,9,2301.59,2,7.6803,2,25
58JH20190515,561,1,6,20190531,2205,12.4963,74.5005,2284,500.04,2.81,34.9983,2,-999,9,295.04,307.23,2,0.02,2,12.05,2,0.77,2,5.2,2,2.487,2,3.164,2,-999,9,2308.01,2,7.7352,2,25
58JH20190515,561,1,7,20190531,2205,12.4963,74.5005,2284,401.85,3.68,35.0371,2,35.0368,2,296.9,308.37,2,0.04,2,11.5,2,0.73,2,4.83,2,2.468,2,3.292,2,-999,9,2311.28,2,7.7134,2,25
58JH20190515,561,1,8,20190531,2205,12.4963,74.5005,2284,201.26,4.19,35.0458,2,-999,9,295.82,307.08,2,0.13,2,11.74,2,0.72,2,4.86,2,2.4,2,3.139,2,-999,9,2313.22,2,7.7421,2,25
58JH20190515,561,1,9,20190531,2205,12.4963,74.5005,2284,102.12,4.62,35.0454,2,-999,9,298.78,309.27,2,0.14,2,9.89,2,0.67,2,4.74,2,2.417,2,1.865,9,-999,9,2313.78,2,7.7557,2,25
58JH20190515,561,1,10,20190531,2205,12.4963,74.5005,2284,49.35,4.96,35.0334,2,35.0272,2,299.5,310.24,2,0.16,2,9.49,2,0.63,2,4.6,2,2.394,2,3.38,2,-999,9,2312.97,2,7.7647,2,25
58JH20190515,561,1,11,20190531,2205,12.4963,74.5005,2284,30.61,4.97,35.0335,2,-999,9,299.4,309.98,2,0.16,2,9.72,2,0.64,2,4.6,2,2.443,2,3.216,2,-999,9,2314.11,2,7.767,2,25
58JH20190515,561,1,12,20190531,2205,12.4963,74.5005,2284,9.31,4.96,35.0334,2,-999,9,299.8,310.33,2,0.16,2,9.33,2,0.64,2,4.57,2,2.41,2,3.211,2,-999,9,2314.14,2,7.7699,2,25
58JH20190515,562,1,1,20190601,206,13.4975,74.4987,2161,2179.02,-0.77,34.917,2,-999,9,277.98,-999,9,0.01,2,15.72,2,0.97,2,13.11,2,-999,9,-999,9,-999,9,-999,9,-999,9,-999
58JH20190515,562,1,2,20190601,206,13.4975,74.4987,2161,2000.41,-0.77,34.9173,2,-999,9,279.92,-999,9,0.02,2,15.47,2,0.96,2,12.55,2,-999,9,-999,9,-999,9,-999,9,-999,9,-999
58JH20190515,562,1,3,20190601,206,13.4975,74.4987,2161,1498.94,-0.7,34.9156,2,-999,9,284.57,-999,9,0.01,2,15.22,2,0.94,2,11.18,2,-999,9,-999,9,-999,9,-999,9,-999,9,-999
58JH20190515,562,1,4,20190601,206,13.4975,74.4987,2161,998.43,-0.47,34.9151,2,-999,9,293.19,-999,9,0.05,2,14.67,2,0.9,2,8.86,2,-999,9,-999,9,-999,9,-999,9,-999,9,-999
58JH20190515,562,1,5,20190601,206,13.4975,74.4987,2161,801.79,-0.26,34.9161,2,-999,9,293.93,-999,9,0.03,2,14.29,2,0.89,2,7.94,2,-999,9,-999,9,-999,9,-999,9,-999,9,-999
58JH20190515,562,1,6,20190601,206,13.4975,74.4987,2161,499.85,1.1,34.9404,2,-999,9,292.29,-999,9,0.01,2,13.7,2,0.86,2,6.46,2,-999,9,-999,9,-999,9,-999,9,-999,9,-999
58JH20190515,562,1,7,20190601,206,13.4975,74.4987,2161,400.01,2.72,34.9922,2,-999,9,291.45,-999,9,0.02,2,12.77,2,0.8,2,5.58,2,-999,9,-999,9,-999,9,-999,9,-999,9,-999
58JH20190515,562,1,8,20190601,206,13.4975,74.4987,2161,199.73,3.88,35.0388,2,-999,9,297.16,-999,9,0.05,2,11.84,2,0.74,2,4.93,2,-999,9,-999,9,-999,9,-999,9,-999,9,-999
58JH20190515,562,1,9,20190601,206,13.4975,74.4987,2161,99.91,4.36,35.0471,2,-999,9,293.25,-999,9,0.11,2,11.86,2,0.74,2,4.96,2,-999,9,-999,9,-999,9,-999,9,-999,9,-999
58JH20190515,562,1,10,20190601,206,13.4975,74.4987,2161,49.11,4.71,35.0409,2,-999,9,302.14,-999,9,0.17,2,9.91,2,0.64,2,4.73,2,-999,9,-999,9,-999,9,-999,9,-999,9,-999
58JH20190515,562,1,11,20190601,206,13.4975,74.4987,2161,28.02,4.71,35.0418,2,-999,9,301.51,-999,9,0.15,2,9.52,2,0.63,2,4.7,2,-999,9,-999,9,-999,9,-999,9,-999,9,-999
58JH20190515,562,1,12,20190601,206,13.4975,74.4987,2161,9.82,4.71,35.0417,2,-999,9,301.84,-999,9,0.14,2,9.2,2,0.63,2,4.68,2,-999,9,-999,9,-999,9,-999,9,-999,9,-999