BOTTLE,,,,,,,,,,,,,,,,,,,,,,,,,,,,,,,,,,,,
EXPOCODE, STNNBR, CASTNO,BTLNBR, DATE,TIME,LONGITUDE, LATITUDE, MAXDEPTH, CTDPRS, CTDTMP, CTDSAL,CTDSAL_FLAG_W, SALNTY, SALNTY_FLAG_W, CTDOXY, OXYGEN, OXYGEN_FLAG_W, NITRIT, NITRIT_FLAG_W, NITRAT, NITRAT_FLAG_W, PHSPHT, PHSPHT_FLAG_W, SILCAT, SILCAT_FLAG_W, CFC12, CFC12_FLAG_W, SF6, SF6_FLAG_W, TCARBN, TCARBN_FLAG_W, ALKALI, ALKALI_FLAG_W, PH_TOT, PH_TOT_FLAG_W, PH_TEMP
,,,,,,,,meter,dbar,ITS-90,PSS-78,,PSS-78,,umol/kg,umol/kg,,umol/kg,,umol/kg,,umol/kg,,umol/kg,,pmol/kg,,fmol/kg,,umol/kg,,umol/kg,,,,degC
58JH20190515,490,1,1,20190516,1905,3.3933,63.1923,1021,1005.61,-0.74,34.9145,2,-999,9,283.8,-999,9,0.03,2,14.8,2,0.95,2,10.41,2,-999,9,-999,9,-999,9,-999,9,-999,9,-999
58JH20190515,490,1,2,20190516,1905,3.3933,63.1923,1021,799.73,-0.62,34.9132,2,-999,9,289.38,-999,9,0.05,2,14.7,2,0.94,2,10.43,2,-999,9,-999,9,-999,9,-999,9,-999,9,-999
58JH20190515,490,1,3,20190516,1905,3.3933,63.1923,1021,499.15,0.83,34.9146,2,-999,9,286.82,-999,9,0.02,2,14,2,0.92,2,8.43,2,-999,9,-999,9,-999,9,-999,9,-999,9,-999
58JH20190515,490,1,4,20190516,1905,3.3933,63.1923,1021,399.99,4.48,34.9449,2,-999,9,272.58,-999,9,0.03,2,13.45,2,0.88,2,6.61,2,-999,9,-999,9,-999,9,-999,9,-999,9,-999
58JH20190515,490,1,5,20190516,1905,3.3933,63.1923,1021,300.16,6.81,35.0635,2,-999,9,270.12,-999,9,0.03,2,12.44,2,0.82,2,5.99,2,-999,9,-999,9,-999,9,-999,9,-999,9,-999
58JH20190515,490,1,6,20190516,1905,3.3933,63.1923,1021,199.72,7.34,35.1206,2,-999,9,273.56,-999,9,0.03,2,11.49,2,0.79,2,4.9,2,-999,9,-999,9,-999,9,-999,9,-999,9,-999
58JH20190515,490,1,7,20190516,1905,3.3933,63.1923,1021,146.64,7.47,35.129,2,-999,9,273.1,-999,9,0.03,2,11.32,2,0.77,2,4.7,2,-999,9,-999,9,-999,9,-999,9,-999,9,-999
58JH20190515,490,1,8,20190516,1905,3.3933,63.1923,1021,99.3,7.96,35.1843,2,-999,9,271.39,-999,9,0.05,2,11.49,2,0.77,2,4.56,2,-999,9,-999,9,-999,9,-999,9,-999,9,-999
58JH20190515,490,1,9,20190516,1905,3.3933,63.1923,1021,74.24,8.22,35.2,2,-999,9,273.13,-999,9,0.23,2,9.89,2,0.69,2,4.03,2,-999,9,-999,9,-999,9,-999,9,-999,9,-999
58JH20190515,490,1,10,20190516,1905,3.3933,63.1923,1021,49.54,8.35,35.1942,2,-999,9,278.47,-999,9,0.25,2,8.11,2,0.6,2,3.48,2,-999,9,-999,9,-999,9,-999,9,-999,9,-999
58JH20190515,490,1,11,20190516,1905,3.3933,63.1923,1021,29.82,8.37,35.1848,2,-999,9,280.23,-999,9,0.26,2,7.84,2,0.6,2,3.46,2,-999,9,-999,9,-999,9,-999,9,-999,9,-999
58JH20190515,490,1,12,20190516,1905,3.3933,63.1923,1021,9.79,8.62,35.0093,2,-999,9,302.43,-999,9,0.11,2,3.71,2,0.38,2,2.72,2,-999,9,-999,9,-999,9,-999,9,-999,9,-999
58JH20190515,491,1,1,20190516,2105,3.1322,63.3125,1085,1059.23,-0.73,34.9149,2,-999,9,283.84,-999,9,0.03,2,14.45,2,1,2,12.28,2,-999,9,-999,9,-999,9,-999,9,-999,9,-999
58JH20190515,491,1,2,20190516,2105,3.1322,63.3125,1085,996.57,-0.73,34.9146,2,-999,9,284.78,-999,9,0.02,2,14.6,2,1,2,12.21,2,-999,9,-999,9,-999,9,-999,9,-999,9,-999
58JH20190515,491,1,3,20190516,2105,3.1322,63.3125,1085,800.35,-0.61,34.9141,2,-999,9,289.91,-999,9,0.02,2,14.05,2,0.97,2,10.16,2,-999,9,-999,9,-999,9,-999,9,-999,9,-999
58JH20190515,491,1,4,20190516,2105,3.1322,63.3125,1085,499.99,0.2,34.912,2,-999,9,291.79,-999,9,0.02,2,13.64,2,0.94,2,7.32,2,-999,9,-999,9,-999,9,-999,9,-999,9,-999
58JH20190515,491,1,5,20190516,2105,3.1322,63.3125,1085,399.27,1.77,34.9252,2,-999,9,285.39,-999,9,0.02,2,13.31,2,0.93,2,7.15,2,-999,9,-999,9,-999,9,-999,9,-999,9,-999
58JH20190515,491,1,6,20190516,2105,3.1322,63.3125,1085,300.66,4.41,34.9678,2,-999,9,272.45,-999,9,0.02,2,13.05,2,0.92,2,6.48,2,-999,9,-999,9,-999,9,-999,9,-999,9,-999
58JH20190515,491,1,7,20190516,2105,3.1322,63.3125,1085,201.04,6.3,35.0134,2,-999,9,275.32,-999,9,0.03,2,12.28,2,0.84,2,5.55,2,-999,9,-999,9,-999,9,-999,9,-999,9,-999
58JH20190515,491,1,8,20190516,2105,3.1322,63.3125,1085,150.89,6.89,35.0742,2,-999,9,275.21,-999,9,0.03,2,12.56,2,0.81,2,5.15,2,-999,9,-999,9,-999,9,-999,9,-999,9,-999
58JH20190515,491,1,9,20190516,2105,3.1322,63.3125,1085,99.99,7.14,35.0994,2,-999,9,274.97,-999,9,0.03,2,11.93,2,0.8,2,4.92,2,-999,9,-999,9,-999,9,-999,9,-999,9,-999
58JH20190515,491,1,10,20190516,2105,3.1322,63.3125,1085,50.74,7.84,35.0921,2,-999,9,280.84,-999,9,0.21,2,10.28,2,0.74,2,4.31,2,-999,9,-999,9,-999,9,-999,9,-999,9,-999
58JH20190515,491,1,11,20190516,2105,3.1322,63.3125,1085,28.38,7.92,35.0693,2,-999,9,282.37,-999,9,0.25,2,6.92,2,0.56,2,3.31,2,-999,9,-999,9,-999,9,-999,9,-999,9,-999
58JH20190515,491,1,12,20190516,2105,3.1322,63.3125,1085,11.17,8.36,34.8412,2,-999,9,302.57,-999,9,0.11,2,3.59,2,0.34,2,2.52,2,-999,9,-999,9,-999,9,-999,9,-999,9,-999
58JH20190515,492,1,1,20190516,2305,2.8672,63.4265,1197,1190.67,-0.75,34.9152,2,34.9592,2,283.67,294.4,2,0.04,2,14.61,2,0.98,2,12.36,2,0.753,2,0.669,2,2169.72,4,-999,9,7.7029,2,25
58JH20190515,492,1,2,20190516,2305,2.8672,63.4265,1197,1000.46,-0.72,34.9148,2,-999,9,285.29,-999,9,-999,9,-999,9,-999,9,-999,9,-999,9,-999,9,-999,9,-999,9,-999,9,-999
58JH20190515,492,1,3,20190516,2305,2.8672,63.4265,1197,802.11,-0.51,34.914,2,-999,9,290.35,300.23,2,0.04,2,14.13,2,0.94,2,9.66,2,1.637,2,1.538,2,2170.07,4,-999,9,7.6906,2,25
58JH20190515,492,1,4,20190516,2305,2.8672,63.4265,1197,501.48,0.44,34.9167,3,35.1199,2,290.89,299.02,2,0.04,2,13.68,2,0.92,2,7.19,2,2.368,2,2.172,2,2172.87,4,-999,9,7.6789,2,25
58JH20190515,492,1,5,20190516,2305,2.8672,63.4265,1197,403.7,2.73,34.9371,2,-999,9,281.08,289.68,2,0.04,2,13.49,2,0.9,2,6.81,2,2.464,2,2.841,2,2166.95,4,-999,9,7.6942,2,25
58JH20190515,492,1,6,20190516,2305,2.8672,63.4265,1197,301.98,5.27,34.9671,2,34.9121,2,271.3,280.93,2,0.06,2,12.89,2,0.87,2,6.32,2,2.297,2,2.716,2,2164.85,4,-999,9,7.7251,2,25
58JH20190515,492,1,7,20190516,2305,2.8672,63.4265,1197,203.3,6.92,35.0785,2,-999,9,274.04,283.18,2,0.06,2,11.74,2,0.81,2,5.27,2,2.26,2,3.088,2,2150.55,4,-999,9,7.7589,2,25
58JH20190515,492,1,8,20190516,2305,2.8672,63.4265,1197,153.09,7.21,35.1103,2,-999,9,274.9,283.97,2,0.05,2,11.7,2,0.78,2,4.98,2,2.191,2,2.887,2,2148.2,4,-999,9,7.7649,2,25
58JH20190515,492,1,9,20190516,2305,2.8672,63.4265,1197,102.53,7.37,35.1246,2,-999,9,273.49,-999,9,-999,9,-999,9,-999,9,-999,9,-999,9,-999,9,-999,9,-999,9,-999,9,-999
58JH20190515,492,1,10,20190516,2305,2.8672,63.4265,1197,52.14,7.89,35.1064,3,34.9108,2,278.17,287.95,2,0.27,2,7.02,2,0.55,2,3.24,2,2.201,2,2.92,2,2133.45,4,-999,9,7.8116,2,25
58JH20190515,492,1,11,20190516,2305,2.8672,63.4265,1197,31.93,7.98,35.0737,2,-999,9,282.92,292.96,2,0.22,2,5.5,2,0.49,2,2.86,2,2.145,2,3.044,2,2123.38,4,-999,9,7.8293,2,25
58JH20190515,492,1,12,20190516,2305,2.8672,63.4265,1197,11.68,8.22,34.869,2,-999,9,303.03,311.72,2,0.07,2,2.23,2,0.3,2,2.37,2,2.175,2,3.193,2,2107.64,4,-999,9,7.8767,2,25
58JH20190515,493,1,1,20190517,205,2.3388,63.6627,1444,1440.84,-0.81,34.915,2,34.9224,2,282.07,293.75,2,0.01,2,15.09,2,0.98,2,12.84,2,0.529,2,0.592,2,2164.1,4,-999,9,7.7042,2,25
58JH20190515,493,1,2,20190517,205,2.3388,63.6627,1444,1200.74,-0.67,34.9149,2,-999,9,286.92,297.66,2,-999,9,-999,9,-999,9,-999,9,0.992,2,1.13,2,2161.51,4,-999,9,7.6985,2,25
58JH20190515,493,1,3,20190517,205,2.3388,63.6627,1444,1000.3,-0.53,34.9141,2,-999,9,290.5,300.53,3,0,2,13.8,2,0.93,2,9.53,2,1.46,2,0.677,9,2161.82,4,-999,9,7.6919,2,25
58JH20190515,493,1,4,20190517,205,2.3388,63.6627,1444,799.3,-0.27,34.9136,3,35.0848,2,292.7,301.84,2,0,2,13.84,2,0.92,2,8.1,2,1.975,2,0.56,9,2165.52,4,-999,9,7.6792,2,25
58JH20190515,493,1,5,20190517,205,2.3388,63.6627,1444,499.79,3.81,34.9559,2,-999,9,275.02,284.63,2,0.01,2,13.32,2,0.89,2,6.7,2,2.301,2,1.943,9,2159.6,4,-999,9,7.7035,2,25
58JH20190515,493,1,6,20190517,205,2.3388,63.6627,1444,399.67,6.75,35.0711,2,35.0815,2,272.4,281.87,2,0.01,2,11.81,2,0.8,2,5.18,2,2.185,2,2.861,2,1067.43,4,-999,9,7.7549,2,25
58JH20190515,493,1,7,20190517,205,2.3388,63.6627,1444,300.26,7.35,35.121,2,-999,9,273.6,282.88,2,0.02,2,11.6,2,0.75,2,4.71,2,2.094,2,2.737,2,2146.26,4,-999,9,7.7679,6,25
58JH20190515,493,1,8,20190517,205,2.3388,63.6627,1444,200.17,7.47,35.1294,2,-999,9,275.34,284.5,2,0.03,2,11.03,2,0.72,2,4.35,2,2.138,3,1.967,9,2141.09,4,-999,9,7.7743,2,25
58JH20190515,493,1,9,20190517,205,2.3388,63.6627,1444,100.42,7.65,35.1446,2,-999,9,271.69,280.24,2,0.04,2,11.07,2,0.73,2,4.43,2,2.141,2,2.882,2,2143.09,4,-999,9,7.7734,2,25
58JH20190515,493,1,10,20190517,205,2.3388,63.6627,1444,50.54,7.89,35.1256,2,35.0786,2,278.59,286.9,2,0.22,2,7.85,2,0.58,2,3.83,2,2.141,2,2.886,2,2132.74,4,-999,9,7.8016,2,25
58JH20190515,493,1,11,20190517,205,2.3388,63.6627,1444,30.3,8,35.1189,2,-999,9,285.63,293.47,2,0.17,2,6.53,2,0.51,2,3.5,2,2.131,2,2.765,2,2168.28,4,-999,9,7.8192,2,25
58JH20190515,493,1,12,20190517,205,2.3388,63.6627,1444,9.89,8.46,35.1141,2,-999,9,295.47,-999,9,-999,9,-999,9,-999,9,-999,9,-999,9,-999,9,-999,9,-999,9,-999,9,-999
58JH20190515,494,1,1,20190517,905,1.8042,63.9015,1806,1806.94,-0.78,34.9151,2,34.9212,2,281.73,294.27,2,0.01,2,-999,9,-999,9,12.59,2,-999,9,-999,9,2156.29,4,-999,9,7.7044,2,25
58JH20190515,494,1,2,20190517,905,1.8042,63.9015,1806,1500.46,-0.68,34.9151,2,-999,9,286.25,287.02,2,-999,9,-999,9,-999,9,-999,9,2.281,3,3.069,3,2128.49,4,-999,9,7.8064,2,25
58JH20190515,494,1,3,20190517,905,1.8042,63.9015,1806,1199.08,-0.55,34.9143,2,-999,9,291.87,301.75,2,0.02,2,13.89,2,0.93,2,9.6,2,1.493,2,1.338,2,2159.63,4,-999,9,7.6962,2,25
58JH20190515,494,1,4,20190517,905,1.8042,63.9015,1806,1002.14,-0.43,34.9143,3,35.0447,2,293.68,303.27,2,0.01,2,13.83,2,0.92,2,8.73,2,1.842,2,1.58,2,2170.86,4,-999,9,7.6881,6,25
58JH20190515,494,1,5,20190517,905,1.8042,63.9015,1806,801.53,-0.21,34.9127,2,-999,9,293.05,301.93,2,0.02,2,13.73,2,0.92,2,7.97,2,2.138,2,1.845,2,2181.77,4,-999,9,7.6775,2,25
58JH20190515,494,1,6,20190517,905,1.8042,63.9015,1806,801.56,-0.2,34.913,2,-999,9,293,301.97,2,0.01,2,13.81,2,0.92,2,7.79,2,2.133,2,1.758,2,2172.91,4,-999,9,7.6782,2,25
58JH20190515,494,1,7,20190517,905,1.8042,63.9015,1806,502.28,2.48,34.9349,2,-999,9,282.34,291.24,2,0.03,2,13.68,2,0.9,2,6.91,2,2.341,2,2.486,2,2171.79,4,-999,9,7.6892,2,25
58JH20190515,494,1,8,20190517,905,1.8042,63.9015,1806,403.3,5.64,34.9825,3,35.0424,2,274.1,283.11,2,0.01,2,12.57,2,0.84,2,5.97,2,2.252,2,2.76,2,2156.94,4,-999,9,7.7334,2,25
58JH20190515,494,1,9,20190517,905,1.8042,63.9015,1806,200.72,7.4,35.1249,2,-999,9,273.79,282.32,2,0.03,2,11.33,2,0.74,2,4.62,2,2.151,2,2.721,2,2153.07,4,-999,9,7.7687,2,25
58JH20190515,494,1,10,20190517,905,1.8042,63.9015,1806,102.33,7.56,35.1366,2,-999,9,273.04,281.46,2,0.02,2,11.12,2,0.73,2,4.43,2,2.128,2,3.044,2,2180.85,4,-999,9,7.7708,2,25
58JH20190515,494,1,11,20190517,905,1.8042,63.9015,1806,51.84,7.9,35.1396,3,34.9126,2,275.67,283.95,2,0.28,2,8.69,2,0.64,2,3.99,2,2.148,2,2.826,2,2158.89,4,-999,9,7.7933,2,25
58JH20190515,494,1,12,20190517,905,1.8042,63.9015,1806,33.08,7.95,35.1036,2,-999,9,280.51,-999,9,-999,9,-999,9,-999,9,-999,9,-999,9,-999,9,-999,9,-999,9,-999,9,-999
58JH20190515,495,1,1,20190517,1205,1.2602,64.1368,2428,2444.67,-0.75,34.9154,2,34.9132,2,278.7,293.49,2,0.02,2,15.23,2,1.04,2,12.9,2,-999,9,-999,9,2178.45,4,-999,9,7.7049,2,25
58JH20190515,495,1,2,20190517,1205,1.2602,64.1368,2428,2000.18,-0.68,34.9159,2,-999,9,284.37,296.88,2,0.01,2,14.52,2,0.99,2,11.32,2,0.787,3,0.684,3,2174.01,4,-999,9,7.7022,2,25
58JH20190515,495,1,3,20190517,1205,1.2602,64.1368,2428,1503.42,-0.58,34.9149,2,-999,9,289.41,300.31,2,0.01,2,14.19,2,0.95,2,10.11,2,1.266,3,0.836,3,2177.24,4,-999,9,7.6962,2,25
58JH20190515,495,1,4,20190517,1205,1.2602,64.1368,2428,1003.73,-0.33,34.9144,2,34.9129,2,293.76,-999,9,0.01,2,14.02,2,0.93,2,8.26,2,-999,9,-999,9,2179.94,4,-999,9,7.6875,2,25
58JH20190515,495,1,5,20190517,1205,1.2602,64.1368,2428,800.83,-0.14,34.9123,2,-999,9,295,304.01,2,0.01,2,13.63,2,0.92,2,7.29,2,2.149,3,1.41,3,2186.07,4,-999,9,7.6757,2,25
58JH20190515,495,1,6,20190517,1205,1.2602,64.1368,2428,499.22,1.27,34.8987,3,35.0628,2,290.15,297.92,2,0.01,2,13.69,2,0.94,2,6.4,2,2.417,3,2.256,3,2197,4,-999,9,7.6713,2,25
58JH20190515,495,1,7,20190517,1205,1.2602,64.1368,2428,401.04,4.25,34.9258,2,-999,9,276.93,285.77,2,0.02,2,13.19,2,0.88,2,6.32,2,2.284,2,2.671,2,2181.28,4,-999,9,7.7091,2,25
58JH20190515,495,1,8,20190517,1205,1.2602,64.1368,2428,201.44,7.33,35.1216,2,-999,9,275.19,284.27,2,0.02,2,13.17,2,0.88,2,6.34,2,2.185,2,2.786,2,2167.63,4,-999,9,7.7678,2,25
58JH20190515,495,1,9,20190517,1205,1.2602,64.1368,2428,100.27,7.83,35.1791,2,-999,9,279.66,288.8,2,0.19,2,9.31,2,0.64,2,3.97,2,2.164,2,2.901,2,2154.88,4,-999,9,7.7951,6,25
58JH20190515,495,1,10,20190517,1205,1.2602,64.1368,2428,50.23,7.91,35.1809,3,35.0549,2,283.72,292.33,2,0.18,2,8.72,2,0.64,2,3.75,2,2.09,2,2.907,2,2153.04,4,-999,9,7.8018,2,25
58JH20190515,495,1,11,20190517,1205,1.2602,64.1368,2428,30.94,7.97,35.1836,2,-999,9,286.42,295.2,2,0.18,2,8.57,2,0.59,2,3.84,2,2.093,2,2.813,2,2150.51,4,-999,9,7.8076,2,25
58JH20190515,495,1,12,20190517,1205,1.2602,64.1368,2428,9.78,8.41,35.1839,2,-999,9,292.28,301.87,2,0.17,2,8.16,2,0.5,3,3.94,2,-999,9,-999,9,2144.93,4,-999,9,7.8268,2,25
58JH20190515,496,1,1,20190517,1605,0.7282,64.3702,2547,2557.61,-0.78,34.9148,2,34.9091,2,277.94,291.97,2,0.01,2,15.63,2,0.98,2,13.63,2,0.392,2,0.305,2,2181.57,4,-999,9,7.7044,2,25
58JH20190515,496,1,2,20190517,1605,0.7282,64.3702,2547,2000.13,-0.72,34.9161,2,-999,9,284.09,296.92,2,-999,9,-999,9,-999,9,-999,9,0.67,2,0.605,2,2177.76,4,-999,9,7.7052,2,25
58JH20190515,496,1,3,20190517,1605,0.7282,64.3702,2547,1500.62,-0.64,34.915,2,34.9105,2,288.3,299.4,2,0,2,14.24,2,0.93,2,10.47,2,1.081,2,1.005,2,2175.2,4,-999,9,7.7005,2,25
58JH20190515,496,1,4,20190517,1605,0.7282,64.3702,2547,998.96,-0.41,34.9143,2,-999,9,295.21,304.83,2,0.01,2,13.72,2,0.93,2,8.3,2,1.839,2,1.729,2,2176.99,4,-999,9,7.6882,2,25
58JH20190515,496,1,5,20190517,1605,0.7282,64.3702,2547,797.51,-0.24,34.9134,2,-999,9,294.57,303.36,2,0.01,2,13.68,2,0.95,2,7.78,2,2.071,2,1.746,2,2179.44,4,-999,9,7.6802,2,25
58JH20190515,496,1,6,20190517,1605,0.7282,64.3702,2547,502.4,0.19,34.9075,3,35.0419,2,296.7,304.32,2,0.01,2,13.39,2,0.92,2,6.51,2,2.507,2,2.25,2,2185.46,4,-999,9,7.6698,2,25
58JH20190515,496,1,7,20190517,1605,0.7282,64.3702,2547,404.55,0.73,34.9081,2,-999,9,293.31,300.86,2,0.02,2,13.6,2,0.93,2,6.3,2,2.547,2,2.516,2,2184.69,4,-999,9,7.668,6,25
58JH20190515,496,1,8,20190517,1605,0.7282,64.3702,2547,203.98,4.21,34.8526,2,-999,9,292.8,301.44,2,0.03,2,11.96,2,0.82,2,5.64,2,2.444,2,3.101,2,2163.4,4,-999,9,7.7233,2,25
58JH20190515,496,1,9,20190517,1605,0.7282,64.3702,2547,102.6,6.85,35.0864,2,-999,9,273.14,280.92,2,0.08,2,12.73,2,0.84,2,5.76,2,2.126,2,2.427,2,2164.93,4,-999,9,7.7538,2,25
58JH20190515,496,1,10,20190517,1605,0.7282,64.3702,2547,52.66,7.22,35.1032,2,35.0538,2,292.04,300.92,2,0.16,2,8.44,2,0.65,2,4.8,2,2.239,2,2.561,2,2146.17,4,-999,9,7.8006,2,25
58JH20190515,496,1,11,20190517,1605,0.7282,64.3702,2547,32.2,7.44,35.126,2,-999,9,291.6,300.53,2,0.16,2,8.59,2,0.65,2,4.67,2,2.175,2,2.73,2,2146.09,4,-999,9,7.8034,2,25
58JH20190515,496,1,12,20190517,1605,0.7282,64.3702,2547,10.75,7.86,35.1365,2,-999,9,301.33,-999,9,0.15,2,8.07,2,0.66,2,4.61,2,-999,9,-999,9,-999,9,-999,9,-999,9,-999
58JH20190515,497,1,1,20190517,2105,-0.0032,64.668,2716,2751.71,-0.77,34.9151,2,34.9094,2,277.09,295.53,2,0.02,2,13.93,2,0.95,2,10.57,2,1.195,2,1.093,2,2176.82,4,-999,9,7.7077,2,25
58JH20190515,497,1,2,20190517,2105,-0.0032,64.668,2716,2501.51,-0.76,34.9154,2,-999,9,280.2,297.4,2,0.02,2,13.74,2,0.93,2,9.51,2,1.372,2,1.439,2,2170.46,4,-999,9,7.709,3,25
58JH20190515,497,1,3,20190517,2105,-0.0032,64.668,2716,2001.12,-0.74,34.9157,2,-999,9,284.19,296.01,2,0,2,14.73,2,0.98,2,11.61,2,0.759,2,0.843,2,2167.6,4,-999,9,7.7085,2,25
58JH20190515,497,1,4,20190517,2105,-0.0032,64.668,2716,1503.14,-0.65,34.9143,2,34.9162,2,288.84,299.79,2,0,2,14.26,2,0.96,2,10.29,2,1.151,2,0.397,9,2166.09,4,-999,9,7.7031,2,25
58JH20190515,497,1,5,20190517,2105,-0.0032,64.668,2716,1002.01,-0.37,34.9137,2,-999,9,294.67,303.92,2,0,2,13.97,2,0.93,2,8.25,2,2.021,2,1.124,2,2169.27,4,-999,9,7.6914,2,25
58JH20190515,497,1,6,20190517,2105,-0.0032,64.668,2716,800.15,-0.17,34.9128,2,-999,9,295.59,303.88,2,0,2,13.69,2,0.93,2,7.52,2,2.302,2,1.907,2,2170.15,4,-999,9,7.6794,2,25
58JH20190515,497,1,7,20190517,2105,-0.0032,64.668,2716,500.44,0.62,34.9132,3,35.0618,2,293.68,301.37,2,0,2,13.86,2,0.93,2,6.24,2,2.645,2,2.429,2,2174.89,4,-999,9,7.6692,2,25
58JH20190515,497,1,8,20190517,2105,-0.0032,64.668,2716,201.84,6.35,35.0267,3,34.9123,2,281.76,290.34,2,0.1,2,11.65,2,0.79,2,5.42,2,2.33,2,2.954,2,2159.29,4,-999,9,7.7551,2,25
58JH20190515,497,1,9,20190517,2105,-0.0032,64.668,2716,100.18,7.35,35.1272,2,-999,9,280.93,289.79,2,0.17,2,10.26,2,0.72,2,4.79,2,2.096,2,2.783,2,2150.21,4,-999,9,7.782,2,25
58JH20190515,497,1,10,20190517,2105,-0.0032,64.668,2716,51.09,7.62,35.1494,2,-999,9,282.02,290.19,2,0.2,2,9.71,2,0.69,2,4.51,2,2.13,2,1.365,9,2145.4,4,-999,9,7.7892,2,25
58JH20190515,497,1,11,20190517,2105,-0.0032,64.668,2716,31.63,7.81,35.1482,2,-999,9,290.44,298.2,2,0.16,2,7.52,2,0.58,2,4.09,2,2.189,2,2.843,2,2130.45,4,-999,9,7.8152,2,25
58JH20190515,497,1,12,20190517,2105,-0.0032,64.668,2716,10.73,8.18,35.1643,2,-999,9,298.97,-999,9,0.13,2,6.98,2,-999,9,4.04,2,-999,9,-999,9,-999,9,-999,9,-999,9,-999
58JH20190515,498,1,1,20190518,1305,2.0003,66.0005,2022,2042.77,-0.76,34.9159,2,34.9201,2,281.22,307.39,4,0.02,2,12.67,3,0.89,3,12.29,3,0.64,2,0.624,2,2170.26,6,-999,9,-999,9,-999
58JH20190515,498,1,2,20190518,1305,2.0003,66.0005,2022,2000.01,-0.77,34.9158,2,-999,9,281.1,294.18,2,0.01,2,14.84,2,0.97,2,12.56,2,0.598,3,0.19,3,2169.73,6,-999,9,-999,9,-999
58JH20190515,498,1,3,20190518,1305,2.0003,66.0005,2022,1499.46,-0.64,34.9154,2,-999,9,287.72,301.27,2,0.02,2,14.16,2,0.93,2,11.1,2,1.161,2,1.014,2,2168.56,6,-999,9,-999,9,-999
58JH20190515,498,1,4,20190518,1305,2.0003,66.0005,2022,998.84,-0.31,34.9146,2,34.9116,2,294.18,303.84,2,0.01,2,13.66,2,0.89,2,7.88,2,1.89,2,1.926,2,2175.84,6,-999,9,-999,9,-999
58JH20190515,498,1,5,20190518,1305,2.0003,66.0005,2022,800.78,-0.09,34.9121,2,-999,9,295.48,304.32,2,0.01,2,13.66,2,0.89,2,7.01,2,2.169,2,1.83,2,2176.83,6,-999,9,-999,9,-999
58JH20190515,498,1,6,20190518,1305,2.0003,66.0005,2022,500.2,1.84,34.9231,2,-999,9,285.86,-999,9,-999,9,-999,9,-999,9,-999,9,-999,9,-999,9,-999,9,-999,9,-999,9,-999
58JH20190515,498,1,7,20190518,1305,2.0003,66.0005,2022,400.17,4.88,34.9741,3,34.9074,2,269.55,279,2,0.01,2,13.48,2,0.86,2,6.26,2,2.141,2,2.827,2,2167.63,6,-999,9,-999,9,-999
58JH20190515,498,1,8,20190518,1305,2.0003,66.0005,2022,199.48,7.35,35.1229,2,-999,9,273.56,282.23,2,0.02,2,11.49,2,0.73,2,4.61,2,-999,9,-999,9,2153.25,6,-999,9,-999,9,-999
58JH20190515,498,1,9,20190518,1305,2.0003,66.0005,2022,99.97,7.56,35.1358,3,34.8947,2,272.99,281.24,2,0.02,2,11.07,2,0.75,2,4.27,2,2.122,2,2.89,2,2153.07,6,-999,9,-999,9,-999
58JH20190515,498,1,10,20190518,1305,2.0003,66.0005,2022,49.98,7.8,35.1295,2,-999,9,281.38,289.81,2,0.2,2,7.84,2,0.58,2,3.75,2,2.298,2,3.05,2,2142.32,6,-999,9,-999,9,-999
58JH20190515,498,1,11,20190518,1305,2.0003,66.0005,2022,29.63,7.83,35.127,2,-999,9,281.59,290.81,2,0.2,2,7.39,2,0.56,2,3.7,2,2.165,2,3.026,2,2141.27,6,-999,9,-999,9,-999
58JH20190515,498,1,12,20190518,1305,2.0003,66.0005,2022,9.53,7.98,35.1254,2,-999,9,293.18,302.04,2,0.13,2,6.55,2,0.54,2,3.7,2,-999,9,-999,9,2132.13,6,-999,9,-999,9,-999