BOTTLE,,,,,,,,,,,,,,,,,,,,,,,,,,,,,,,,,,,,
#,,,,,,,,,,,,,,,,,,,,,,,,,,,,,,,,,,,,
# Data source: ,,,,,,,,,,,,,,,,,,,,,,,,,,,,,,,,,,,,
"# 	Bottle data",,,,,,,,,,,,,,,,,,,,,,,,,,,,,,,,,,,,
# SHIP: R/V Johan Hjort,,,,,,,,,,,,,,,,,,,,,,,,,,,,,,,,,,,,
# Cruise: JH2019205,,,,,,,,,,,,,,,,,,,,,,,,,,,,,,,,,,,,
# Region: Arctic ,,,,,,,,,,,,,,,,,,,,,,,,,,,,,,,,,,,,
# EXPOCODE: 58JH20190515,,,,,,,,,,,,,,,,,,,,,,,,,,,,,,,,,,,,
# DATES: 20190515 - 20190604 ,,,,,,,,,,,,,,,,,,,,,,,,,,,,,,,,,,,,
# 105 stations ,,,,,,,,,,,,,,,,,,,,,,,,,,,,,,,,,,,,
# CTD-data: Who - Are Olsen UiB,,,,,,,,,,,,,,,,,,,,,,,,,,,,,,,,,,,,
# Notes:,,,,,,,,,,,,,,,,,,,,,,,,,,,,,,,,,,,,
# Salinity: Who - Kristin Jackson-Misje UiB,,,,,,,,,,,,,,,,,,,,,,,,,,,,,,,,,,,,
"# 	Notes: 	 Final data 2021-04-26",,,,,,,,,,,,,,,,,,,,,,,,,,,,,,,,,,,,
# Nutrients: Who - IMR,,,,,,,,,,,,,,,,,,,,,,,,,,,,,,,,,,,,
"# 	Notes: Samples analyzed after the cruise by Linda Fonnes",,,,,,,,,,,,,,,,,,,,,,,,,,,,,,,,,,,,
# O2: Who - Kristin Jackson-Misje UiB,,,,,,,,,,,,,,,,,,,,,,,,,,,,,,,,,,,,
"# 	Notes: ",,,,,,,,,,,,,,,,,,,,,,,,,,,,,,,,,,,,
# CFC: Who - Meike Becker UiB,,,,,,,,,,,,,,,,,,,,,,,,,,,,,,,,,,,,
"# 	Notes: Final data 2021-04-23",,,,,,,,,,,,,,,,,,,,,,,,,,,,,,,,,,,,
# TCO2: Who - Siv K Lauvset NORCE,,,,,,,,,,,,,,,,,,,,,,,,,,,,,,,,,,,,
"# 	Notes: ",,,,,,,,,,,,,,,,,,,,,,,,,,,,,,,,,,,,
# Alk: Who - Siv K Lauvset NORCE,,,,,,,,,,,,,,,,,,,,,,,,,,,,,,,,,,,,
"# 	Notes: ",,,,,,,,,,,,,,,,,,,,,,,,,,,,,,,,,,,,
# pH  Who - Siv K Lauvset NORCE,,,,,,,,,,,,,,,,,,,,,,,,,,,,,,,,,,,,
"# 	Notes: total scale @ 25C ",,,,,,,,,,,,,,,,,,,,,,,,,,,,,,,,,,,,
# Other: Who - ,,,,,,,,,,,,,,,,,,,,,,,,,,,,,,,,,,,,
"# 	Notes:  Updated 2021-04-26 with 7 additional CTD stations and final CFC-12 and SF6 data",,,,,,,,,,,,,,,,,,,,,,,,,,,,,,,,,,,,
# References that have used data from this cruise: ,,,,,,,,,,,,,,,,,,,,,,,,,,,,,,,,,,,,
EXPOCODE, STNNBR, CASTNO,BTLNBR, DATE,TIME,LONGITUDE, LATITUDE, MAXDEPTH, CTDPRS, CTDTMP, CTDSAL,CTDSAL_FLAG_W, SALNTY, SALNTY_FLAG_W, CTDOXY, OXYGEN, OXYGEN_FLAG_W, NITRIT, NITRIT_FLAG_W, NITRAT, NITRAT_FLAG_W, PHSPHT, PHSPHT_FLAG_W, SILCAT, SILCAT_FLAG_W, CFC12, CFC12_FLAG_W, SF6, SF6_FLAG_W, TCARBN, TCARBN_FLAG_W, ALKALI, ALKALI_FLAG_W, PH_TOT, PH_TOT_FLAG_W, PH_TEMP
,,,,,,,,meter,dbar,ITS-90,PSS-78,,PSS-78,,umol/kg,umol/kg,,umol/kg,,umol/kg,,umol/kg,,umol/kg,,pmol/kg,,fmol/kg,,umol/kg,,umol/kg,,,,degC
58JH20190515,481,1,1,20190516,105,5.1988,62.3670,170,162.99,7.62,34.8514,2,-999,9,263.62,-999,9,0.05,2,8.46,2,0.62,2,4.52,2,-999,9,-999,9,-999,9,-999,9,-999,9,-999
58JH20190515,481,1,2,20190516,105,5.1988,62.3670,170,150.49,7.54,34.8012,2,-999,9,264.73,-999,9,0.05,2,8.39,2,0.60,2,4.51,2,-999,9,-999,9,-999,9,-999,9,-999,9,-999
58JH20190515,481,1,3,20190516,105,5.1988,62.3670,170,125.83,7.44,34.7299,2,-999,9,266.16,-999,9,0.07,2,8.15,2,0.58,2,4.30,2,-999,9,-999,9,-999,9,-999,9,-999,9,-999
58JH20190515,481,1,4,20190516,105,5.1988,62.3670,170,100.86,7.28,34.6105,2,-999,9,268.56,-999,9,0.06,2,7.72,2,0.56,2,4.08,2,-999,9,-999,9,-999,9,-999,9,-999,9,-999
58JH20190515,481,1,5,20190516,105,5.1988,62.3670,170,75.67,7.04,34.4108,2,-999,9,273.16,-999,9,0.08,2,6.97,2,0.53,2,3.68,2,-999,9,-999,9,-999,9,-999,9,-999,9,-999
58JH20190515,481,1,6,20190516,105,5.1988,62.3670,170,50.80,6.86,34.0518,2,-999,9,280.85,-999,9,0.26,2,4.44,2,0.42,2,3.01,2,-999,9,-999,9,-999,9,-999,9,-999,9,-999
58JH20190515,481,1,7,20190516,105,5.1988,62.3670,170,31.03,7.13,33.8315,2,-999,9,293.04,-999,9,0.14,2,0.85,2,0.19,2,1.91,2,-999,9,-999,9,-999,9,-999,9,-999,9,-999
58JH20190515,481,1,8,20190516,105,5.1988,62.3670,170,21.35,7.56,33.5981,2,-999,9,298.80,-999,9,0.03,2,0.11,2,0.11,2,1.43,2,-999,9,-999,9,-999,9,-999,9,-999,9,-999
58JH20190515,481,1,9,20190516,105,5.1988,62.3670,170,11.14,7.74,33.5286,2,-999,9,301.25,-999,9,0.02,2,0.05,2,0.09,2,1.43,2,-999,9,-999,9,-999,9,-999,9,-999,9,-999
58JH20190515,481,1,10,20190516,105,5.1988,62.3670,170,6.02,7.88,33.5233,2,-999,9,301.78,-999,9,0.03,2,0.08,2,0.12,2,1.48,2,-999,9,-999,9,-999,9,-999,9,-999,9,-999
58JH20190515,482,1,1,20190516,305,4.9448,62.4850,195,189.00,7.92,35.1617,2,-999,9,258.22,-999,9,0.08,2,10.69,2,0.73,2,5.20,2,-999,9,-999,9,-999,9,-999,9,-999,9,-999
58JH20190515,482,1,2,20190516,305,4.9448,62.4850,195,148.81,7.96,35.0528,2,-999,9,258.93,-999,9,0.04,2,9.64,2,0.66,2,4.26,2,-999,9,-999,9,-999,9,-999,9,-999,9,-999
58JH20190515,482,1,3,20190516,305,4.9448,62.4850,195,123.65,7.69,34.8965,2,-999,9,265.56,-999,9,0.04,2,7.83,2,0.59,2,3.16,2,-999,9,-999,9,-999,9,-999,9,-999,9,-999
58JH20190515,482,1,4,20190516,305,4.9448,62.4850,195,98.76,7.58,34.7819,2,-999,9,269.53,-999,9,0.05,2,6.90,2,0.58,2,2.99,2,-999,9,-999,9,-999,9,-999,9,-999,9,-999
58JH20190515,482,1,5,20190516,305,4.9448,62.4850,195,74.06,7.32,34.6022,2,-999,9,275.19,-999,9,0.05,2,6.92,2,0.53,2,3.07,2,-999,9,-999,9,-999,9,-999,9,-999,9,-999
58JH20190515,482,1,6,20190516,305,4.9448,62.4850,195,49.46,6.87,34.2795,2,-999,9,276.04,-999,9,0.09,2,5.40,2,0.43,2,2.90,2,-999,9,-999,9,-999,9,-999,9,-999,9,-999
58JH20190515,482,1,7,20190516,305,4.9448,62.4850,195,28.72,7.02,33.9274,2,-999,9,288.00,-999,9,0.28,2,2.73,2,0.28,2,2.12,2,-999,9,-999,9,-999,9,-999,9,-999,9,-999
58JH20190515,482,1,8,20190516,305,4.9448,62.4850,195,18.94,7.71,33.3318,2,-999,9,295.32,-999,9,0.04,2,0.13,2,0.09,2,1.40,2,-999,9,-999,9,-999,9,-999,9,-999,9,-999
58JH20190515,482,1,9,20190516,305,4.9448,62.4850,195,10.87,7.72,33.3434,2,-999,9,295.45,-999,9,0.02,2,0.04,2,0.06,2,1.42,2,-999,9,-999,9,-999,9,-999,9,-999,9,-999
58JH20190515,482,1,10,20190516,305,4.9448,62.4850,195,4.11,7.85,33.3259,2,-999,9,295.69,-999,9,0.02,2,0.05,2,0.06,2,1.47,2,-999,9,-999,9,-999,9,-999,9,-999,9,-999
58JH20190515,483,1,1,20190516,505,4.6912,62.6040,191,186.55,7.83,35.1573,2,-999,9,254.75,-999,9,0.14,2,10.68,2,0.75,2,5.15,2,-999,9,-999,9,-999,9,-999,9,-999,9,-999
58JH20190515,483,1,2,20190516,505,4.6912,62.6040,191,149.15,7.94,35.1274,2,-999,9,256.37,-999,9,0.06,2,10.11,2,0.73,2,4.90,2,-999,9,-999,9,-999,9,-999,9,-999,9,-999
58JH20190515,483,1,3,20190516,505,4.6912,62.6040,191,123.30,7.97,35.0681,2,-999,9,259.54,-999,9,0.06,2,9.25,2,0.65,2,3.96,2,-999,9,-999,9,-999,9,-999,9,-999,9,-999
58JH20190515,483,1,4,20190516,505,4.6912,62.6040,191,98.81,7.86,34.9510,2,-999,9,261.87,-999,9,0.06,2,8.68,2,0.68,2,3.71,2,-999,9,-999,9,-999,9,-999,9,-999,9,-999
58JH20190515,483,1,5,20190516,505,4.6912,62.6040,191,73.94,7.56,34.7898,2,-999,9,265.74,-999,9,0.06,2,8.21,2,0.63,2,3.30,2,-999,9,-999,9,-999,9,-999,9,-999,9,-999
58JH20190515,483,1,6,20190516,505,4.6912,62.6040,191,48.91,7.20,34.5744,2,-999,9,263.05,-999,9,0.10,2,6.97,2,0.55,2,3.45,2,-999,9,-999,9,-999,9,-999,9,-999,9,-999
58JH20190515,483,1,7,20190516,505,4.6912,62.6040,191,28.72,7.29,34.1933,2,-999,9,282.18,-999,9,0.28,2,4.26,2,0.39,2,2.43,2,-999,9,-999,9,-999,9,-999,9,-999,9,-999
58JH20190515,483,1,8,20190516,505,4.6912,62.6040,191,18.55,7.71,33.3506,2,-999,9,298.57,-999,9,0.13,2,4.80,2,0.41,2,2.84,2,-999,9,-999,9,-999,9,-999,9,-999,9,-999
58JH20190515,483,1,9,20190516,505,4.6912,62.6040,191,8.58,7.82,33.1818,2,-999,9,297.61,-999,9,0.11,2,1.09,2,0.18,2,1.51,2,-999,9,-999,9,-999,9,-999,9,-999,9,-999
58JH20190515,483,1,10,20190516,505,4.6912,62.6040,191,3.62,7.81,33.1724,2,-999,9,296.61,-999,9,0.17,2,1.46,2,0.29,2,1.75,2,-999,9,-999,9,-999,9,-999,9,-999,9,-999
58JH20190515,484,1,1,20190516,605,4.4317,62.7220,182,175.06,8.12,35.2094,2,35.1951,2,264.90,276.12,2,0.22,2,10.42,2,0.71,2,4.27,2,-999,9,-999,9,2153.78,2,-999,9,-999,9,-999
58JH20190515,484,1,2,20190516,605,4.4317,62.7220,182,151.34,8.29,35.2304,2,-999,9,267.81,278.42,2,0.18,2,10.70,2,0.71,2,4.27,2,-999,9,-999,9,2152.88,2,-999,9,-999,9,-999
58JH20190515,484,1,3,20190516,605,4.4317,62.7220,182,126.47,8.38,35.2386,2,-999,9,268.17,277.90,2,0.13,2,10.71,2,0.72,2,4.30,2,-999,9,-999,9,2152.80,2,-999,9,-999,9,-999
58JH20190515,484,1,4,20190516,605,4.4317,62.7220,182,102.66,8.48,35.2344,2,35.2159,2,268.62,278.04,2,0.27,2,10.21,2,0.70,2,4.19,2,-999,9,-999,9,2153.96,2,-999,9,-999,9,-999
58JH20190515,484,1,5,20190516,605,4.4317,62.7220,182,78.03,8.50,35.1853,2,-999,9,271.88,281.57,2,0.39,2,9.06,2,0.63,2,3.84,2,-999,9,-999,9,2150.34,2,-999,9,-999,9,-999
58JH20190515,484,1,6,20190516,605,4.4317,62.7220,182,52.18,7.77,34.9519,2,34.9321,2,268.32,277.59,2,0.06,2,7.51,2,0.57,2,3.27,2,-999,9,-999,9,2152.17,2,-999,9,-999,9,-999
58JH20190515,484,1,7,20190516,605,4.4317,62.7220,182,30.66,7.49,34.8013,2,-999,9,265.45,273.87,2,0.04,2,7.38,2,0.58,2,3.44,2,-999,9,-999,9,2155.42,2,-999,9,-999,9,-999
58JH20190515,484,1,8,20190516,605,4.4317,62.7220,182,19.39,7.45,34.7298,2,-999,9,268.47,276.32,2,0.07,2,6.77,2,0.54,2,3.29,2,-999,9,-999,9,2154.69,2,-999,9,-999,9,-999
58JH20190515,484,1,9,20190516,605,4.4317,62.7220,182,8.15,8.41,34.4958,2,-999,9,299.49,305.38,2,0.09,2,2.19,2,0.26,2,2.34,2,-999,9,-999,9,2109.90,2,-999,9,-999,9,-999
58JH20190515,484,1,10,20190516,605,4.4317,62.7220,182,3.72,8.35,34.0970,2,34.1014,2,300.35,307.86,2,0.04,2,0.33,2,0.14,2,1.57,2,-999,9,-999,9,2098.44,2,-999,9,-999,9,-999
58JH20190515,485,1,1,20190516,905,4.3062,62.7803,382,381.04,7.59,35.1516,2,-999,9,261.22,-999,9,0.02,2,11.17,2,0.75,2,4.75,2,-999,9,-999,9,-999,9,-999,9,-999,9,-999
58JH20190515,485,1,2,20190516,905,4.3062,62.7803,382,300.25,7.96,35.1863,2,-999,9,265.66,-999,9,0.00,2,10.96,2,0.74,2,4.49,2,-999,9,-999,9,-999,9,-999,9,-999,9,-999
58JH20190515,485,1,3,20190516,905,4.3062,62.7803,382,250.06,8.28,35.2271,2,-999,9,267.97,-999,9,0.00,2,11.36,2,0.74,2,4.41,2,-999,9,-999,9,-999,9,-999,9,-999,9,-999
58JH20190515,485,1,4,20190516,905,4.3062,62.7803,382,199.30,8.44,35.2461,2,-999,9,267.13,-999,9,0.03,2,11.18,2,0.73,2,4.23,2,-999,9,-999,9,-999,9,-999,9,-999,9,-999
58JH20190515,485,1,5,20190516,905,4.3062,62.7803,382,149.33,8.65,35.2698,2,-999,9,268.18,-999,9,0.13,2,10.83,2,0.71,2,4.20,2,-999,9,-999,9,-999,9,-999,9,-999,9,-999
58JH20190515,485,1,6,20190516,905,4.3062,62.7803,382,99.32,8.78,35.2857,2,-999,9,271.17,-999,9,0.34,2,10.00,2,0.68,2,4.10,2,-999,9,-999,9,-999,9,-999,9,-999,9,-999
58JH20190515,485,1,7,20190516,905,4.3062,62.7803,382,73.02,8.77,35.2768,2,-999,9,271.21,-999,9,0.36,2,9.90,2,0.67,2,4.10,2,-999,9,-999,9,-999,9,-999,9,-999,9,-999
58JH20190515,485,1,8,20190516,905,4.3062,62.7803,382,54.85,8.76,35.2663,2,-999,9,271.73,-999,9,0.31,2,9.83,2,0.66,2,4.15,2,-999,9,-999,9,-999,9,-999,9,-999,9,-999
58JH20190515,485,1,9,20190516,905,4.3062,62.7803,382,28.84,8.73,35.1959,2,-999,9,274.41,-999,9,0.33,2,9.36,2,0.67,2,4.10,2,-999,9,-999,9,-999,9,-999,9,-999,9,-999
58JH20190515,485,1,10,20190516,905,4.3062,62.7803,382,18.76,8.67,34.9248,2,-999,9,286.30,-999,9,0.30,2,8.82,2,0.61,2,3.90,2,-999,9,-999,9,-999,9,-999,9,-999,9,-999
58JH20190515,485,1,11,20190516,905,4.3062,62.7803,382,9.07,8.89,34.9078,2,-999,9,294.37,-999,9,0.26,2,7.96,2,0.55,2,3.67,2,-999,9,-999,9,-999,9,-999,9,-999,9,-999
58JH20190515,485,1,12,20190516,905,4.3062,62.7803,382,2.79,8.90,34.9081,2,-999,9,294.96,-999,9,0.13,2,3.71,2,0.34,2,2.72,2,-999,9,-999,9,-999,9,-999,9,-999,9,-999
58JH20190515,486,1,1,20190516,1005,4.1770,62.8413,387,608.58,-0.04,34.9194,2,-999,9,284.80,-999,9,0.02,2,14.55,2,0.96,2,10.55,2,-999,9,-999,9,-999,9,-999,9,-999,9,-999
58JH20190515,486,1,2,20190516,1005,4.1770,62.8413,387,500.59,7.06,35.1046,2,-999,9,260.76,-999,9,0.05,2,11.98,2,0.82,2,5.98,2,-999,9,-999,9,-999,9,-999,9,-999,9,-999
58JH20190515,486,1,3,20190516,1005,4.1770,62.8413,387,399.91,7.39,35.1282,2,-999,9,269.83,-999,9,0.03,2,12.11,2,0.79,2,5.34,2,-999,9,-999,9,-999,9,-999,9,-999,9,-999
58JH20190515,486,1,4,20190516,1005,4.1770,62.8413,387,300.77,8.14,35.2083,2,-999,9,268.56,-999,9,0.03,2,11.50,2,0.74,2,4.49,2,-999,9,-999,9,-999,9,-999,9,-999,9,-999
58JH20190515,486,1,5,20190516,1005,4.1770,62.8413,387,200.45,8.57,35.2603,2,-999,9,267.22,-999,9,0.03,2,11.32,2,0.73,2,4.40,2,-999,9,-999,9,-999,9,-999,9,-999,9,-999
58JH20190515,486,1,6,20190516,1005,4.1770,62.8413,387,150.66,8.70,35.2766,2,-999,9,267.96,-999,9,0.07,2,11.01,2,0.71,2,4.20,2,-999,9,-999,9,-999,9,-999,9,-999,9,-999
58JH20190515,486,1,7,20190516,1005,4.1770,62.8413,387,100.26,8.78,35.2845,2,-999,9,270.76,-999,9,0.34,2,9.93,2,0.67,2,4.04,2,-999,9,-999,9,-999,9,-999,9,-999,9,-999
58JH20190515,486,1,8,20190516,1005,4.1770,62.8413,387,74.41,8.78,35.2767,2,-999,9,271.75,-999,9,0.34,2,9.89,2,0.67,2,3.96,2,-999,9,-999,9,-999,9,-999,9,-999,9,-999
58JH20190515,486,1,9,20190516,1005,4.1770,62.8413,387,49.92,8.80,35.2701,2,-999,9,271.70,-999,9,0.35,2,9.32,2,0.66,2,4.06,2,-999,9,-999,9,-999,9,-999,9,-999,9,-999
58JH20190515,486,1,10,20190516,1005,4.1770,62.8413,387,30.89,8.61,35.1453,2,-999,9,275.50,-999,9,0.29,2,8.75,2,0.62,2,3.73,2,-999,9,-999,9,-999,9,-999,9,-999,9,-999
58JH20190515,486,1,11,20190516,1005,4.1770,62.8413,387,11.38,8.52,34.7706,2,-999,9,294.93,-999,9,0.24,2,7.07,2,0.56,2,3.30,2,-999,9,-999,9,-999,9,-999,9,-999,9,-999
58JH20190515,486,1,12,20190516,1005,4.1770,62.8413,387,5.16,8.31,34.4651,2,-999,9,300.78,-999,9,0.09,2,3.09,2,0.31,2,2.27,2,-999,9,-999,9,-999,9,-999,9,-999,9,-999
58JH20190515,487,1,1,20190516,1105,4.0508,62.8988,745,743.76,-0.73,34.9143,2,-999,9,284.68,-999,9,0.03,2,16.23,2,0.98,2,12.29,2,-999,9,-999,9,-999,9,-999,9,-999,9,-999
58JH20190515,487,1,2,20190516,1105,4.0508,62.8988,745,600.41,0.42,34.9145,2,-999,9,285.44,-999,9,0.02,2,14.31,2,0.96,2,9.10,2,-999,9,-999,9,-999,9,-999,9,-999,9,-999
58JH20190515,487,1,3,20190516,1105,4.0508,62.8988,745,500.07,5.05,34.9524,2,-999,9,271.00,-999,9,0.04,2,13.15,2,0.87,2,6.35,2,-999,9,-999,9,-999,9,-999,9,-999,9,-999
58JH20190515,487,1,4,20190516,1105,4.0508,62.8988,745,400.73,6.94,35.0836,2,-999,9,271.98,-999,9,0.03,2,13.02,2,0.80,2,5.33,2,-999,9,-999,9,-999,9,-999,9,-999,9,-999
58JH20190515,487,1,5,20190516,1105,4.0508,62.8988,745,299.56,7.43,35.1322,2,-999,9,273.56,-999,9,0.05,2,12.22,2,0.77,2,4.97,2,-999,9,-999,9,-999,9,-999,9,-999,9,-999
58JH20190515,487,1,6,20190516,1105,4.0508,62.8988,745,201.06,7.99,35.1904,2,-999,9,270.46,-999,9,0.04,2,11.85,2,0.76,2,4.66,2,-999,9,-999,9,-999,9,-999,9,-999,9,-999
58JH20190515,487,1,7,20190516,1105,4.0508,62.8988,745,150.87,8.33,35.2128,2,-999,9,273.94,-999,9,0.26,2,9.29,2,0.63,2,3.99,2,-999,9,-999,9,-999,9,-999,9,-999,9,-999
58JH20190515,487,1,8,20190516,1105,4.0508,62.8988,745,99.77,8.71,35.2681,2,-999,9,274.49,-999,9,0.25,2,9.61,2,0.64,2,4.12,2,-999,9,-999,9,-999,9,-999,9,-999,9,-999
58JH20190515,487,1,9,20190516,1105,4.0508,62.8988,745,74.35,8.71,35.2667,2,-999,9,275.60,-999,9,0.24,2,9.68,2,0.66,2,4.08,2,-999,9,-999,9,-999,9,-999,9,-999,9,-999
58JH20190515,487,1,10,20190516,1105,4.0508,62.8988,745,50.76,8.71,35.2631,2,-999,9,277.41,-999,9,0.24,2,9.63,2,0.63,2,4.10,2,-999,9,-999,9,-999,9,-999,9,-999,9,-999
58JH20190515,487,1,11,20190516,1105,4.0508,62.8988,745,29.33,8.75,35.2555,2,-999,9,280.41,-999,9,0.25,2,8.94,2,0.61,2,4.01,2,-999,9,-999,9,-999,9,-999,9,-999,9,-999
58JH20190515,487,1,12,20190516,1105,4.0508,62.8988,745,10.26,8.64,34.7632,2,-999,9,300.81,-999,9,0.13,2,3.05,2,0.29,2,2.44,2,-999,9,-999,9,-999,9,-999,9,-999,9,-999
58JH20190515,488,1,1,20190516,1305,3.9192,62.9562,831,828.36,-0.73,34.9147,2,34.8857,2,283.84,293.23,2,-999,9,-999,9,-999,9,12.29,2,0.684,3,0.557,3,2181.84,2,-999,9,7.7034,2,25
58JH20190515,488,1,2,20190516,1305,3.9192,62.9562,831,801.09,-0.73,34.9145,2,-999,9,284.1,293.49,2,0.03,2,14.52,2,0.99,2,12.28,2,0.889,3,0.35,3,2172.43,2,-999,9,7.6912,2,25
58JH20190515,488,1,3,20190516,1305,3.9192,62.9562,831,497.1,3.74,34.941,2,-999,9,275.39,285.63,2,0.09,2,11.4,3,0.65,3,6.46,2,2.399,2,1.894,2,2171.29,2,-999,9,7.7018,2,25
58JH20190515,488,1,4,20190516,1305,3.9192,62.9562,831,397.41,6.47,35.0414,3,35.1682,2,273.21,283.26,2,0.07,2,12.54,2,0.83,2,5.58,2,2.233,2,2.734,2,2157.09,2,-999,9,7.8247,2,25
58JH20190515,488,1,5,20190516,1305,3.9192,62.9562,831,298.38,7.25,35.1119,2,-999,9,272.83,283.14,2,0.03,2,11.82,2,0.77,2,4.82,2,2.186,2,2.42,2,2153.23,2,-999,9,7.79,2,25
58JH20190515,488,1,6,20190516,1305,3.9192,62.9562,831,198.83,7.51,35.1385,3,34.9003,2,273.12,283.06,2,0.02,2,11.94,2,0.77,2,4.74,2,2.173,2,2.829,2,2152.45,2,-999,9,7.7683,2,25
58JH20190515,488,1,7,20190516,1305,3.9192,62.9562,831,150.27,7.62,35.1467,2,-999,9,272.44,282.24,2,0.03,2,11.52,2,0.75,2,4.56,2,1.683,2,2.757,2,2151.68,2,-999,9,7.7717,2,25
58JH20190515,488,1,8,20190516,1305,3.9192,62.9562,831,98.59,8.16,35.21,2,-999,9,267.99,277.77,2,0.06,2,11.36,2,0.74,2,4.26,2,2.124,2,2.616,2,2152.04,2,-999,9,7.7867,2,25
58JH20190515,488,1,9,20190516,1305,3.9192,62.9562,831,76.41,8.17,35.1504,2,-999,9,277.87,287.69,2,0.25,2,7.32,2,0.55,2,3.33,2,2.153,2,2.085,2,2139.38,2,-999,9,7.8132,2,25
58JH20190515,488,1,10,20190516,1305,3.9192,62.9562,831,49.36,8.19,35.1426,3,34.9011,2,281.57,291.39,2,0.2,2,6.89,2,0.53,2,3.3,2,2.165,2,2.759,2,2134.53,2,-999,9,7.7076,3,25
58JH20190515,488,1,11,20190516,1305,3.9192,62.9562,831,29.32,8.26,35.1362,2,-999,9,288.16,297.48,2,0.18,2,6.31,2,0.5,2,3.17,2,2.113,2,2.852,2,2128.86,2,-999,9,7.8315,2,25
58JH20190515,488,1,12,20190516,1305,3.9192,62.9562,831,11.76,8.44,35.1361,2,-999,9,291.25,300.62,2,-999,9,-999,9,-999,9,-999,9,2.11,2,2.796,2,2130.09,2,-999,9,7.6905,3,25
58JH20190515,489,1,1,20190516,1705,3.6588,63.074,974,966.36,-0.75,34.9147,2,-999,9,284.27,-999,9,0.04,2,14.99,2,1.01,2,12.2,2,-999,9,-999,9,-999,9,-999,9,-999,9,-999
58JH20190515,489,1,2,20190516,1705,3.6588,63.074,974,799.55,-0.63,34.9134,2,-999,9,289.47,-999,9,0.08,2,14.3,2,0.97,2,10.33,2,-999,9,-999,9,-999,9,-999,9,-999,9,-999
58JH20190515,489,1,3,20190516,1705,3.6588,63.074,974,499.95,2.12,34.9205,2,-999,9,283.28,-999,9,0.06,2,13.55,2,0.92,2,6.87,2,-999,9,-999,9,-999,9,-999,9,-999,9,-999
58JH20190515,489,1,4,20190516,1705,3.6588,63.074,974,400.88,5.39,34.9612,2,-999,9,273.59,-999,9,0.05,2,12.97,2,0.86,2,5.98,2,-999,9,-999,9,-999,9,-999,9,-999,9,-999
58JH20190515,489,1,5,20190516,1705,3.6588,63.074,974,301.22,7.08,35.0923,2,-999,9,269.69,-999,9,0.05,2,12.12,2,0.81,2,5.23,2,-999,9,-999,9,-999,9,-999,9,-999,9,-999
58JH20190515,489,1,6,20190516,1705,3.6588,63.074,974,199.65,7.39,35.1244,2,-999,9,273.05,-999,9,0.04,2,12.09,2,0.78,2,4.69,2,-999,9,-999,9,-999,9,-999,9,-999,9,-999
58JH20190515,489,1,7,20190516,1705,3.6588,63.074,974,150.69,7.54,35.137,2,-999,9,272.36,-999,9,0.07,2,11.39,2,0.75,2,4.55,2,-999,9,-999,9,-999,9,-999,9,-999,9,-999
58JH20190515,489,1,8,20190516,1705,3.6588,63.074,974,100.61,7.98,35.1816,2,-999,9,269.52,-999,9,0.15,2,11.22,2,0.74,2,4.32,2,-999,9,-999,9,-999,9,-999,9,-999,9,-999
58JH20190515,489,1,9,20190516,1705,3.6588,63.074,974,74.36,8.17,35.1715,2,-999,9,274.71,-999,9,0.29,2,8.43,2,0.6,2,3.56,2,-999,9,-999,9,-999,9,-999,9,-999,9,-999
58JH20190515,489,1,10,20190516,1705,3.6588,63.074,974,50.62,8.15,35.1438,2,-999,9,277.8,-999,9,0.26,2,7.14,2,0.59,2,3.21,2,-999,9,-999,9,-999,9,-999,9,-999,9,-999
58JH20190515,489,1,11,20190516,1705,3.6588,63.074,974,30.87,8.2,35.1355,2,-999,9,281.8,-999,9,0.23,2,7.9,2,0.59,2,3.38,2,-999,9,-999,9,-999,9,-999,9,-999,9,-999
58JH20190515,489,1,12,20190516,1705,3.6588,63.074,974,9.07,8.46,35.1397,2,-999,9,293.55,-999,9,0.17,2,6.4,2,0.5,2,3.18,2,-999,9,-999,9,-999,9,-999,9,-999,9,-999