BOTTLE,,,,,,,,,,,,,,,,,,,,,,,,,,,,,,,,,,,,
EXPOCODE, STNNBR, CASTNO,BTLNBR, DATE,TIME,LONGITUDE, LATITUDE, MAXDEPTH, CTDPRS, CTDTMP, CTDSAL,CTDSAL_FLAG_W, SALNTY, SALNTY_FLAG_W, CTDOXY, OXYGEN, OXYGEN_FLAG_W, NITRIT, NITRIT_FLAG_W, NITRAT, NITRAT_FLAG_W, PHSPHT, PHSPHT_FLAG_W, SILCAT, SILCAT_FLAG_W, CFC12, CFC12_FLAG_W, SF6, SF6_FLAG_W, TCARBN, TCARBN_FLAG_W, ALKALI, ALKALI_FLAG_W, PH_TOT, PH_TOT_FLAG_W, PH_TEMP
,,,,,,,,meter,dbar,ITS-90,PSS-78,,PSS-78,,umol/kg,umol/kg,,umol/kg,,umol/kg,,umol/kg,,umol/kg,,pmol/kg,,fmol/kg,,umol/kg,,umol/kg,,,,degC
58JH20190515,522,1,1,20190524,905,9.585,69.9478,2874,2910.51,-0.75,34.9157,2,-999,9,277.49,-999,9,0.03,2,14.82,2,0.97,2,12.32,2,-999,9,-999,9,-999,9,-999,9,7.6967,6,25
58JH20190515,522,1,2,20190524,905,9.585,69.9478,2874,2501.02,-0.75,34.9161,2,-999,9,280.43,-999,9,0.05,2,14.14,2,0.95,2,11.02,2,-999,9,-999,9,-999,9,-999,9,7.7007,6,25
58JH20190515,522,1,3,20190524,905,9.585,69.9478,2874,2000.13,-0.71,34.9151,2,-999,9,284.52,-999,9,0.04,2,14.24,2,0.95,2,11.16,2,-999,9,-999,9,-999,9,-999,9,-999,9,-999
58JH20190515,522,1,4,20190524,905,9.585,69.9478,2874,1499.6,-0.58,34.9135,2,-999,9,290.38,-999,9,0.02,2,13.94,2,0.92,2,9.56,2,-999,9,-999,9,-999,9,-999,9,-999,9,-999
58JH20190515,522,1,5,20190524,905,9.585,69.9478,2874,998.57,-0.17,34.9133,2,-999,9,293.8,-999,9,0.02,2,14.03,2,0.9,2,7.69,2,-999,9,-999,9,-999,9,-999,9,-999,9,-999
58JH20190515,522,1,6,20190524,905,9.585,69.9478,2874,801.22,0.31,34.9162,2,-999,9,295.16,-999,9,0.05,2,13.41,2,0.89,2,6.98,2,-999,9,-999,9,-999,9,-999,9,-999,9,-999
58JH20190515,522,1,7,20190524,905,9.585,69.9478,2874,498.81,4.45,35.0492,2,-999,9,290.12,-999,9,0.03,2,11.73,2,0.76,2,5.14,2,-999,9,-999,9,-999,9,-999,9,-999,9,-999
58JH20190515,522,1,8,20190524,905,9.585,69.9478,2874,200.74,5.21,35.056,2,-999,9,287.94,-999,9,0.07,2,11.14,2,0.75,2,4.74,2,-999,9,-999,9,-999,9,-999,9,-999,9,-999
58JH20190515,522,1,9,20190524,905,9.585,69.9478,2874,99.02,5.63,35.0611,2,-999,9,288.52,-999,9,0.22,2,10.48,2,0.71,2,4.58,2,-999,9,-999,9,-999,9,-999,9,-999,9,-999
58JH20190515,522,1,10,20190524,905,9.585,69.9478,2874,49.05,5.91,35.0614,2,-999,9,292.58,-999,9,0.18,2,8.71,2,0.66,2,4.45,2,-999,9,-999,9,-999,9,-999,9,-999,9,-999
58JH20190515,522,1,11,20190524,905,9.585,69.9478,2874,28.47,6.08,35.0434,2,-999,9,301.6,-999,9,0.13,2,6.29,2,0.52,2,3.74,2,-999,9,-999,9,-999,9,-999,9,-999,9,-999
58JH20190515,522,1,12,20190524,905,9.585,69.9478,2874,9.46,6.1,35.0438,2,-999,9,301.45,-999,9,0.13,2,6.14,2,0.52,2,3.65,2,-999,9,-999,9,-999,9,-999,9,-999,9,-999
58JH20190515,523,1,1,20190524,1305,8.8832,70.1687,2895,2934.84,-0.75,34.9158,2,-999,9,277.32,294.01,2,0.03,2,14.76,2,0.98,2,12.4,2,0.623,2,0.394,2,-999,9,2307.18,2,7.6961,4,25
58JH20190515,523,1,2,20190524,1305,8.8832,70.1687,2895,2501.99,-0.75,34.9161,2,-999,9,279.68,293.75,2,0.09,2,14.94,2,0.98,2,12.64,2,0.623,2,0.404,2,-999,9,2304.39,2,7.7005,4,25
58JH20190515,523,1,3,20190524,1305,8.8832,70.1687,2895,2000.89,-0.71,34.9158,2,34.9125,2,284.11,296.79,2,0.03,2,14.5,2,0.97,2,11.34,2,0.867,2,0.69,2,-999,9,2305.83,2,7.6962,6,25
58JH20190515,523,1,4,20190524,1305,8.8832,70.1687,2895,1500.55,-0.58,34.9139,2,-999,9,290.12,301.49,2,0.03,2,14.08,2,0.94,2,9.52,2,1.474,2,1.293,2,-999,9,2303.04,2,7.6931,4,25
58JH20190515,523,1,5,20190524,1305,8.8832,70.1687,2895,1000.07,-0.16,34.9133,2,34.911,2,294.47,304.27,2,0.03,2,13.5,2,0.92,2,7.4,2,-999,9,-999,9,-999,9,2301.34,2,7.6769,4,25
58JH20190515,523,1,6,20190524,1305,8.8832,70.1687,2895,800.51,0.39,34.916,2,-999,9,293.33,302.67,2,0.03,2,13.62,2,0.9,2,6.63,2,2.421,2,2.304,2,-999,9,2303.17,2,7.6704,4,25
58JH20190515,523,1,7,20190524,1305,8.8832,70.1687,2895,500.24,4.61,35.0529,2,-999,9,287.93,297.84,2,0.05,2,11.84,2,0.78,2,5.15,2,2.324,2,2.98,2,-999,9,2311.01,2,7.7258,4,25
58JH20190515,523,1,8,20190524,1305,8.8832,70.1687,2895,198.92,5.68,35.0661,2,-999,9,290.58,300.26,2,0.18,2,9.64,2,0.68,2,4.75,2,2.22,2,3.134,2,-999,9,2316.6,2,7.7531,4,25
58JH20190515,523,1,9,20190524,1305,8.8832,70.1687,2895,99.94,6.09,35.0576,2,-999,9,297.39,306.58,2,0.16,2,6.71,2,0.57,2,4.23,2,-999,9,-999,9,-999,9,2317.46,2,7.7711,6,25
58JH20190515,523,1,10,20190524,1305,8.8832,70.1687,2895,49.14,6.21,35.0324,2,35.0272,2,295.91,304.9,2,0.18,2,6.71,2,0.55,2,3.93,2,2.181,2,2.718,2,-999,9,2317.39,2,7.7716,4,25
58JH20190515,523,1,11,20190524,1305,8.8832,70.1687,2895,29.97,6.31,35.0405,2,-999,9,295.22,303.94,2,0.18,2,7.02,2,0.56,2,3.98,2,2.274,2,3.107,2,-999,9,2318.18,2,7.7884,4,25
58JH20190515,523,1,12,20190524,1305,8.8832,70.1687,2895,9.64,6.39,35.0426,2,-999,9,294.84,303.68,2,0.14,2,7.12,2,0.56,2,3.99,2,-999,9,-999,9,-999,9,2317.98,2,7.7868,4,25
58JH20190515,524,1,1,20190524,1705,8.1978,70.4003,2925,2958.86,-0.75,34.9156,2,-999,9,277.04,-999,9,0.03,2,14.86,2,1,2,13.23,2,-999,9,-999,9,-999,9,-999,9,-999,9,-999
58JH20190515,524,1,2,20190524,1705,8.1978,70.4003,2925,2499.15,-0.76,34.9157,2,-999,9,280.42,-999,9,0.04,2,14.73,2,0.98,2,12.64,2,-999,9,-999,9,-999,9,-999,9,-999,9,-999
58JH20190515,524,1,3,20190524,1705,8.1978,70.4003,2925,1998.97,-0.73,34.9153,2,-999,9,283.84,-999,9,0.05,2,14.44,2,0.96,2,11.59,2,-999,9,-999,9,-999,9,-999,9,-999,9,-999
58JH20190515,524,1,4,20190524,1705,8.1978,70.4003,2925,1500.19,-0.6,34.9131,2,-999,9,290.48,-999,9,0.03,2,13.99,2,0.93,2,9.96,2,-999,9,-999,9,-999,9,-999,9,-999,9,-999
58JH20190515,524,1,5,20190524,1705,8.1978,70.4003,2925,999.84,-0.2,34.9131,2,-999,9,295.83,-999,9,0.04,2,13.58,2,0.89,2,7.47,2,-999,9,-999,9,-999,9,-999,9,-999,9,-999
58JH20190515,524,1,6,20190524,1705,8.1978,70.4003,2925,798.89,0.18,34.9112,2,-999,9,296.34,-999,9,0.03,2,13.33,2,0.89,2,6.59,2,-999,9,-999,9,-999,9,-999,9,-999,9,-999
58JH20190515,524,1,7,20190524,1705,8.1978,70.4003,2925,499.48,4.31,35.04,2,-999,9,288.22,-999,9,0.03,2,12.06,2,0.78,2,5.04,2,-999,9,-999,9,-999,9,-999,9,-999,9,-999
58JH20190515,524,1,8,20190524,1705,8.1978,70.4003,2925,199.29,5.37,35.0606,2,-999,9,290.38,-999,9,0.17,2,10.59,2,0.72,2,4.67,2,-999,9,-999,9,-999,9,-999,9,-999,9,-999
58JH20190515,524,1,9,20190524,1705,8.1978,70.4003,2925,98.66,5.91,35.0614,2,-999,9,283.21,-999,9,0.12,2,11.1,2,0.74,2,4.65,2,-999,9,-999,9,-999,9,-999,9,-999,9,-999
58JH20190515,524,1,10,20190524,1705,8.1978,70.4003,2925,49.8,6.12,35.0581,2,-999,9,294.1,-999,9,0.15,2,7.88,2,0.64,2,5.95,3,-999,9,-999,9,-999,9,-999,9,-999,9,-999
58JH20190515,524,1,11,20190524,1705,8.1978,70.4003,2925,29.52,6.19,35.059,2,-999,9,296.52,-999,9,0.15,2,7.43,2,0.56,2,4.02,2,-999,9,-999,9,-999,9,-999,9,-999,9,-999
58JH20190515,524,1,12,20190524,1705,8.1978,70.4003,2925,9.53,6.2,35.0597,2,-999,9,296.42,-999,9,0.16,2,7.27,2,0.56,2,4.12,2,-999,9,-999,9,-999,9,-999,9,-999,9,-999
58JH20190515,525,1,1,20190524,2205,7.0855,70.7505,3014,3057.59,-0.74,34.9158,2,34.9117,2,277.09,293.53,2,0.03,2,15.06,2,0.99,2,13.08,3,0.565,2,0.289,2,-999,9,2308.03,2,7.7035,4,25
58JH20190515,525,1,2,20190524,2205,7.0855,70.7505,3014,2999.9,-0.75,34.9158,2,-999,9,276.94,292.4,2,0.03,2,14.74,2,0.99,2,13.65,2,0.506,2,0.294,2,-999,9,2307.13,2,7.7021,4,25
58JH20190515,525,1,3,20190524,2205,7.0855,70.7505,3014,2499.39,-0.74,34.9164,2,-999,9,280.95,294.71,2,0.04,2,14.84,2,0.97,2,12.35,2,0.664,2,0.468,2,-999,9,2304.42,2,7.7033,4,25
58JH20190515,525,1,4,20190524,2205,7.0855,70.7505,3014,2000.25,-0.7,34.9153,3,35.0068,2,284.26,296.62,2,0.04,2,14.33,2,0.95,2,11.35,2,0.957,2,0.65,2,-999,9,2304.16,2,7.7009,4,25
58JH20190515,525,1,5,20190524,2205,7.0855,70.7505,3014,1500.28,-0.53,34.9131,2,-999,9,291.84,303.44,2,0.02,2,13.74,2,0.91,2,9.12,2,1.707,2,1.317,2,-999,9,2301.63,2,7.6942,4,25
58JH20190515,525,1,6,20190524,2205,7.0855,70.7505,3014,1000.55,-0.05,34.9128,2,34.9084,2,295.16,305.66,2,0.02,2,13.25,2,0.89,2,7.14,2,2.426,2,2.005,2,-999,9,2303.69,2,7.6762,4,25
58JH20190515,525,1,7,20190524,2205,7.0855,70.7505,3014,500.72,4.62,35.0513,2,-999,9,289.75,300.19,2,0.08,2,11.53,2,0.78,2,5.04,2,2.493,2,3.084,2,-999,9,2313.05,2,7.7346,4,25
58JH20190515,525,1,8,20190524,2205,7.0855,70.7505,3014,200.15,5.08,35.0585,2,-999,9,291.16,-999,9,-999,9,-999,9,-999,9,-999,9,-999,9,-999,9,-999,9,-999,9,-999,9,-999
58JH20190515,525,1,9,20190524,2205,7.0855,70.7505,3014,99.83,5.5,35.0591,2,-999,9,296.57,305.04,2,0.18,2,9.74,2,0.67,2,4.68,2,2.498,2,3.083,2,-999,9,2314.23,2,7.7568,6,25
58JH20190515,525,1,10,20190524,2205,7.0855,70.7505,3014,51.32,6.07,35.0685,2,-999,9,295.87,304.84,2,0.16,2,7.48,2,0.58,2,4.09,2,2.43,2,3.108,2,-999,9,2315.85,2,7.7784,4,25
58JH20190515,525,1,11,20190524,2205,7.0855,70.7505,3014,30.3,6.09,35.0699,2,-999,9,295.68,304.97,2,0.15,2,7.43,2,0.58,2,4.1,2,2.406,2,2.96,2,-999,9,2316.51,2,7.7781,4,25
58JH20190515,525,1,12,20190524,2205,7.0855,70.7505,3014,11.01,6.09,35.0699,2,35.0637,2,295.89,305.23,2,0.15,2,7.31,2,0.58,2,3.99,2,2.344,2,3.239,2,-999,9,2318,2,7.7728,4,25
58JH20190515,526,1,1,20190525,405,5.9965,71.0838,3082,3124.29,-0.74,34.9158,2,34.9091,2,276.57,298.4,2,0.03,2,14.61,2,0.95,2,11.02,3,1.095,3,0.859,3,-999,9,2302.33,2,-999,9,-999
58JH20190515,526,1,2,20190525,405,5.9965,71.0838,3082,2499.83,-0.74,34.9161,2,-999,9,280.73,294.97,2,0.03,2,14.48,2,0.97,2,12.53,2,0.659,3,0.49,3,-999,9,2303.02,2,-999,9,-999
58JH20190515,526,1,3,20190525,405,5.9965,71.0838,3082,1999.95,-0.7,34.9152,2,34.9105,2,284.25,297.31,2,0.05,2,14.7,2,0.96,2,11.57,2,0.908,2,0.634,2,-999,9,2301.84,2,-999,9,-999
58JH20190515,526,1,4,20190525,405,5.9965,71.0838,3082,1500.58,-0.54,34.9132,2,-999,9,291.61,303.22,2,0.03,2,14,2,0.93,2,9.47,2,1.591,2,1.342,2,-999,9,2299.97,2,-999,9,-999
58JH20190515,526,1,5,20190525,405,5.9965,71.0838,3082,999.57,-0.09,34.9129,2,-999,9,294.22,304.88,2,0.03,2,13.6,2,0.9,2,7.4,2,2.238,2,1.839,2,-999,9,2298.78,2,-999,9,-999
58JH20190515,526,1,6,20190525,405,5.9965,71.0838,3082,800.16,0.47,34.9144,2,-999,9,297.04,307.28,2,0.03,2,13.17,2,0.88,2,6.36,2,2.489,2,2.495,2,-999,9,2301,2,-999,9,-999
58JH20190515,526,1,7,20190525,405,5.9965,71.0838,3082,499.75,4.39,35.0455,2,35.0419,2,290.41,301.27,2,0.04,2,11.64,2,0.77,2,5.12,2,2.368,2,3.134,2,-999,9,2308.21,2,-999,9,-999
58JH20190515,526,1,8,20190525,405,5.9965,71.0838,3082,199.48,5.01,35.0625,2,-999,9,294.35,302.85,2,0.19,2,10.94,2,0.73,2,4.98,2,2.374,2,3.078,2,-999,9,2312.98,2,-999,9,-999
58JH20190515,526,1,9,20190525,405,5.9965,71.0838,3082,101.42,5.33,35.0593,2,35.0538,2,288.91,299.08,2,0.18,2,10.69,2,0.72,2,4.95,2,-999,9,-999,9,-999,9,2313.85,2,-999,9,-999
58JH20190515,526,1,10,20190525,405,5.9965,71.0838,3082,50.63,5.78,35.0698,2,-999,9,297.36,301.96,2,0.22,2,9.57,2,0.66,2,4.59,2,2.334,2,3.056,2,-999,9,2314.3,2,-999,9,-999
58JH20190515,526,1,11,20190525,405,5.9965,71.0838,3082,30,5.94,35.0747,2,-999,9,300.88,309.31,2,0.13,2,7.58,2,0.62,2,4.28,2,2.321,2,3.074,2,-999,9,2316.68,2,-999,9,-999
58JH20190515,526,1,12,20190525,405,5.9965,71.0838,3082,9.61,5.95,35.0752,2,-999,9,300.6,310.05,2,0.09,2,7.47,2,0.57,2,4.33,2,2.297,2,3.222,2,-999,9,2315.03,2,-999,9,-999
58JH20190515,527,1,1,20190525,1905,1.1283,70.3205,3205,1799.88,-0.46,34.9134,2,-999,9,290.45,-999,9,0.04,2,14.37,2,0.92,2,8.8,2,-999,9,-999,9,-999,9,-999,9,-999,9,-999
58JH20190515,527,1,2,20190525,1905,1.1283,70.3205,3205,1499.86,-0.17,34.9138,2,34.9104,2,292.11,302.8,2,0.04,2,13.45,2,0.9,2,7.51,2,2.18,2,1.997,2,-999,9,2300.2,2,7.6791,4,25
58JH20190515,527,1,3,20190525,1905,1.1283,70.3205,3205,1250.37,0.58,34.9172,2,-999,9,291.68,303.85,2,0.04,2,13.8,2,0.89,2,6.32,2,2.56,2,2.354,2,-999,9,2297.89,2,7.6738,6,25
58JH20190515,527,1,4,20190525,1905,1.1283,70.3205,3205,1062.37,4.99,35.0902,2,-999,9,284.42,297.8,2,0.02,2,12.03,2,0.76,2,4.78,2,2.477,2,2.971,2,-999,9,2311.12,2,7.7353,4,25
58JH20190515,527,1,5,20190525,1905,1.1283,70.3205,3205,999.37,5.01,35.0859,2,-999,9,285.58,299.06,2,0.04,2,11.94,2,0.75,2,4.8,2,-999,9,-999,9,-999,9,2315.24,2,7.7391,4,25
58JH20190515,527,1,6,20190525,1905,1.1283,70.3205,3205,799.52,4.99,35.0853,2,35.1045,2,287.03,299.36,2,0.03,2,11.76,2,0.77,2,4.73,2,-999,9,-999,9,-999,9,2313.85,2,7.7306,4,25
58JH20190515,527,1,7,20190525,1905,1.1283,70.3205,3205,500.77,4.96,35.0852,2,-999,9,288.13,298.97,2,0.03,2,11.81,2,0.75,2,4.83,2,2.263,2,3.122,2,-999,9,2309.84,2,7.7331,4,25
58JH20190515,527,1,8,20190525,1905,1.1283,70.3205,3205,400.55,4.96,35.085,2,-999,9,288.79,-999,9,0.03,2,11.8,2,0.75,2,4.83,2,-999,9,-999,9,-999,9,-999,9,-999,9,-999
58JH20190515,527,1,9,20190525,1905,1.1283,70.3205,3205,200.55,4.94,35.0841,2,-999,9,290.53,-999,9,0.06,2,12.02,2,0.75,2,4.82,2,-999,9,-999,9,-999,9,-999,9,-999,9,-999
58JH20190515,527,1,10,20190525,1905,1.1283,70.3205,3205,100.5,4.93,35.0836,2,-999,9,291.37,-999,9,0.07,2,11.54,2,0.75,2,4.83,2,-999,9,-999,9,-999,9,-999,9,-999,9,-999
58JH20190515,527,1,11,20190525,1905,1.1283,70.3205,3205,50.05,5.02,35.084,2,-999,9,297.61,-999,9,0.08,2,11.03,2,0.72,2,4.79,2,-999,9,-999,9,-999,9,-999,9,-999,9,-999
58JH20190515,527,1,12,20190525,1905,1.1283,70.3205,3205,9.53,5.13,35.0847,2,-999,9,301.67,-999,9,0.09,2,10.67,2,0.7,2,4.83,2,-999,9,-999,9,-999,9,-999,9,-999,9,-999
58JH20190515,528,1,1,20190525,2205,1.3127,70.378,3193,1801.66,-0.46,34.9133,2,-999,9,290.78,-999,9,0.03,2,14,2,0.92,2,8.81,2,-999,9,-999,9,-999,9,-999,9,-999,9,-999
58JH20190515,528,1,2,20190525,2205,1.3127,70.378,3193,1502.06,-0.19,34.9141,2,-999,9,292.39,305.53,2,0.03,2,14,2,0.9,2,7.59,2,2.237,2,1.916,2,-999,9,2297.62,2,7.68,4,25
58JH20190515,528,1,3,20190525,2205,1.3127,70.378,3193,1248.78,0.42,34.9152,2,34.9115,2,292.79,304.54,2,0.03,2,13.74,2,0.89,2,6.45,2,2.604,2,2.42,2,-999,9,2299.49,2,7.6735,4,25
58JH20190515,528,1,4,20190525,2205,1.3127,70.378,3193,1000.53,4.94,35.0942,2,-999,9,283.06,295.67,2,0.04,2,12.16,2,0.76,2,4.86,2,2.326,2,3.031,2,-999,9,2307.69,2,7.7329,4,25
58JH20190515,528,1,5,20190525,2205,1.3127,70.378,3193,986.42,4.97,35.0917,2,-999,9,284.69,297.15,2,0.04,2,11.85,2,0.76,2,4.82,2,2.386,2,1.42,9,-999,9,2310.3,2,7.7318,4,25
58JH20190515,528,1,6,20190525,2205,1.3127,70.378,3193,801.08,4.99,35.087,2,-999,9,287.12,299.06,2,0.04,2,11.77,2,0.76,2,4.82,2,2.396,2,3.084,2,-999,9,2311.1,2,7.736,6,25
58JH20190515,528,1,7,20190525,2205,1.3127,70.378,3193,502.46,4.97,35.0857,2,35.0804,2,288.66,299.02,2,0.05,2,12.49,2,0.75,2,4.83,2,-999,9,3.1,2,-999,9,2311.62,2,7.7392,4,25
58JH20190515,528,1,8,20190525,2205,1.3127,70.378,3193,401.96,4.96,35.0841,2,-999,9,289.9,-999,9,0.05,2,11.78,2,0.75,2,4.72,2,-999,9,-999,9,-999,9,-999,9,-999,9,-999
58JH20190515,528,1,9,20190525,2205,1.3127,70.378,3193,203.57,4.96,35.0806,2,-999,9,292.25,-999,9,0.11,2,11.42,2,0.74,2,4.79,2,-999,9,-999,9,-999,9,-999,9,-999,9,-999
58JH20190515,528,1,10,20190525,2205,1.3127,70.378,3193,102.34,5,35.0786,2,-999,9,294.15,-999,9,0.11,2,11.04,2,0.78,2,4.75,2,-999,9,-999,9,-999,9,-999,9,-999,9,-999
58JH20190515,528,1,11,20190525,2205,1.3127,70.378,3193,49.88,5.14,35.0789,2,-999,9,303.35,-999,9,0.09,2,9.94,2,0.68,2,4.81,2,-999,9,-999,9,-999,9,-999,9,-999,9,-999
58JH20190515,528,1,12,20190525,2205,1.3127,70.378,3193,9.35,5.36,35.0739,2,-999,9,310.28,-999,9,0.11,2,9.05,2,0.64,2,4.79,2,-999,9,-999,9,-999,9,-999,9,-999,9,-999
58JH20190515,529,1,1,20190526,5,1.4968,70.433,2621,1798.05,-0.54,34.9135,2,-999,9,289.38,-999,9,0.03,2,14.26,2,0.93,2,9.43,2,-999,9,-999,9,-999,9,-999,9,-999,9,-999
58JH20190515,529,1,2,20190526,5,1.4968,70.433,2621,1497.55,-0.31,34.9141,2,-999,9,292.88,305.31,2,0.11,2,14.13,2,0.93,2,8.02,2,2.083,2,1.802,2,-999,9,2298.83,2,7.683,6,25
58JH20190515,529,1,3,20190526,5,1.4968,70.433,2621,1245.3,0.08,34.9127,2,-999,9,294.19,305.84,2,0.03,2,13.56,2,0.9,2,6.84,2,2.34,2,2.146,2,-999,9,2298.46,2,7.675,4,25
58JH20190515,529,1,4,20190526,5,1.4968,70.433,2621,995.19,3.17,35.0035,2,-999,9,282.03,294.2,2,0.04,2,13.24,2,0.85,2,5.61,2,2.426,2,2.859,2,-999,9,2306.39,2,7.7002,4,25
58JH20190515,529,1,5,20190526,5,1.4968,70.433,2621,896.69,4.5,35.0396,2,-999,9,288.51,300.92,2,0.04,2,11.82,2,0.77,2,4.96,2,2.153,3,2.856,3,-999,9,2308.66,2,7.7284,6,25
58JH20190515,529,1,6,20190526,5,1.4968,70.433,2621,802.12,4.81,35.0584,2,-999,9,287.37,299.45,2,0.04,2,11.61,2,0.76,2,4.87,2,2.388,2,3.128,2,-999,9,2312.11,2,7.7342,4,25
58JH20190515,529,1,7,20190526,5,1.4968,70.433,2621,502.67,5.01,35.0756,2,-999,9,290.09,301.58,2,0.09,2,11.69,2,0.74,2,4.8,2,2.334,2,3.118,2,-999,9,2310.49,2,7.7402,4,25
58JH20190515,529,1,8,20190526,5,1.4968,70.433,2621,400.26,5.01,35.0717,2,-999,9,288.23,-999,9,0.04,2,11.84,2,0.75,2,4.83,2,-999,9,-999,9,-999,9,-999,9,-999,9,-999
58JH20190515,529,1,9,20190526,5,1.4968,70.433,2621,201.47,5.04,35.0664,2,-999,9,292.08,-999,9,0.13,2,-999,9,-999,9,4.74,2,-999,9,-999,9,-999,9,-999,9,-999,9,-999
58JH20190515,529,1,10,20190526,5,1.4968,70.433,2621,101.53,5.08,35.066,2,-999,9,295.48,-999,9,0.17,2,10.84,2,0.72,2,4.82,2,-999,9,-999,9,-999,9,-999,9,-999,9,-999
58JH20190515,529,1,11,20190526,5,1.4968,70.433,2621,50.36,5.2,35.0682,2,-999,9,299.45,-999,9,0.16,2,10.2,2,0.69,2,4.88,2,-999,9,-999,9,-999,9,-999,9,-999,9,-999
58JH20190515,529,1,12,20190526,5,1.4968,70.433,2621,9.25,5.36,35.0715,2,-999,9,306.94,-999,9,0.13,2,9.35,2,0.65,2,4.9,2,2.534,2,3.221,2,-999,9,-999,9,-999,9,-999
58JH20190515,530,1,1,20190526,305,1.6825,70.4908,3188,1798.93,-0.58,34.9134,2,-999,9,288.42,-999,9,0.02,2,14.78,2,0.95,2,9.62,2,-999,9,-999,9,-999,9,-999,9,-999,9,-999
58JH20190515,530,1,2,20190526,305,1.6825,70.4908,3188,1498.91,-0.4,34.914,2,-999,9,292.69,305.05,2,0.03,2,13.92,2,0.92,2,8.33,2,1.942,2,1.476,2,-999,9,2300.35,2,7.687,6,25
58JH20190515,530,1,3,20190526,305,1.6825,70.4908,3188,1249.66,-0.04,34.9132,2,-999,9,293.11,305.1,2,0.02,2,13.51,2,0.91,2,7.14,2,2.365,2,2.02,2,-999,9,2298.68,2,7.6756,4,25
58JH20190515,530,1,4,20190526,305,1.6825,70.4908,3188,1001.19,0.76,34.9161,2,-999,9,294.05,305.55,2,0.06,2,13.33,2,0.88,2,6.04,2,2.663,2,2.628,2,-999,9,2298.61,2,7.6758,4,25
58JH20190515,530,1,5,20190526,305,1.6825,70.4908,3188,799.04,4.28,35.041,2,-999,9,285.79,297.74,2,0.04,2,11.32,2,0.77,2,4.95,2,2.462,2,2.963,2,-999,9,2308.09,2,7.7214,4,25
58JH20190515,530,1,6,20190526,305,1.6825,70.4908,3188,690.04,4.98,35.0873,2,-999,9,284.58,296.63,2,0.07,2,12.3,2,0.79,2,5.21,2,2.434,2,3.043,2,-999,9,2310.88,2,7.7351,6,25
58JH20190515,530,1,7,20190526,305,1.6825,70.4908,3188,500.99,5,35.0705,2,-999,9,287.69,298.63,2,0.04,2,11.72,2,0.76,2,4.94,2,2.407,2,3.043,2,-999,9,2307.96,2,7.7421,4,25
58JH20190515,530,1,8,20190526,305,1.6825,70.4908,3188,402.7,5,35.0657,2,-999,9,288.48,-999,9,0.04,2,11.72,2,0.76,2,4.87,2,-999,9,-999,9,-999,9,-999,9,-999,9,-999
58JH20190515,530,1,9,20190526,305,1.6825,70.4908,3188,202.25,5.08,35.0641,2,-999,9,292.94,-999,9,0.2,2,11.03,2,0.73,2,4.84,2,-999,9,-999,9,-999,9,-999,9,-999,9,-999
58JH20190515,530,1,10,20190526,305,1.6825,70.4908,3188,102.15,5.21,35.0678,2,-999,9,292.1,-999,9,0.17,2,11.24,2,0.73,2,4.78,2,-999,9,-999,9,-999,9,-999,9,-999,9,-999
58JH20190515,530,1,11,20190526,305,1.6825,70.4908,3188,51.1,5.25,35.0645,2,-999,9,294.29,-999,9,0.17,2,10.46,2,0.72,2,4.87,2,-999,9,-999,9,-999,9,-999,9,-999,9,-999
58JH20190515,530,1,12,20190526,305,1.6825,70.4908,3188,10.44,5.54,35.0672,2,-999,9,308.37,-999,9,0.13,2,8.4,2,0.6,2,4.81,2,2.526,2,3.336,2,-999,9,-999,9,-999,9,-999