BOTTLE,,,,,,,,,,,,,,,,,,,,,,,,,,,,,,,,,,,,
EXPOCODE, STNNBR, CASTNO,BTLNBR, DATE,TIME,LONGITUDE, LATITUDE, MAXDEPTH, CTDPRS, CTDTMP, CTDSAL,CTDSAL_FLAG_W, SALNTY, SALNTY_FLAG_W, CTDOXY, OXYGEN, OXYGEN_FLAG_W, NITRIT, NITRIT_FLAG_W, NITRAT, NITRAT_FLAG_W, PHSPHT, PHSPHT_FLAG_W, SILCAT, SILCAT_FLAG_W, CFC12, CFC12_FLAG_W, SF6, SF6_FLAG_W, TCARBN, TCARBN_FLAG_W, ALKALI, ALKALI_FLAG_W, PH_TOT, PH_TOT_FLAG_W, PH_TEMP
,,,,,,,,meter,dbar,ITS-90,PSS-78,,PSS-78,,umol/kg,umol/kg,,umol/kg,,umol/kg,,umol/kg,,umol/kg,,pmol/kg,,fmol/kg,,umol/kg,,umol/kg,,,,degC
58JH20190515,510,1,1,20190522,2205,13.6773,68.5468,107,101.58,6.72,34.8898,2,-999,9,267.33,-999,9,0.26,2,10.01,2,0.68,2,4.82,2,-999,9,-999,9,-999,9,-999,9,-999,9,-999
58JH20190515,510,1,2,20190522,2205,13.6773,68.5468,107,76.19,6.59,34.8085,2,-999,9,268.83,-999,9,0.19,2,9.92,2,0.66,2,4.36,2,-999,9,-999,9,-999,9,-999,9,-999,9,-999
58JH20190515,510,1,3,20190522,2205,13.6773,68.5468,107,51.32,6.25,34.663,2,-999,9,274.44,-999,9,0.27,2,8.46,2,0.59,2,3.24,2,-999,9,-999,9,-999,9,-999,9,-999,9,-999
58JH20190515,510,1,4,20190522,2205,13.6773,68.5468,107,31.34,6.09,34.5625,2,-999,9,280.67,-999,9,0.28,2,6.52,2,0.53,2,2.55,2,-999,9,-999,9,-999,9,-999,9,-999,9,-999
58JH20190515,510,1,5,20190522,2205,13.6773,68.5468,107,21.21,6.07,34.5152,2,-999,9,284.18,-999,9,0.28,2,5.47,2,0.48,2,2.08,2,-999,9,-999,9,-999,9,-999,9,-999,9,-999
58JH20190515,510,1,6,20190522,2205,13.6773,68.5468,107,10.45,6.8,34.3705,2,-999,9,292.52,-999,9,0.15,2,2.38,2,0.32,2,1.32,2,-999,9,-999,9,-999,9,-999,9,-999,9,-999
58JH20190515,510,1,7,20190522,2205,13.6773,68.5468,107,6,6.99,34.3259,2,-999,9,295.92,-999,9,0.12,2,1.65,2,0.26,2,1.15,2,-999,9,-999,9,-999,9,-999,9,-999,9,-999
58JH20190515,511,1,1,20190522,2305,13.5813,68.5802,132,126.62,6.74,34.9115,2,-999,9,267.33,-999,9,0.24,2,9.9,2,0.67,2,4.51,2,-999,9,-999,9,-999,9,-999,9,-999,9,-999
58JH20190515,511,1,2,20190522,2305,13.5813,68.5802,132,100.72,6.66,34.8482,2,-999,9,268.91,-999,9,0.27,2,9.84,2,0.66,2,4.35,2,-999,9,-999,9,-999,9,-999,9,-999,9,-999
58JH20190515,511,1,3,20190522,2305,13.5813,68.5802,132,75.53,6.51,34.7662,2,-999,9,272.15,-999,9,0.26,2,8.99,2,0.61,2,3.41,2,-999,9,-999,9,-999,9,-999,9,-999,9,-999
58JH20190515,511,1,4,20190522,2305,13.5813,68.5802,132,51.37,6.34,34.6707,2,-999,9,275.92,-999,9,0.26,2,7.99,2,0.56,2,2.67,2,-999,9,-999,9,-999,9,-999,9,-999,9,-999
58JH20190515,511,1,5,20190522,2305,13.5813,68.5802,132,29.74,6.3,34.5426,2,-999,9,282.49,-999,9,0.27,2,7.61,2,0.56,2,2.84,2,-999,9,-999,9,-999,9,-999,9,-999,9,-999
58JH20190515,511,1,6,20190522,2305,13.5813,68.5802,132,21.07,6.62,34.3732,2,-999,9,295.46,-999,9,0.17,2,2.17,2,0.3,2,1.21,2,-999,9,-999,9,-999,9,-999,9,-999,9,-999
58JH20190515,511,1,7,20190522,2305,13.5813,68.5802,132,10.37,6.68,34.3419,2,-999,9,296.54,-999,9,0.12,2,1.61,2,0.25,2,1.11,2,-999,9,-999,9,-999,9,-999,9,-999,9,-999
58JH20190515,511,1,8,20190522,2305,13.5813,68.5802,132,5.35,6.68,34.3392,2,-999,9,295.92,-999,9,0.13,2,1.59,2,0.25,2,1.11,2,-999,9,-999,9,-999,9,-999,9,-999,9,-999
58JH20190515,512,1,1,20190523,5,13.4828,68.6172,114,107.08,6.94,35.0205,2,-999,9,272.49,-999,9,0.22,2,9.82,2,0.65,2,4.02,2,-999,9,-999,9,-999,9,-999,9,-999,9,-999
58JH20190515,512,1,2,20190523,5,13.4828,68.6172,114,102.1,6.94,35.031,2,-999,9,272.1,-999,9,0.25,2,10,2,0.67,2,4.26,2,-999,9,-999,9,-999,9,-999,9,-999,9,-999
58JH20190515,512,1,3,20190523,5,13.4828,68.6172,114,74.66,6.64,34.8246,2,-999,9,268.51,-999,9,0.05,2,10.11,2,0.67,2,4.15,2,-999,9,-999,9,-999,9,-999,9,-999,9,-999
58JH20190515,512,1,4,20190523,5,13.4828,68.6172,114,51.36,6.61,34.7794,2,-999,9,270.75,-999,9,0.14,2,9.46,2,0.64,2,3.56,2,-999,9,-999,9,-999,9,-999,9,-999,9,-999
58JH20190515,512,1,5,20190523,5,13.4828,68.6172,114,30.36,6.56,34.4637,2,-999,9,289.13,-999,9,0.16,2,8.11,2,0.58,2,2.86,2,-999,9,-999,9,-999,9,-999,9,-999,9,-999
58JH20190515,512,1,6,20190523,5,13.4828,68.6172,114,20.35,6.66,34.3607,2,-999,9,294.19,-999,9,0.13,2,2.02,2,0.29,2,1.14,2,-999,9,-999,9,-999,9,-999,9,-999,9,-999
58JH20190515,512,1,7,20190523,5,13.4828,68.6172,114,10.35,6.67,34.3567,2,-999,9,294.38,-999,9,0.13,2,1.94,2,0.3,2,1.06,2,-999,9,-999,9,-999,9,-999,9,-999,9,-999
58JH20190515,512,1,8,20190523,5,13.4828,68.6172,114,5.43,6.67,34.3571,2,-999,9,294.34,-999,9,0.14,2,1.98,2,0.27,2,1.16,2,-999,9,-999,9,-999,9,-999,9,-999,9,-999
58JH20190515,513,1,1,20190523,205,13.161,68.7337,116,107.38,7.1,35.0819,2,-999,9,274.98,-999,9,0.18,2,10.23,2,0.68,2,4.37,2,-999,9,-999,9,-999,9,-999,9,-999,9,-999
58JH20190515,513,1,2,20190523,205,13.161,68.7337,116,99.17,7.1,35.0818,2,-999,9,275.03,-999,9,0.19,2,10.46,2,0.69,2,4.41,2,-999,9,-999,9,-999,9,-999,9,-999,9,-999
58JH20190515,513,1,3,20190523,205,13.161,68.7337,116,74.57,7.05,35.0649,2,-999,9,274.68,-999,9,0.21,2,10.17,2,0.68,2,4.39,2,-999,9,-999,9,-999,9,-999,9,-999,9,-999
58JH20190515,513,1,4,20190523,205,13.161,68.7337,116,48.36,7.15,35.0242,2,-999,9,277.79,-999,9,0.23,2,8.75,2,0.62,2,3.68,2,-999,9,-999,9,-999,9,-999,9,-999,9,-999
58JH20190515,513,1,5,20190523,205,13.161,68.7337,116,28.63,6.95,34.7134,2,-999,9,279.53,-999,9,0.19,2,7.14,2,0.53,2,3.12,2,-999,9,-999,9,-999,9,-999,9,-999,9,-999
58JH20190515,513,1,6,20190523,205,13.161,68.7337,116,18.35,6.93,34.416,2,-999,9,293.65,-999,9,0.06,2,1.52,2,0.23,2,1.22,2,-999,9,-999,9,-999,9,-999,9,-999,9,-999
58JH20190515,513,1,7,20190523,205,13.161,68.7337,116,8.38,6.93,34.4126,2,-999,9,293.82,-999,9,-999,9,-999,9,-999,9,-999,9,-999,9,-999,9,-999,9,-999,9,-999,9,-999
58JH20190515,513,1,8,20190523,205,13.161,68.7337,116,4.52,6.93,34.4112,2,-999,9,294.79,-999,9,0.06,2,1.47,2,0.22,2,1.29,2,-999,9,-999,9,-999,9,-999,9,-999,9,-999
58JH20190515,514,1,1,20190523,305,12.9618,68.784,192,189.32,6.78,35.0821,2,-999,9,276.41,-999,9,0.12,2,10.94,2,0.72,2,4.57,2,-999,9,-999,9,-999,9,-999,9,-999,9,-999
58JH20190515,514,1,2,20190523,305,12.9618,68.784,192,148.12,6.83,35.0792,2,-999,9,275.86,-999,9,0.16,2,10.73,2,0.72,2,4.55,2,-999,9,-999,9,-999,9,-999,9,-999,9,-999
58JH20190515,514,1,3,20190523,305,12.9618,68.784,192,122.83,6.94,35.0795,2,-999,9,274.83,-999,9,0.16,2,10.76,2,0.74,2,4.5,2,-999,9,-999,9,-999,9,-999,9,-999,9,-999
58JH20190515,514,1,4,20190523,305,12.9618,68.784,192,99.06,6.95,35.0795,2,-999,9,274.91,-999,9,0.15,2,10.73,2,0.71,2,4.46,2,-999,9,-999,9,-999,9,-999,9,-999,9,-999
58JH20190515,514,1,5,20190523,305,12.9618,68.784,192,73.54,7.09,35.0947,2,-999,9,274.83,-999,9,0.14,2,10.68,2,0.71,2,4.5,2,-999,9,-999,9,-999,9,-999,9,-999,9,-999
58JH20190515,514,1,6,20190523,305,12.9618,68.784,192,48.91,7.31,35.0748,2,-999,9,278.73,-999,9,0.24,2,8.76,2,0.63,2,3.61,2,-999,9,-999,9,-999,9,-999,9,-999,9,-999
58JH20190515,514,1,7,20190523,305,12.9618,68.784,192,28.91,6.92,34.5926,2,-999,9,290.09,-999,9,0.13,2,4.19,2,0.37,2,1.85,2,-999,9,-999,9,-999,9,-999,9,-999,9,-999
58JH20190515,514,1,8,20190523,305,12.9618,68.784,192,16.95,6.93,34.5858,2,-999,9,290.7,-999,9,0.15,2,4.94,2,0.41,2,2.17,2,-999,9,-999,9,-999,9,-999,9,-999,9,-999
58JH20190515,514,1,9,20190523,305,12.9618,68.784,192,7.55,6.92,34.589,2,-999,9,290.33,-999,9,0.1,2,4.24,2,0.36,2,1.97,2,-999,9,-999,9,-999,9,-999,9,-999,9,-999
58JH20190515,514,1,10,20190523,305,12.9618,68.784,192,4.51,6.93,34.5879,2,-999,9,290.44,-999,9,0.12,2,3.94,2,0.36,2,1.76,2,-999,9,-999,9,-999,9,-999,9,-999,9,-999
58JH20190515,515,1,1,20190523,405,12.7985,68.851,678,677.38,-0.07,34.9225,2,-999,9,285.44,-999,9,0.02,2,14.44,2,1,2,10.17,2,-999,9,-999,9,-999,9,-999,9,-999,9,-999
58JH20190515,515,1,2,20190523,405,12.7985,68.851,678,599.37,2.4,34.9565,2,-999,9,283.56,-999,9,0.03,2,13.72,2,0.91,2,6.62,2,-999,9,-999,9,-999,9,-999,9,-999,9,-999
58JH20190515,515,1,3,20190523,405,12.7985,68.851,678,498.58,4.62,35.045,2,-999,9,284.16,-999,9,0.03,2,12.34,2,0.82,2,5.28,2,-999,9,-999,9,-999,9,-999,9,-999,9,-999
58JH20190515,515,1,4,20190523,405,12.7985,68.851,678,397.56,5.28,35.0541,2,-999,9,284.99,-999,9,0.14,2,11.59,2,0.79,2,5.01,2,-999,9,-999,9,-999,9,-999,9,-999,9,-999
58JH20190515,515,1,5,20190523,405,12.7985,68.851,678,300.05,5.66,35.0567,2,-999,9,282.02,-999,9,0.06,2,11.7,2,0.78,2,4.86,2,-999,9,-999,9,-999,9,-999,9,-999,9,-999
58JH20190515,515,1,6,20190523,405,12.7985,68.851,678,197.62,5.95,35.0475,2,-999,9,283.56,-999,9,0.17,2,10.94,2,0.74,2,4.59,2,-999,9,-999,9,-999,9,-999,9,-999,9,-999
58JH20190515,515,1,7,20190523,405,12.7985,68.851,678,149.42,5.92,35.019,2,-999,9,286.21,-999,9,0.22,2,9.17,2,0.68,2,4.41,2,-999,9,-999,9,-999,9,-999,9,-999,9,-999
58JH20190515,515,1,8,20190523,405,12.7985,68.851,678,98.83,6.38,35.0615,2,-999,9,279.49,-999,9,0.19,2,10.11,2,0.73,2,4.47,2,-999,9,-999,9,-999,9,-999,9,-999,9,-999
58JH20190515,515,1,9,20190523,405,12.7985,68.851,678,73.86,6.46,35.0541,2,-999,9,276.37,-999,9,0.21,2,11.12,2,0.74,2,4.62,2,-999,9,-999,9,-999,9,-999,9,-999,9,-999
58JH20190515,515,1,10,20190523,405,12.7985,68.851,678,49.79,6.58,35.0514,2,-999,9,276.28,-999,9,0.3,2,9.87,2,0.7,2,4.29,2,-999,9,-999,9,-999,9,-999,9,-999,9,-999
58JH20190515,515,1,11,20190523,405,12.7985,68.851,678,31.01,6.63,34.9817,2,-999,9,286.02,-999,9,0.23,2,6.44,2,0.58,2,3.51,2,-999,9,-999,9,-999,9,-999,9,-999,9,-999
58JH20190515,515,1,12,20190523,405,12.7985,68.851,678,9.16,7.19,34.7211,2,-999,9,295.92,-999,9,0.12,2,2.67,2,0.38,2,1.86,2,-999,9,-999,9,-999,9,-999,9,-999,9,-999
58JH20190515,516,1,1,20190523,505,12.6302,68.9007,1385,1380.13,-0.75,34.9151,2,34.9151,2,281.96,293.58,2,-999,9,-999,9,-999,9,-999,9,0.859,2,0.456,2,-999,9,2304.47,2,7.6943,2,25
58JH20190515,516,1,2,20190523,505,12.6302,68.9007,1385,1199.96,-0.73,34.9149,2,-999,9,283.86,294.97,2,-999,9,-999,9,-999,9,-999,9,0.986,2,0.628,2,-999,9,2303.13,2,7.6709,3,25
58JH20190515,516,1,3,20190523,505,12.6302,68.9007,1385,1000.06,-0.65,34.9148,2,-999,9,285.61,295.58,2,-999,9,-999,9,-999,9,-999,9,1.143,2,0.732,2,-999,9,2302.67,2,7.693,2,25
58JH20190515,516,1,4,20190523,505,12.6302,68.9007,1385,800.05,-0.21,34.9181,2,34.9159,2,285.61,295.36,2,-999,9,-999,9,-999,9,-999,9,1.6,2,1.22,2,-999,9,2303.75,2,7.6853,2,25
58JH20190515,516,1,5,20190523,505,12.6302,68.9007,1385,500.38,4.25,35.0276,2,-999,9,283.12,293.23,2,-999,9,-999,9,-999,9,-999,9,2.481,2,2.991,2,-999,9,2310.73,2,7.7209,2,25
58JH20190515,516,1,6,20190523,505,12.6302,68.9007,1385,400.82,5.11,35.0469,2,35.0454,2,282.59,292.55,2,-999,9,-999,9,-999,9,-999,9,2.399,2,3,2,-999,9,2311.59,2,7.7317,2,25
58JH20190515,516,1,7,20190523,505,12.6302,68.9007,1385,300.24,5.61,35.0553,2,-999,9,283.45,-999,9,-999,9,-999,9,-999,9,-999,9,-999,9,-999,9,-999,9,-999,9,-999,9,-999
58JH20190515,516,1,8,20190523,505,12.6302,68.9007,1385,199.69,5.92,35.0501,2,-999,9,283.08,291.89,2,-999,9,-999,9,-999,9,-999,9,2.299,3,2.946,3,-999,9,2313.73,2,7.7504,2,25
58JH20190515,516,1,9,20190523,505,12.6302,68.9007,1385,101.19,6.38,35.0622,2,-999,9,279.67,288.81,2,-999,9,-999,9,-999,9,-999,9,2.273,2,2.905,2,-999,9,2315.41,2,7.7588,2,25
58JH20190515,516,1,10,20190523,505,12.6302,68.9007,1385,50.82,6.57,35.0274,2,35.0256,2,282.8,291.26,2,-999,9,-999,9,-999,9,-999,9,2.259,2,3.082,2,-999,9,2317.13,2,7.7924,2,25
58JH20190515,516,1,11,20190523,505,12.6302,68.9007,1385,30.19,7.03,34.8068,2,-999,9,293.74,303.29,2,-999,9,-999,9,-999,9,-999,9,2.3,2,3.107,2,-999,9,2312.45,2,7.8245,2,25
58JH20190515,516,1,12,20190523,505,12.6302,68.9007,1385,10.65,7.11,34.7272,2,-999,9,296.07,305.18,2,-999,9,-999,9,-999,9,-999,9,2.156,2,3.052,2,-999,9,2308.82,2,7.8264,2,25
58JH20190515,517,1,1,20190523,805,12.2848,69.0332,2665,2711.42,-0.77,34.9149,2,-999,9,277.61,297.96,2,0.04,2,14.39,3,0.94,2,10.86,3,1.071,3,0.803,3,-999,9,2303.22,2,7.6939,6,25
58JH20190515,517,1,2,20190523,805,12.2848,69.0332,2665,2499.73,-0.77,34.915,2,34.915,2,279.03,293.32,2,0.03,2,14.76,2,0.96,2,12.87,2,0.565,2,0.219,2,-999,9,2305.52,2,7.7036,3,25
58JH20190515,517,1,3,20190523,805,12.2848,69.0332,2665,1999.66,-0.71,34.9147,2,-999,9,283.15,295.79,2,0.02,2,14.42,2,0.94,2,11.45,2,0.855,2,0.695,2,-999,9,2302.58,2,7.6976,6,25
58JH20190515,517,1,4,20190523,805,12.2848,69.0332,2665,1501.16,-0.58,34.9131,2,-999,9,290.25,301.01,2,0.03,2,14.06,2,0.91,2,9.69,2,1.471,2,1.19,2,-999,9,2300.96,2,7.6954,2,25
58JH20190515,517,1,5,20190523,805,12.2848,69.0332,2665,1000.63,-0.22,34.9131,2,34.9212,2,294.2,302.97,2,0.03,2,13.47,2,0.88,2,7.43,2,2.214,2,2.101,2,-999,9,2303.25,2,7.6894,2,25
58JH20190515,517,1,6,20190523,805,12.2848,69.0332,2665,801.03,0.08,34.9123,2,-999,9,294.1,303.06,2,0.03,2,13.69,2,0.89,2,7,2,2.53,2,2.071,2,-999,9,2301.01,2,7.6735,2,25
58JH20190515,517,1,7,20190523,805,12.2848,69.0332,2665,501.13,4.56,35.0475,2,35.0447,2,285.74,295.84,2,0.01,2,11.91,2,0.77,2,5.11,2,2.448,2,3.038,2,-999,9,2312.2,2,7.7326,2,25
58JH20190515,517,1,8,20190523,805,12.2848,69.0332,2665,201.41,5.92,35.0653,2,-999,9,287.02,296.4,2,0.14,2,9.29,2,0.66,2,4.44,2,2.354,2,2.965,2,-999,9,2315.47,2,7.7617,2,25
58JH20190515,517,1,9,20190523,805,12.2848,69.0332,2665,100.24,6.03,35.0576,2,-999,9,281.47,289.89,2,0.09,2,11.05,2,0.73,2,4.61,2,2.325,2,3.141,2,-999,9,2313,2,7.7407,6,25
58JH20190515,517,1,10,20190523,805,12.2848,69.0332,2665,50.7,6.52,35.042,2,35.0424,2,297.97,306.43,2,0.15,2,5.91,2,0.49,2,3.54,2,2.328,2,3.099,2,-999,9,2319.35,2,7.7822,2,25
58JH20190515,517,1,11,20190523,805,12.2848,69.0332,2665,32.88,6.53,35.0416,2,-999,9,298.3,306.73,2,0.15,2,6.01,2,0.5,2,3.57,2,2.329,2,3.133,2,-999,9,2318.06,2,7.7935,2,25
58JH20190515,517,1,12,20190523,805,12.2848,69.0332,2665,10.6,6.55,35.0385,2,-999,9,297.7,306.69,2,0.15,2,6.1,2,0.49,2,3.64,2,2.339,2,3.033,2,-999,9,2317.42,2,7.7859,3,25
58JH20190515,518,1,1,20190523,1405,11.9447,69.1328,2871,2936.87,-0.75,34.9156,2,-999,9,277,-999,9,-999,9,-999,9,-999,9,-999,9,-999,9,-999,9,-999,9,-999,9,-999,9,-999
58JH20190515,519,1,1,20190523,1705,11.6147,69.2332,2931,2969.11,-0.75,34.9154,2,-999,9,277.2,294.71,2,0.04,2,-999,9,-999,9,12.37,2,0.705,2,0.527,2,-999,9,2307.48,2,7.7002,4,25
58JH20190515,519,1,2,20190523,1705,11.6147,69.2332,2931,2500.07,-0.75,34.9158,2,34.9126,2,280.82,294.49,2,0.08,2,14.48,2,0.99,2,12.4,2,0.623,2,0.434,2,-999,9,2302.76,2,7.7023,4,25
58JH20190515,519,1,3,20190523,1705,11.6147,69.2332,2931,1999.76,-0.71,34.915,2,-999,9,284.45,296.75,2,0.02,2,14.44,2,0.96,2,11.36,2,0.913,2,0.661,2,-999,9,2302.35,2,7.6984,4,25
58JH20190515,519,1,4,20190523,1705,11.6147,69.2332,2931,1501.01,-0.55,34.9133,2,34.9108,2,290.8,302.05,2,0.01,2,13.98,2,0.93,2,9.38,2,1.63,2,1.248,2,-999,9,2300.22,2,7.69,4,25
58JH20190515,519,1,5,20190523,1705,11.6147,69.2332,2931,1001.28,-0.01,34.9136,2,-999,9,292.72,301.89,2,0.04,2,12.79,2,0.86,2,6.54,2,2.436,2,2.044,2,-999,9,2302.51,2,7.681,4,25
58JH20190515,519,1,6,20190523,1705,11.6147,69.2332,2931,800.37,1.27,34.9357,2,-999,9,289.17,298.08,2,0.07,2,13.37,2,0.89,2,6.52,2,2.629,2,2.433,2,-999,9,2302.71,2,7.6764,4,25
58JH20190515,519,1,7,20190523,1705,11.6147,69.2332,2931,501.32,4.97,35.0586,2,-999,9,288.67,298.85,2,0.04,2,11.43,2,0.79,2,4.83,2,2.568,2,3.062,2,-999,9,2309.21,2,7.7334,4,25
58JH20190515,519,1,8,20190523,1705,11.6147,69.2332,2931,201.76,5.94,35.0354,2,35.0318,2,282.81,291.93,2,0.05,2,10.99,2,0.72,2,4.5,2,2.446,2,2.833,2,-999,9,2313.32,2,7.745,4,25
58JH20190515,519,1,9,20190523,1705,11.6147,69.2332,2931,102.21,6.27,35.0452,2,-999,9,281.7,290.12,2,0.13,2,10.25,2,0.7,2,4.54,2,2.334,2,3.061,2,-999,9,2313.49,2,7.7477,4,25
58JH20190515,519,1,10,20190523,1705,11.6147,69.2332,2931,51.7,6.67,34.9211,2,-999,9,295.92,303.81,2,0.13,2,3.89,2,0.38,2,2.45,2,2.348,2,2.989,2,-999,9,2315.89,2,7.8032,4,25
58JH20190515,519,1,11,20190523,1705,11.6147,69.2332,2931,30.37,6.66,34.9167,2,34.9141,2,296.49,304.77,2,0.15,2,3.83,2,-999,9,2.46,2,2.307,2,3.067,2,-999,9,2315.02,2,7.8139,4,25
58JH20190515,519,1,12,20190523,1705,11.6147,69.2332,2931,11.66,6.66,34.9167,2,-999,9,296.45,304.77,2,0.13,2,3.68,2,0.37,2,2.4,2,2.331,2,3.172,2,-999,9,2312.63,2,7.8152,3,25
58JH20190515,520,1,1,20190523,2105,10.9507,69.4847,2949,2990.03,-0.75,34.9156,2,34.9133,2,277.87,294.32,2,0.03,2,14.72,2,1,2,12.6,2,0.611,2,0.365,2,-999,9,2306.22,2,7.6956,4,25
58JH20190515,520,1,2,20190523,2105,10.9507,69.4847,2949,2501.33,-0.75,34.9161,2,-999,9,280.51,294.88,2,0.03,2,14.5,2,0.99,2,12.13,2,0.726,2,0.573,2,-999,9,2306.2,2,7.6994,4,25
58JH20190515,520,1,3,20190523,2105,10.9507,69.4847,2949,2001.27,-0.71,34.9153,2,-999,9,284.93,-390.97,4,0.03,2,14.4,2,0.97,2,11.07,2,0.96,2,0.901,2,-999,9,2304.77,2,7.7039,4,25
58JH20190515,520,1,4,20190523,2105,10.9507,69.4847,2949,1499.22,-0.53,34.9133,2,34.9267,2,291.63,302.36,2,0.04,2,13.54,2,0.91,2,8.48,2,1.704,2,1.538,2,-999,9,2302.34,2,7.6909,4,25
58JH20190515,520,1,5,20190523,2105,10.9507,69.4847,2949,998.63,0,34.9127,2,-999,9,295.07,305.01,2,0.03,2,13.55,2,0.9,2,6.91,2,2.503,2,2.206,2,-999,9,2302.16,2,7.6759,4,25
58JH20190515,520,1,6,20190523,2105,10.9507,69.4847,2949,801.1,1.21,34.9365,2,34.9369,2,286.68,297.56,2,-999,9,-999,9,-999,9,-999,9,2.4,2,2.166,2,-999,9,2303.57,2,7.6803,6,25
58JH20190515,520,1,7,20190523,2105,10.9507,69.4847,2949,500.16,5.29,35.0513,2,-999,9,281.98,292.73,2,0.04,2,11.61,2,0.77,2,4.94,2,2.434,2,2.957,2,-999,9,2312.83,2,7.7289,4,25
58JH20190515,520,1,8,20190523,2105,10.9507,69.4847,2949,199.97,6.69,35.0812,2,-999,9,278.28,287.34,2,0.04,2,11.08,2,0.73,2,4.47,2,-999,9,-999,9,-999,9,2314.01,2,7.7576,4,25
58JH20190515,520,1,9,20190523,2105,10.9507,69.4847,2949,99.8,6.9,35.0688,2,-999,9,275,284.01,2,0.06,2,11.05,2,0.72,2,4.29,2,2.218,2,3.021,2,-999,9,2313.82,2,7.7449,4,25
58JH20190515,520,1,10,20190523,2105,10.9507,69.4847,2949,49.7,6.81,35.011,2,-999,9,290.65,299.1,2,0.19,2,6.66,2,0.53,2,2.97,2,2.16,2,3.057,2,-999,9,2316.66,2,7.7824,4,25
58JH20190515,520,1,11,20190523,2105,10.9507,69.4847,2949,30.51,6.81,35.0113,2,35.0074,2,290.24,299.19,2,0.19,2,6.7,2,0.52,2,3.16,2,2.225,2,3.116,2,-999,9,2316.51,2,7.783,4,25
58JH20190515,520,1,12,20190523,2105,10.9507,69.4847,2949,10.51,6.81,35.0111,2,-999,9,290.13,299.36,2,0.18,2,6.69,2,0.52,2,3,2,2.249,2,2.906,2,-999,9,2315.14,2,7.784,4,25
58JH20190515,521,1,1,20190524,205,10.2642,69.7022,2930,2968.5,-0.75,34.9159,2,34.9132,2,278.22,294.4,2,0.03,2,14.74,2,0.97,2,12.22,2,0.656,2,0.453,2,-999,9,2303.94,2,7.7076,3,25
58JH20190515,521,1,2,20190524,205,10.2642,69.7022,2930,2501.66,-0.75,34.9163,2,-999,9,280.41,294.49,2,0.03,2,14.54,2,0.97,2,12.4,2,0.61,2,0.435,2,-999,9,2303.35,2,7.6992,3,25
58JH20190515,521,1,3,20190524,205,10.2642,69.7022,2930,2001.4,-0.71,34.9154,2,34.9129,2,283.68,296.84,2,0.04,2,14.08,2,1,2,11.3,2,0.863,2,0.677,2,-999,9,2301.17,2,7.6997,6,25
58JH20190515,521,1,4,20190524,205,10.2642,69.7022,2930,1500.1,-0.55,34.9134,2,-999,9,291.18,302.75,2,0.04,2,13.81,2,0.96,2,9.17,2,1.566,2,1.554,2,-999,9,2301.92,2,7.6919,4,25
58JH20190515,521,1,5,20190524,205,10.2642,69.7022,2930,1000.97,-0.12,34.9134,2,-999,9,294.59,304.49,2,0.05,2,13.46,2,0.93,2,7.26,2,2.263,2,2.182,2,-999,9,2303.11,2,7.6793,4,25
58JH20190515,521,1,6,20190524,205,10.2642,69.7022,2930,799.15,0.45,34.9167,2,-999,9,292.83,303.02,2,0.05,2,13.2,2,0.93,2,6.45,2,2.469,2,2.327,2,-999,9,2299.45,2,7.673,4,25
58JH20190515,521,1,7,20190524,205,10.2642,69.7022,2930,499.74,5.01,35.0519,2,-999,9,284.95,295.11,2,0.06,2,11.62,2,0.81,2,4.9,2,2.269,2,3.013,2,-999,9,2311.48,2,7.7315,4,25
58JH20190515,521,1,8,20190524,205,10.2642,69.7022,2930,200.92,6.12,35.065,2,35.0628,2,280.6,290.06,2,0.13,2,11.08,2,0.76,2,4.54,2,2.203,2,3.156,2,-999,9,2314.17,2,7.744,4,25
58JH20190515,521,1,9,20190524,205,10.2642,69.7022,2930,100.89,6.72,35.0827,2,-999,9,285.25,293.17,2,0.21,2,8,2,0.66,2,3.94,2,2.137,2,3.019,2,-999,9,2318.76,2,7.7619,4,25
58JH20190515,521,1,10,20190524,205,10.2642,69.7022,2930,52.14,6.8,35.0576,2,35.0549,2,291.84,300.83,2,0.16,2,6.41,2,0.55,2,3.03,2,2.19,2,3.154,2,-999,9,2320.1,2,7.7977,4,25
58JH20190515,521,1,11,20190524,205,10.2642,69.7022,2930,29.8,6.79,35.0577,2,-999,9,292.07,300.65,2,0.17,2,6.37,2,0.54,2,3,2,2.224,2,2.935,2,-999,9,2320.11,2,7.7888,4,25
58JH20190515,521,1,12,20190524,205,10.2642,69.7022,2930,10.28,6.79,35.0576,2,-999,9,291.8,-999,9,-999,9,-999,9,-999,9,-999,9,-999,9,-999,9,-999,9,-999,9,-999,9,-999