BOTTLE,,,,,,,,,,,,,,,,,,,,,,,,,,,,,,,,,,,,
EXPOCODE, STNNBR, CASTNO,BTLNBR, DATE,TIME,LONGITUDE, LATITUDE, MAXDEPTH, CTDPRS, CTDTMP, CTDSAL,CTDSAL_FLAG_W, SALNTY, SALNTY_FLAG_W, CTDOXY, OXYGEN, OXYGEN_FLAG_W, NITRIT, NITRIT_FLAG_W, NITRAT, NITRAT_FLAG_W, PHSPHT, PHSPHT_FLAG_W, SILCAT, SILCAT_FLAG_W, CFC12, CFC12_FLAG_W, SF6, SF6_FLAG_W, TCARBN, TCARBN_FLAG_W, ALKALI, ALKALI_FLAG_W, PH_TOT, PH_TOT_FLAG_W, PH_TEMP
,,,,,,,,meter,dbar,ITS-90,PSS-78,,PSS-78,,umol/kg,umol/kg,,umol/kg,,umol/kg,,umol/kg,,umol/kg,,pmol/kg,,fmol/kg,,umol/kg,,umol/kg,,,,degC
58JH20190515,544,1,1,20190528,1505,-1.587,73.4162,2882,2936.87,-0.72,34.9222,2,-999,9,280.09,-999,9,0.04,2,14.38,2,1.01,2,12.25,2,-999,9,-999,9,-999,9,-999,9,-999,9,-999
58JH20190515,544,1,2,20190528,1505,-1.587,73.4162,2882,2497.65,-0.74,34.9217,2,-999,9,282.3,-999,9,0.01,2,14.3,2,0.97,2,11.81,2,-999,9,-999,9,-999,9,-999,9,-999,9,-999
58JH20190515,544,1,3,20190528,1505,-1.587,73.4162,2882,1998.28,-0.68,34.9193,2,-999,9,285.22,-999,9,0.04,2,14.38,2,0.98,2,10.92,2,-999,9,-999,9,-999,9,-999,9,-999,9,-999
58JH20190515,544,1,4,20190528,1505,-1.587,73.4162,2882,1500.85,-0.52,34.9163,2,-999,9,300.19,-999,9,0.02,2,13.36,2,0.9,2,8.23,2,-999,9,-999,9,-999,9,-999,9,-999,9,-999
58JH20190515,544,1,5,20190528,1505,-1.587,73.4162,2882,1000.59,-0.3,34.9183,2,-999,9,310.36,-999,9,0.02,2,12.75,2,0.86,2,6.5,2,-999,9,-999,9,-999,9,-999,9,-999,9,-999
58JH20190515,544,1,6,20190528,1505,-1.587,73.4162,2882,798.61,-0.23,34.9166,2,-999,9,315.49,-999,9,0.02,2,12.01,2,0.84,2,6.06,2,-999,9,-999,9,-999,9,-999,9,-999,9,-999
58JH20190515,544,1,7,20190528,1505,-1.587,73.4162,2882,498.25,-0.14,34.9193,2,-999,9,317.51,-999,9,0.03,2,12.04,2,0.82,2,5.79,2,-999,9,-999,9,-999,9,-999,9,-999,9,-999
58JH20190515,544,1,8,20190528,1505,-1.587,73.4162,2882,197.33,-0.08,34.9122,2,-999,9,324.21,-999,9,0.05,2,11.69,2,0.81,2,5.56,2,-999,9,-999,9,-999,9,-999,9,-999,9,-999
58JH20190515,544,1,9,20190528,1505,-1.587,73.4162,2882,99.64,0.24,34.8946,2,-999,9,343.12,-999,9,0.05,2,9.33,2,0.7,2,5.23,2,-999,9,-999,9,-999,9,-999,9,-999,9,-999
58JH20190515,544,1,10,20190528,1505,-1.587,73.4162,2882,49.11,0.58,34.8943,2,-999,9,347.76,-999,9,0.07,2,8.07,2,0.65,2,5.23,2,-999,9,-999,9,-999,9,-999,9,-999,9,-999
58JH20190515,544,1,11,20190528,1505,-1.587,73.4162,2882,28.83,0.58,34.895,2,-999,9,348.38,-999,9,0.06,2,8.08,2,0.63,2,4.51,2,-999,9,-999,9,-999,9,-999,9,-999,9,-999
58JH20190515,544,1,12,20190528,1505,-1.587,73.4162,2882,8.56,0.58,34.895,2,-999,9,348.49,-999,9,0.25,2,7.96,2,0.64,2,4.6,2,-999,9,-999,9,-999,9,-999,9,-999,9,-999
58JH20190515,545,1,1,20190528,2005,-2.6675,73.7508,3020,3062.78,-0.72,34.9221,2,-999,9,279.95,295.49,2,0.02,2,14.54,2,1,2,12.35,2,0.396,2,0.309,2,-999,9,2301.16,2,7.716,2,25
58JH20190515,545,1,2,20190528,2005,-2.6675,73.7508,3020,2499.92,-0.73,34.9218,2,34.9179,2,281.73,-390.97,4,0.01,2,14.14,2,0.97,2,11.75,2,0.443,2,0.33,2,-999,9,2300.69,2,7.716,6,25
58JH20190515,545,1,3,20190528,2005,-2.6675,73.7508,3020,1997.55,-0.7,34.9192,2,-999,9,285.33,298.49,2,0.01,2,13.79,2,0.95,2,10.87,2,-999,9,-999,9,-999,9,2299.6,2,7.7109,2,25
58JH20190515,545,1,4,20190528,2005,-2.6675,73.7508,3020,1500.72,-0.55,34.9168,2,34.9141,2,297.83,309.65,2,0.01,2,13.16,2,0.97,2,8.53,2,1.412,2,1.718,2,-999,9,2299.97,2,7.7017,2,25
58JH20190515,545,1,5,20190528,2005,-2.6675,73.7508,3020,1000.12,-0.32,34.9186,2,-999,9,307.89,318.69,2,0.02,2,12.27,2,0.89,2,6.66,2,2.219,2,1.966,9,-999,9,2299.38,2,7.6879,2,25
58JH20190515,545,1,6,20190528,2005,-2.6675,73.7508,3020,798.78,-0.25,34.9171,2,-999,9,311.64,321.91,2,0.02,2,12,2,0.85,2,6.27,2,2.324,2,2.817,2,-999,9,2300.14,2,7.6893,2,25
58JH20190515,545,1,7,20190528,2005,-2.6675,73.7508,3020,499.1,-0.26,34.9101,2,-999,9,319.86,328.77,2,0.03,2,11.48,2,0.84,2,5.76,2,2.464,2,3.094,2,-999,9,2301.38,2,7.6923,2,25
58JH20190515,545,1,8,20190528,2005,-2.6675,73.7508,3020,200.59,-0.18,34.9084,2,34.9078,2,320.77,329.08,2,0.04,2,11.66,2,0.82,2,5.73,2,2.523,2,3.121,2,-999,9,2299.92,2,7.6915,2,25
58JH20190515,545,1,9,20190528,2005,-2.6675,73.7508,3020,100.75,-0.09,34.8951,2,-999,9,338.44,345.9,2,0.06,2,9.62,2,0.74,2,5.46,2,2.757,2,3.563,2,-999,9,2301.49,2,7.7126,2,25
58JH20190515,545,1,10,20190528,2005,-2.6675,73.7508,3020,51.1,0.33,34.8811,2,-999,9,358.13,367.07,2,0.06,2,5.69,2,0.54,2,4.61,2,2.89,2,3.802,2,-999,9,2302.43,2,7.7834,2,25
58JH20190515,545,1,11,20190528,2005,-2.6675,73.7508,3020,29.55,0.34,34.8806,2,-999,9,359.64,367.76,2,0.06,2,5.57,2,0.53,2,4.68,2,2.872,2,3.72,2,-999,9,2301.89,2,7.7885,2,25
58JH20190515,545,1,12,20190528,2005,-2.6675,73.7508,3020,10.02,0.34,34.8804,2,34.8784,2,360.46,368.41,2,0.07,2,5.62,2,0.52,2,4.74,2,2.906,2,3.722,2,-999,9,2304.02,2,7.7889,2,25
58JH20190515,546,1,1,20190529,105,-3.664,74.0827,2127,3540.9,-0.68,34.9215,2,34.9174,2,278.46,295.18,2,0.01,2,14.91,2,0.98,2,12.59,2,0.397,2,0.356,2,-999,9,2301.99,2,7.7178,3,25
58JH20190515,546,1,2,20190529,105,-3.664,74.0827,2127,2501.55,-0.7,34.9202,2,-999,9,283.09,297.14,2,0.01,2,14.32,2,0.99,2,11.32,2,0.604,2,0.494,2,-999,9,2300.09,2,7.7172,6,25
58JH20190515,546,1,3,20190529,105,-3.664,74.0827,2127,1999.21,-0.61,34.9187,2,-999,9,288.89,302.27,2,0.03,2,13.98,2,0.93,2,9.89,2,1.116,2,0.926,2,-999,9,2300.61,2,7.7051,2,25
58JH20190515,546,1,4,20190529,105,-3.664,74.0827,2127,1500.86,-0.45,34.9176,2,34.9149,2,300.36,312.39,2,0.01,2,12.86,2,0.9,2,7.75,2,1.997,2,1.69,2,-999,9,2298.63,2,7.6979,2,25
58JH20190515,546,1,5,20190529,105,-3.664,74.0827,2127,1001.33,-0.26,34.9178,2,-999,9,308.17,318.74,2,0.02,2,12.29,2,0.85,2,6.31,2,2.483,2,2.466,2,-999,9,2299.37,2,7.6915,2,25
58JH20190515,546,1,6,20190529,105,-3.664,74.0827,2127,801.4,-0.23,34.9155,2,34.9129,2,313.55,323.69,2,0.02,2,11.97,2,0.84,2,5.93,2,2.528,2,2.782,2,-999,9,2299.62,2,7.6892,2,25
58JH20190515,546,1,7,20190529,105,-3.664,74.0827,2127,499.75,-0.22,34.9105,2,-999,9,316.25,325.47,2,0.03,2,11.79,2,0.83,2,5.83,2,2.538,2,2.788,2,-999,9,2298.32,2,7.6921,2,25
58JH20190515,546,1,8,20190529,105,-3.664,74.0827,2127,201.29,-0.13,34.9032,2,-999,9,322.33,331.64,2,0.05,2,11.27,2,0.85,2,5.61,2,2.831,2,3.081,2,-999,9,2300.53,2,7.7002,2,25
58JH20190515,546,1,9,20190529,105,-3.664,74.0827,2127,100.97,-0.04,34.877,2,-999,9,347.01,355.59,2,0.11,2,7.82,2,0.66,2,4.44,2,3.035,2,3.423,2,-999,9,2301.03,2,7.7428,2,25
58JH20190515,546,1,10,20190529,105,-3.664,74.0827,2127,52.2,0.43,34.8669,2,34.8636,2,367.39,374.81,2,0.1,2,4.16,2,0.47,2,4.49,3,3.072,2,3.663,2,-999,9,2302.62,2,7.8317,2,25
58JH20190515,546,1,11,20190529,105,-3.664,74.0827,2127,29.07,0.43,34.8666,2,-999,9,367.49,375.07,2,0.09,2,4.08,2,0.48,2,4.64,2,3.103,2,3.763,2,-999,9,2303.04,2,7.824,2,25
58JH20190515,546,1,12,20190529,105,-3.664,74.0827,2127,11.09,0.43,34.8668,2,-999,9,366.87,375.2,2,0.09,2,4.21,2,0.45,2,4.65,2,3.003,2,3.698,2,-999,9,2302.78,2,7.8282,2,25
58JH20190515,547,1,1,20190529,705,-4.7473,74.5002,3502,3566.84,-0.68,34.9212,2,-999,9,279.08,294.79,2,0.03,2,14.13,2,0.96,2,12.67,2,-999,9,-999,9,2159.7,2,2299.08,2,-999,9,-999
58JH20190515,547,1,2,20190529,705,-4.7473,74.5002,3502,3567.61,-0.68,34.9212,2,34.916,2,279.01,295.23,2,0.03,2,14.5,2,0.98,2,12.65,2,0.419,2,0.227,2,-999,9,-999,9,7.7152,2,25
58JH20190515,547,1,3,20190529,705,-4.7473,74.5002,3502,2999.77,-0.71,34.9215,2,-999,9,280.73,295.88,2,0.03,2,14.07,2,0.95,2,12.19,2,0.446,2,0.341,2,2158.72,2,2299.51,2,-999,9,-999
58JH20190515,547,1,4,20190529,705,-4.7473,74.5002,3502,3001,-0.71,34.9215,2,-999,9,281.04,295.79,2,0.04,2,14.08,2,0.97,2,12.07,2,-999,9,-999,9,-999,9,-999,9,7.7168,2,25
58JH20190515,547,1,5,20190529,705,-4.7473,74.5002,3502,2501.48,-0.71,34.9198,2,-999,9,282.52,296.83,2,0.04,2,14.17,2,0.95,2,11.42,2,0.636,2,0.659,2,2162.66,2,2299.53,2,-999,9,-999
58JH20190515,547,1,6,20190529,705,-4.7473,74.5002,3502,2497.73,-0.71,34.9198,2,34.9136,2,283.42,296.7,2,0.05,2,14.27,2,0.99,2,11.47,2,0.634,2,0.458,2,-999,9,-999,9,7.7132,2,25
58JH20190515,547,1,7,20190529,705,-4.7473,74.5002,3502,2000.21,-0.62,34.9177,2,-999,9,289.86,302.66,2,0.02,2,14.04,2,0.91,2,9.94,2,1.212,2,1.052,2,2163.04,2,2298.98,2,-999,9,-999
58JH20190515,547,1,8,20190529,705,-4.7473,74.5002,3502,2001.47,-0.62,34.9176,2,-999,9,289.62,302.79,2,0.03,2,13.65,2,0.95,2,9.93,2,-999,9,-999,9,-999,9,-999,9,7.7097,6,25
58JH20190515,547,1,9,20190529,705,-4.7473,74.5002,3502,1499.47,-0.44,34.9174,2,-999,9,302.65,314.39,2,0.02,2,12.91,2,0.91,2,7.49,2,2.241,2,1.581,2,2167.7,2,2297.36,2,-999,9,-999
58JH20190515,547,1,10,20190529,705,-4.7473,74.5002,3502,1500.89,-0.44,34.9173,2,-999,9,302.36,314.39,2,0.01,2,13.11,2,0.89,2,7.49,2,2.301,2,1.863,2,-999,9,-999,9,7.6956,2,25
58JH20190515,547,1,11,20190529,705,-4.7473,74.5002,3502,1000.69,-0.25,34.9179,2,-999,9,309.81,320.26,2,0.04,2,12.36,2,0.88,2,6.27,2,2.729,2,2.636,2,2170.54,2,2298.34,2,-999,9,-999
58JH20190515,547,1,12,20190529,705,-4.7473,74.5002,3502,1000.25,-0.25,34.918,2,34.9173,2,309.19,320.26,2,0.01,2,12.31,2,0.86,2,6.24,2,-999,9,-999,9,-999,9,-999,9,7.6844,2,25
58JH20190515,548,1,1,20190529,905,-4.7372,74.4973,3502,500.67,-0.05,34.9218,2,-999,9,315.41,326.65,2,0.04,2,11.75,2,0.82,2,5.57,2,2.634,2,3.174,2,2168.57,2,2298.24,2,-999,9,-999
58JH20190515,548,1,2,20190529,905,-4.7372,74.4973,3502,500.31,-0.05,34.9218,2,34.9231,2,315.39,326.73,2,-999,9,-999,9,-999,9,-999,9,-999,9,-999,9,-999,9,-999,9,7.6917,2,25
58JH20190515,548,1,3,20190529,905,-4.7372,74.4973,3502,201.02,0.22,34.9299,2,-999,9,317.42,327.26,2,0.05,2,11.31,2,0.8,2,5.45,2,2.656,2,3.473,2,2169.22,2,2300.55,2,-999,9,-999
58JH20190515,548,1,4,20190529,905,-4.7372,74.4973,3502,200.23,0.22,34.9298,2,-999,9,317.26,327.39,2,-999,9,-999,9,-999,9,-999,9,2.605,2,3.154,2,-999,9,-999,9,7.698,2,25
58JH20190515,548,1,5,20190529,905,-4.7372,74.4973,3502,101.15,0.34,34.9265,2,-999,9,330.29,339.86,2,0.04,2,10.15,2,0.75,2,5.28,2,2.723,2,3.567,2,2162.77,2,2301.23,2,-999,9,-999
58JH20190515,548,1,6,20190529,905,-4.7372,74.4973,3502,101.25,0.34,34.9265,2,34.9236,2,330.77,339.81,2,-999,9,-999,9,-999,9,-999,9,-999,9,-999,9,-999,9,-999,9,7.7102,2,25
58JH20190515,548,1,7,20190529,905,-4.7372,74.4973,3502,51.51,0.2,34.8793,2,-999,9,328.02,337.7,2,0.06,2,9.38,2,0.75,2,5.12,2,2.557,2,3.486,2,2160.84,2,2298.19,2,-999,9,-999
58JH20190515,548,1,8,20190529,905,-4.7372,74.4973,3502,50.38,0.2,34.8789,2,34.8773,2,327.48,337.61,2,-999,9,-999,9,-999,9,-999,9,-999,9,-999,9,-999,9,-999,9,7.7222,2,25
58JH20190515,548,1,9,20190529,905,-4.7372,74.4973,3502,31.02,0.62,34.7463,2,-999,9,377.25,386.45,2,0.09,2,1.15,2,0.31,2,2.56,2,2.827,2,3.957,2,2086.27,2,2298.1,2,-999,9,-999
58JH20190515,548,1,10,20190529,905,-4.7372,74.4973,3502,31.17,0.63,34.7467,2,-999,9,377.33,386.23,2,-999,9,-999,9,-999,9,-999,9,2.859,2,3.429,2,-999,9,-999,9,7.8847,2,25
58JH20190515,548,1,11,20190529,905,-4.7372,74.4973,3502,10.52,0.63,34.7471,2,-999,9,379.01,388.88,2,0.12,2,1,2,0.3,2,2.62,2,2.909,2,3.936,2,2081.98,2,2296.45,2,-999,9,-999
58JH20190515,548,1,12,20190529,905,-4.7372,74.4973,3502,10.61,0.63,34.7469,2,-999,9,378.45,389.1,2,-999,9,-999,9,-999,9,-999,9,2.994,2,3.671,2,-999,9,-999,9,7.8899,2,25
58JH20190515,549,1,1,20190529,1305,-3.0047,74.5002,3587,3659.19,-0.67,34.9215,2,-999,9,278.38,295.05,2,0.02,2,14.64,2,1,2,12.64,2,0.422,2,0.503,2,2165.38,2,2304.08,2,7.7167,2,25
58JH20190515,549,1,2,20190529,1305,-3.0047,74.5002,3587,3001.87,-0.71,34.9217,2,34.9152,2,280.78,295.92,2,0.02,2,14.53,2,0.98,2,12.06,2,0.479,2,0.359,2,2158.17,2,2303.39,2,7.7168,3,25
58JH20190515,549,1,3,20190529,1305,-3.0047,74.5002,3587,2498.61,-0.69,34.9197,2,-999,9,283.27,297.31,2,0.03,2,13.95,2,0.98,2,11.29,2,0.683,2,0.441,2,2162.13,2,2302,2,7.7111,2,25
58JH20190515,549,1,4,20190529,1305,-3.0047,74.5002,3587,2001.28,-0.58,34.9169,2,-999,9,293.31,306.61,2,0.03,2,13.44,2,0.93,2,9.24,2,1.529,2,1.14,2,2165.75,2,2299.92,2,7.7055,2,25
58JH20190515,549,1,5,20190529,1305,-3.0047,74.5002,3587,1501.06,-0.37,34.9187,2,-999,9,302.41,314.69,2,0.03,2,12.62,2,0.89,2,7.35,2,2.333,2,1.846,2,2166.51,2,2300.95,2,7.6897,2,25
58JH20190515,549,1,6,20190529,1305,-3.0047,74.5002,3587,999.93,-0.2,34.9185,2,34.9145,2,314.62,326.21,2,0.02,2,11.71,2,0.82,2,5.84,2,2.713,2,2.337,2,2173.08,2,2300.01,2,7.6881,2,25
58JH20190515,549,1,7,20190529,1305,-3.0047,74.5002,3587,501.15,-0.03,34.9234,2,-999,9,317.66,326.99,2,0.03,2,11.56,2,0.8,2,5.45,2,2.775,2,3.075,2,2171.01,2,2300.96,2,7.6922,2,25
58JH20190515,549,1,8,20190529,1305,-3.0047,74.5002,3587,200.24,0.15,34.9242,2,34.9205,2,318.65,327.13,2,0.05,2,11.59,2,0.8,2,5.4,2,2.796,2,3.024,2,2172.18,2,2301.17,2,7.698,2,25
58JH20190515,549,1,9,20190529,1305,-3.0047,74.5002,3587,99.73,0.32,34.921,2,-999,9,335.26,343.81,2,0.05,2,9.9,2,0.75,2,5.27,2,2.938,2,3.358,2,2160.71,2,2301.67,2,7.7114,2,25
58JH20190515,549,1,10,20190529,1305,-3.0047,74.5002,3587,50.33,0.45,34.9118,2,34.9077,2,337.97,346.38,2,0.07,2,9.39,2,0.72,2,5.01,2,2.838,2,3.46,2,2156.96,2,2302.05,2,7.7271,2,25
58JH20190515,549,1,11,20190529,1305,-3.0047,74.5002,3587,30.7,0.55,34.8559,2,-999,9,352.61,365.34,2,0.08,2,5.5,2,0.54,2,3.66,2,2.936,2,3.858,2,2126.77,2,2299.25,2,7.7974,2,25
58JH20190515,549,1,12,20190529,1305,-3.0047,74.5002,3587,9.95,0.75,34.7559,2,-999,9,378.83,388.1,2,0.12,2,1.74,2,0.35,2,2.71,2,2.919,2,3.275,2,2093.34,2,2299.27,2,7.8706,2,25
58JH20190515,550,1,1,20190529,1905,-1.0018,74.501,3327,3380.33,-0.7,34.9212,2,-999,9,279.19,295.75,2,0.03,2,16.04,2,0.99,2,12.61,2,0.426,2,0.301,2,2156.93,2,2302.01,2,7.7157,2,25
58JH20190515,550,1,2,20190529,1905,-1.0018,74.501,3327,3000.5,-0.73,34.9213,2,-999,9,280.14,295.97,2,0.02,2,14.3,2,0.99,2,12.43,2,0.449,2,0.264,2,2165.55,2,2300.5,2,7.7162,2,25
58JH20190515,550,1,3,20190529,1905,-1.0018,74.501,3327,2500.96,-0.74,34.9209,2,34.9159,2,282.11,296.83,2,0.02,2,14.45,2,0.99,2,12.07,2,0.516,2,0.405,2,2163.06,2,2300.88,2,7.7157,2,25
58JH20190515,550,1,4,20190529,1905,-1.0018,74.501,3327,2001.21,-0.68,34.9186,2,-999,9,285.66,299.92,2,0.03,2,14.02,2,0.98,2,10.66,2,0.905,2,0.706,2,2162.48,2,2299.74,2,7.7121,2,25
58JH20190515,550,1,5,20190529,1905,-1.0018,74.501,3327,1501.49,-0.54,34.9158,2,-999,9,301.14,313.74,2,0.02,2,12.91,2,0.91,2,8.08,2,2.009,2,1.651,2,2166.89,2,2299.12,2,7.7006,2,25
58JH20190515,550,1,6,20190529,1905,-1.0018,74.501,3327,1000.43,-0.31,34.9188,2,34.9167,2,310.57,322.04,2,0.02,2,12.35,2,0.87,2,6.39,2,2.531,2,2.228,2,2172.04,2,2297.92,2,7.6877,6,25
58JH20190515,550,1,7,20190529,1905,-1.0018,74.501,3327,500.5,-0.09,34.918,2,-999,9,311.69,321.95,2,0.01,2,12.22,2,0.86,2,5.82,2,2.585,2,2.871,2,2171.7,2,2298.42,2,7.6884,2,25
58JH20190515,550,1,8,20190529,1905,-1.0018,74.501,3327,200.28,0.16,34.9204,2,34.9169,2,314.26,323.35,2,0.02,2,11.87,2,0.84,2,5.48,2,2.598,2,1.986,9,2175.03,2,2300.06,2,7.6888,2,25
58JH20190515,550,1,9,20190529,1905,-1.0018,74.501,3327,100.66,0.37,34.9165,2,-999,9,335.49,344.77,2,0.05,2,9.94,2,0.74,2,5.07,2,2.659,2,3.539,2,2172.97,2,2300.84,2,7.7064,2,25
58JH20190515,550,1,10,20190529,1905,-1.0018,74.501,3327,50.53,1.05,34.9365,2,-999,9,337.78,346.78,2,0.07,2,9.22,2,0.7,2,4.98,2,2.723,2,3.692,2,2166.24,2,2302.91,2,7.7284,2,25
58JH20190515,550,1,11,20190529,1905,-1.0018,74.501,3327,30.91,1.13,34.938,2,34.9362,2,339.49,348.86,2,0.15,2,8.94,2,0.68,2,4.96,2,2.636,2,3.633,2,2151.99,2,2301.71,2,7.7302,2,25
58JH20190515,550,1,12,20190529,1905,-1.0018,74.501,3327,10.17,1.37,34.9416,2,-999,9,336.45,347,2,0.06,2,9.02,2,0.69,2,4.83,2,2.68,2,3.392,2,2158.51,2,-999,9,-999,9,25
58JH20190515,551,1,1,20190529,2305,-0.0025,74.5017,3716,3790.61,-0.66,34.9216,2,34.9163,2,278.14,295.88,2,0.01,2,14.71,2,0.99,2,12.59,2,0.434,2,0.305,2,2165.1,2,2302.31,2,7.7178,3,25
58JH20190515,551,1,2,20190529,2305,-0.0025,74.5017,3716,3000.42,-0.7,34.9218,2,-999,9,281.03,296.79,2,0,2,14.47,2,1,2,11.93,2,0.512,2,0.442,2,2167.26,2,2301.41,2,7.7167,2,25
58JH20190515,551,1,3,20190529,2305,-0.0025,74.5017,3716,2498.69,-0.67,34.9197,2,-999,9,283.65,298.57,2,0,2,14.42,2,0.98,2,11.19,2,0.762,2,0.661,2,2175.72,2,2299.89,2,7.7099,2,25
58JH20190515,551,1,4,20190529,2305,-0.0025,74.5017,3716,1999.29,-0.58,34.9169,2,34.9111,2,293.55,307.57,2,0.01,2,13.62,2,0.94,2,9.28,2,1.443,2,0.955,2,2167.86,2,2300.07,2,7.7023,2,25
58JH20190515,551,1,5,20190529,2305,-0.0025,74.5017,3716,1499.99,-0.4,34.9186,2,-999,9,302.58,315.65,2,0.02,2,12.97,2,0.9,2,7.42,2,2.224,2,2.054,2,2184.34,2,2299.4,2,7.6928,2,25
58JH20190515,551,1,6,20190529,2305,-0.0025,74.5017,3716,1000.08,-0.24,34.9182,2,-999,9,308.95,320.73,2,0.03,2,12.57,2,0.89,2,6.4,2,2.556,2,2.495,2,2178.56,2,2297.65,2,7.6832,6,25
58JH20190515,551,1,7,20190529,2305,-0.0025,74.5017,3716,500.53,-0.08,34.9199,2,-999,9,318.97,329.29,2,0.03,2,11.79,2,0.82,2,5.45,2,2.702,2,3.116,2,2177.91,2,2298.16,2,7.6881,2,25
58JH20190515,551,1,8,20190529,2305,-0.0025,74.5017,3716,200.88,0.05,34.9152,2,34.9099,2,328.92,337.86,2,0.04,2,10.81,2,0.77,2,5.29,2,2.834,2,3.453,2,2172.74,2,2299.97,2,7.6959,2,25
58JH20190515,551,1,9,20190529,2305,-0.0025,74.5017,3716,100.97,0.68,34.9144,2,-999,9,337.53,346.38,2,0.07,2,9.39,2,0.71,2,5.01,2,2.864,2,3.674,2,2166.56,2,2299.03,2,7.7142,2,25
58JH20190515,551,1,10,20190529,2305,-0.0025,74.5017,3716,49.79,0.73,34.9154,2,-999,9,338.71,347.51,2,0.07,2,9.32,2,0.7,2,5.01,2,2.935,2,3.631,2,2169.22,2,2301.17,2,7.719,2,25
58JH20190515,551,1,11,20190529,2305,-0.0025,74.5017,3716,30.58,0.87,34.9167,2,-999,9,338.44,347.34,2,0.07,2,9.56,2,0.7,2,5,2,2.915,2,3.702,2,2164.21,2,2300.81,2,7.7168,2,25
58JH20190515,551,1,12,20190529,2305,-0.0025,74.5017,3716,10.55,0.88,34.9167,2,34.9131,2,338.93,347.3,2,0.06,2,9.68,2,0.7,2,5.05,2,2.993,2,3.782,2,2163.1,2,2299.81,2,7.7129,2,25
58JH20190515,552,1,1,20190530,305,0.9898,74.5002,3752,3832.69,-0.66,34.9216,2,34.9185,2,278.61,295.62,2,0.05,2,14.33,2,0.99,2,12.88,2,0.447,2,0.283,2,2166.49,2,2300.72,2,7.7149,2,25
58JH20190515,552,1,2,20190530,305,0.9898,74.5002,3752,2999.2,-0.71,34.9216,2,-999,9,280.93,296.79,2,0.03,2,14.27,2,0.99,2,12.18,2,0.494,2,0.487,2,2165.77,2,2299.2,2,7.7158,2,25
58JH20190515,552,1,3,20190530,305,0.9898,74.5002,3752,2500.38,-0.69,34.92,2,-999,9,282.97,297.7,2,0.02,2,14.09,2,0.99,2,11.51,2,0.67,2,-999,9,2166.62,2,2299.73,2,7.7103,2,25
58JH20190515,552,1,4,20190530,305,0.9898,74.5002,3752,1999.06,-0.6,34.9173,2,34.9109,2,291.65,305.66,2,0.01,2,13.27,2,0.95,2,9.61,2,1.365,2,1.203,2,2170.86,2,2299.97,2,7.7076,2,25
58JH20190515,552,1,5,20190530,305,0.9898,74.5002,3752,1500.53,-0.41,34.918,2,-999,9,301.03,314.13,2,0.02,2,12.74,2,0.9,2,7.67,2,2.41,2,1.8,2,2171.69,2,2298.76,2,7.6936,6,25
58JH20190515,552,1,6,20190530,305,0.9898,74.5002,3752,1001.07,-0.23,34.9176,2,34.9139,2,306.58,318.82,2,0.04,2,12.45,2,0.87,2,6.47,2,2.761,2,2.578,2,2176.37,2,2299.33,2,7.6831,2,25
58JH20190515,552,1,7,20190530,305,0.9898,74.5002,3752,500.03,0.08,34.9224,2,-999,9,318.88,328.82,2,0.03,2,11.55,2,0.81,2,5.36,2,2.992,2,3.067,2,2171.68,2,2299.01,2,7.6887,2,25
58JH20190515,552,1,8,20190530,305,0.9898,74.5002,3752,199.44,0.25,34.9116,2,-999,9,315.91,326.22,2,0.05,2,11.56,2,0.81,2,5.43,2,2.93,2,3.013,2,2171.75,2,2298.78,2,7.6892,2,25
58JH20190515,552,1,9,20190530,305,0.9898,74.5002,3752,99.94,1.55,34.9543,2,-999,9,328.05,338.66,3,0.08,2,9.66,2,0.71,2,5.06,2,2.995,2,3.44,2,2160.25,2,2304.04,2,7.7264,2,25
58JH20190515,552,1,10,20190530,305,0.9898,74.5002,3752,50.32,1.88,34.965,2,34.9604,2,324.4,334.32,2,0.08,2,9.73,2,0.72,2,5.13,2,2.967,2,3.465,2,2161.75,2,2302.61,2,7.7296,2,25
58JH20190515,552,1,11,20190530,305,0.9898,74.5002,3752,31.09,2.59,34.9926,2,-999,9,316.75,327.08,2,0.09,2,10,2,0.73,2,5.13,2,-999,9,-999,9,2159.38,2,2304.87,2,7.7368,2,25
58JH20190515,552,1,12,20190530,305,0.9898,74.5002,3752,10.02,2.72,34.9973,2,-999,9,317.15,326.95,2,0.09,2,10.09,2,0.72,2,5.13,2,2.702,2,3.089,2,2160.35,2,2304.77,2,7.7493,2,25