BOTTLE,,,,,,,,,,,,,,,,,,,,,,,,,,,,,,,,,,,,,,
EXPOCODE, STNNBR, CASTNO,SAMPNO,BTLNBR, DATE, TIME, LONGITUDE, LATITUDE, MAXDEPTH, CTDPRS, CTDTMP, CTDSAL, CTDSAL_FLAG_W, SALNTY, SALNTY_FLAG_W, CTDOXY, CTDOXY_FLAG_W, OXYGEN, OXYGEN_FLAG_W, NITRIT, NITRIT_FLAG_W, NITRAT, NITRAT_FLAG_W, PHSPHT, PHSPHT_FLAG_W, SILCAT, SILCAT_FLAG_W, CFC12, CFC12_FLAG_W, SF6, SF6_FLAG_W, TCARBN, TCARBN_FLAG_W, ALKALI, ALKALI_FLAG_W, PH_TOT, PH_FLAG_W, PH_TEMP
, , ,, , , , , , meter, dbar, ITS-90, PSS-78, , PSS-78, , umol/kg, , umol/kg, , umol/kg, , umol/kg, , umol/kg, , umol/kg, , pmol/kg,  , fmol/kg,  , umol/kg, , umol/kg, , , , degC
58JH20220524,498,1,106,1,20220530,2105,19.682333,72.000833,309,302.42,5.072,35.014,2,-999,9,296.59,2,-999,9,0.15,2,10.45,2,0.72,2,4.78,2,1.973874,2,3.324453,2.00E+00,2159.72,2,2311.14,2,-999,9,-999
58JH20220524,498,1,107,2,20220530,2105,19.682333,72.000833,309,250.06,5.208,35.009,2,-999,9,300.17,2,-999,9,0.2,2,10.13,2,0.7,2,4.44,2,-999,9,-999,9.00E+00,2157.71,2,2308.99,2,-999,9,-999
58JH20220524,498,1,108,3,20220530,2105,19.682333,72.000833,309,201.01,5.207,35.001,2,-999,9,299.77,2,-999,9,0.18,2,9.91,2,0.69,2,4.25,2,2.021638,2,3.557863,2.00E+00,2154.19,2,2309.91,2,-999,9,-999
58JH20220524,498,1,109,4,20220530,2105,19.682333,72.000833,309,150.28,5.25,34.99,2,-999,9,300.56,2,-999,9,0.18,2,9.72,2,0.68,2,4.04,2,-999,9,-999,9.00E+00,2155.2,2,2308.14,2,-999,9,-999
58JH20220524,498,1,110,5,20220530,2105,19.682333,72.000833,309,125.14,5.381,35,2,-999,9,298.36,2,-999,9,0.23,2,10.04,2,0.7,2,4.36,2,-999,9,-999,9.00E+00,2155.5,2,2311.12,2,-999,9,-999
58JH20220524,498,1,111,6,20220530,2105,19.682333,72.000833,309,100.44,5.463,35.008,2,-999,9,297.7,2,-999,9,0.27,2,10.25,2,0.71,2,4.53,2,2.019984,2,3.306803,2.00E+00,2154.94,2,2308.03,2,-999,9,-999
58JH20220524,498,1,112,7,20220530,2105,19.682333,72.000833,309,75.23,5.46,35,2,-999,9,300.84,2,-999,9,0.19,2,9.75,2,0.69,2,4.29,2,-999,9,-999,9.00E+00,2152.7,2,2309.56,2,-999,9,-999
58JH20220524,498,1,113,8,20220530,2105,19.682333,72.000833,309,49.77,5.442,34.988,2,-999,9,301.01,2,-999,9,0.17,2,9.32,2,0.66,2,4.03,2,2.054898,2,3.5864,2.00E+00,2150.65,2,2308.18,2,-999,9,-999
58JH20220524,498,1,114,9,20220530,2105,19.682333,72.000833,309,29.84,5.479,34.983,2,-999,9,314.69,2,-999,9,0.12,2,8.7,2,0.62,2,3.88,2,-999,9,-999,9.00E+00,2147.71,2,2308.08,2,-999,9,-999
58JH20220524,498,1,115,10,20220530,2105,19.682333,72.000833,309,20.3,6.616,34.896,2,-999,9,324.37,2,-999,9,0.1,2,4.66,2,0.44,2,3.57,2,-999,9,-999,9.00E+00,2120.4,2,2310.36,2,-999,9,-999
58JH20220524,498,1,116,11,20220530,2105,19.682333,72.000833,309,9.97,6.662,34.892,2,-999,9,324.72,2,-999,9,0.11,2,4.28,2,0.42,2,3.58,2,2.043252,2,3.140898,2.00E+00,2116.64,2,2311.53,2,-999,9,-999
58JH20220524,498,1,117,12,20220530,2105,19.682333,72.000833,309,5.14,6.662,34.892,2,-999,9,324.8,2,-999,9,0.12,2,4.35,2,0.43,2,3.6,2,-999,9,-999,9.00E+00,2118.14,2,2311.87,2,-999,9,-999
58JH20220524,499,1,118,1,20220531,5,19.616167,72.251333,324,321.27,4.985,35.01,2,-999,9,295.53,2,296.01,2,0.13,2,10.53,2,0.72,2,4.95,2,-999,9,-999,9.00E+00,-999,9,-999,9,-999,9,-999
58JH20220524,499,1,119,2,20220531,5,19.616167,72.251333,324,300.44,5.017,35.008,2,-999,9,297.44,2,296.97,2,0.14,2,10.36,2,0.72,2,4.8,2,-999,9,-999,9.00E+00,-999,9,-999,9,-999,9,-999
58JH20220524,499,1,120,3,20220531,5,19.616167,72.251333,324,250.06,5.203,35.009,2,-999,9,298.95,2,300.49,2,0.18,2,10.08,2,0.7,2,4.51,2,-999,9,-999,9.00E+00,-999,9,-999,9,-999,9,-999
58JH20220524,499,1,121,4,20220531,5,19.616167,72.251333,324,200.77,5.212,34.998,2,-999,9,299.64,2,300.76,2,0.18,2,9.9,2,0.69,2,4.22,2,-999,9,-999,9.00E+00,-999,9,-999,9,-999,9,-999
58JH20220524,499,1,122,5,20220531,5,19.616167,72.251333,324,150.54,5.525,35.023,2,-999,9,296.42,2,297.72,2,0.17,2,10.59,2,0.71,2,4.59,2,-999,9,-999,9.00E+00,-999,9,-999,9,-999,9,-999
58JH20220524,499,1,123,6,20220531,5,19.616167,72.251333,324,100.24,5.6,35.018,2,-999,9,295.81,2,296.68,2,0.2,2,10.35,2,0.7,2,4.53,2,-999,9,-999,9.00E+00,-999,9,-999,9,-999,9,-999
58JH20220524,499,1,124,7,20220531,5,19.616167,72.251333,324,75.26,5.716,35.012,2,-999,9,295.41,2,297.51,2,0.21,2,9.9,2,0.68,2,4.42,2,-999,9,-999,9.00E+00,-999,9,-999,9,-999,9,-999
58JH20220524,499,1,125,8,20220531,5,19.616167,72.251333,324,49.8,5.764,34.994,2,-999,9,304.05,2,299.34,2,0.18,2,9.46,2,0.67,2,4.22,2,-999,9,-999,9.00E+00,-999,9,-999,9,-999,9,-999
58JH20220524,499,1,126,9,20220531,5,19.616167,72.251333,324,30.11,6.338,34.981,2,-999,9,316.22,2,319.01,2,0.1,2,6.29,2,0.5,2,3.86,2,-999,9,-999,9.00E+00,-999,9,-999,9,-999,9,-999
58JH20220524,499,1,127,10,20220531,5,19.616167,72.251333,324,19.58,6.389,34.983,2,-999,9,316.51,2,331.66,3,0.11,2,6.14,2,0.5,2,3.82,2,-999,9,-999,9.00E+00,-999,9,-999,9,-999,9,-999
58JH20220524,499,1,128,11,20220531,5,19.616167,72.251333,324,9.99,6.405,34.984,2,-999,9,316.87,2,320.54,2,0.1,2,6.19,2,0.49,2,3.84,2,-999,9,-999,9.00E+00,-999,9,-999,9,-999,9,-999
58JH20220524,499,1,129,12,20220531,5,19.616167,72.251333,324,5.12,6.402,34.984,2,-999,9,316.65,2,319.8,2,0.11,2,6.25,2,0.5,2,3.94,2,-999,9,-999,9.00E+00,-999,9,-999,9,-999,9,-999
58JH20220524,500,1,130,1,20220531,305,19.566667,72.500333,389,391.61,3.07,34.958,2,-999,9,306.82,2,-999,9,0.05,2,11.1,2,0.75,2,5.26,2,2.191257,2,3.785411,2.00E+00,2168.32,2,2303.58,2,-999,9,-999
58JH20220524,500,1,131,2,20220531,305,19.566667,72.500333,389,300.42,4.855,35.031,2,-999,9,298.13,2,-999,9,0.11,2,10.61,2,0.72,2,4.67,2,2.045634,2,3.49731,2.00E+00,2163.24,2,2307.94,2,-999,9,-999
58JH20220524,500,1,132,3,20220531,305,19.566667,72.500333,389,250.16,5.171,35.033,2,-999,9,298.73,2,-999,9,0.15,2,10.4,2,0.72,2,4.62,2,-999,9,-999,9.00E+00,-999,9,-999,9,-999,9,-999
58JH20220524,500,1,133,4,20220531,305,19.566667,72.500333,389,200.22,5.32,35.026,2,-999,9,298.52,2,-999,9,0.23,2,10.15,2,0.7,2,4.6,2,1.992603,2,3.558071,2.00E+00,2155.58,2,2307.95,2,-999,9,-999
58JH20220524,500,1,134,5,20220531,305,19.566667,72.500333,389,150.28,5.419,35.026,2,-999,9,299.36,2,-999,9,0.21,2,10.15,2,0.7,2,4.62,2,-999,9,-999,9.00E+00,-999,9,-999,9,-999,9,-999
58JH20220524,500,1,135,6,20220531,305,19.566667,72.500333,389,100.72,5.539,35.027,2,-999,9,299.07,2,-999,9,0.26,2,9.94,2,0.69,2,4.61,2,1.990969,2,3.475381,2.00E+00,2155.57,2,2309.31,2,-999,9,-999
58JH20220524,500,1,136,7,20220531,305,19.566667,72.500333,389,75.02,5.593,35.027,2,-999,9,302.36,2,-999,9,0.22,2,9.74,2,0.68,2,4.5,2,-999,9,-999,9.00E+00,-999,9,-999,9,-999,9,-999
58JH20220524,500,1,137,8,20220531,305,19.566667,72.500333,389,50.19,6.127,34.999,2,-999,9,313.06,2,-999,9,0.14,2,7.76,2,0.56,2,4.18,2,2.011448,2,3.810859,2.00E+00,2143.88,2,2310.73,2,-999,9,-999
58JH20220524,500,1,138,9,20220531,305,19.566667,72.500333,389,30.46,6.441,34.977,2,-999,9,315.71,2,-999,9,0.12,2,6.24,2,0.5,2,3.82,2,-999,9,-999,9.00E+00,-999,9,-999,9,-999,9,-999
58JH20220524,500,1,139,10,20220531,305,19.566667,72.500333,389,20.22,6.547,34.963,2,-999,9,314.2,2,-999,9,0.12,2,6.23,2,0.5,2,3.84,2,-999,9,-999,9.00E+00,-999,9,-999,9,-999,9,-999
58JH20220524,500,1,140,11,20220531,305,19.566667,72.500333,389,10.21,6.587,34.954,2,-999,9,314.5,2,-999,9,0.13,2,6.36,2,0.51,2,3.85,2,2.002406,2,3.670438,2.00E+00,2131.14,2,2310.44,2,-999,9,-999
58JH20220524,500,1,141,12,20220531,305,19.566667,72.500333,389,4.66,6.591,34.953,2,-999,9,314.31,2,-999,9,0.13,2,6.38,2,0.53,2,3.95,2,-999,9,-999,9.00E+00,-999,9,-999,9,-999,9,-999
58JH20220524,501,1,142,1,20220531,705,19.515333,72.7495,397,394.57,2.852,34.95,2,-999,9,306.79,2,-999,9,0.05,2,10.91,2,0.76,2,5.43,2,-999,9,-999,9.00E+00,2170.85,2,2305.3,2,-999,9,-999
58JH20220524,501,1,143,2,20220531,705,19.515333,72.7495,397,300.45,4.363,35.02,2,-999,9,302.69,2,-999,9,0.13,2,10.49,2,0.71,2,4.68,2,-999,9,-999,9.00E+00,2162.29,2,2307.41,2,-999,9,-999
58JH20220524,501,1,144,3,20220531,705,19.515333,72.7495,397,249.52,4.675,35.027,2,-999,9,299.11,2,-999,9,0.16,2,10.35,2,0.71,2,4.56,2,-999,9,-999,9.00E+00,2160.38,2,2308.45,2,-999,9,-999
58JH20220524,501,1,145,4,20220531,705,19.515333,72.7495,397,200.37,5.031,35.036,2,-999,9,299.84,2,-999,9,0.14,2,10.2,2,0.7,2,4.59,2,-999,9,-999,9.00E+00,2158.98,2,2309.39,2,-999,9,-999
58JH20220524,501,1,146,5,20220531,705,19.515333,72.7495,397,150.1,5.123,35.027,2,-999,9,302.82,2,-999,9,0.14,2,9.42,2,0.66,2,3.65,2,-999,9,-999,9.00E+00,2154.91,2,2310.42,2,-999,9,-999
58JH20220524,501,1,147,6,20220531,705,19.515333,72.7495,397,100.85,5.328,35.039,2,-999,9,300.51,2,-999,9,0.19,2,10.21,2,0.7,2,4.62,2,-999,9,-999,9.00E+00,2158.41,2,2310.9,2,-999,9,-999
58JH20220524,501,1,148,7,20220531,705,19.515333,72.7495,397,75.27,5.368,35.038,2,-999,9,300.47,2,-999,9,0.2,2,10.26,2,0.7,2,4.62,2,-999,9,-999,9.00E+00,2156.06,2,2309.83,2,-999,9,-999
58JH20220524,501,1,149,8,20220531,705,19.515333,72.7495,397,50.23,5.513,35.033,2,-999,9,305.69,2,-999,9,0.18,2,9.66,2,0.68,2,4.33,2,-999,9,-999,9.00E+00,2153.65,2,2311.35,2,-999,9,-999
58JH20220524,501,1,150,9,20220531,705,19.515333,72.7495,397,30.59,6.147,35.021,2,-999,9,315.82,2,-999,9,0.16,2,7.6,2,0.56,2,3.88,2,-999,9,-999,9.00E+00,2138.01,2,2312.87,2,-999,9,-999
58JH20220524,501,1,151,10,20220531,705,19.515333,72.7495,397,20.58,6.31,35.024,2,-999,9,331.35,2,-999,9,0.15,2,5.32,2,0.45,2,3.38,2,-999,9,-999,9.00E+00,2129.43,2,2314.47,2,-999,9,-999
58JH20220524,501,1,152,11,20220531,705,19.515333,72.7495,397,10.68,6.425,35.025,2,-999,9,337.9,2,-999,9,0.16,2,4.76,2,0.44,2,3.32,2,-999,9,-999,9.00E+00,2124.21,2,2315.52,2,-999,9,-999
58JH20220524,501,1,153,12,20220531,705,19.515333,72.7495,397,5.46,6.437,35.024,2,-999,9,337.75,2,-999,9,0.16,2,4.91,2,0.44,2,3.35,2,-999,9,-999,9.00E+00,2125.17,2,2314.32,2,-999,9,-999
58JH20220524,502,1,154,1,20220531,905,19.4655,73.000333,412,419.42,2.948,34.956,2,-999,9,304.35,2,-999,9,0.04,2,10.74,2,0.77,2,5.6,2,2.209667,2,3.514204,2.00E+00,2171.22,2,2305.2,2,-999,9,-999
58JH20220524,502,1,155,2,20220531,905,19.4655,73.000333,412,400.64,2.962,34.956,2,-999,9,304.44,2,-999,9,0.04,2,10.95,2,0.77,2,5.6,2,2.226719,2,3.306268,2.00E+00,2170.52,2,2304.89,2,-999,9,-999
58JH20220524,502,1,156,3,20220531,905,19.4655,73.000333,412,300.64,4.484,35.033,2,-999,9,300.73,2,-999,9,0.07,2,11.07,2,0.75,2,4.86,2,2.115539,2,2.847548,2.00E+00,2160.64,2,2308.38,2,-999,9,-999
58JH20220524,502,1,157,4,20220531,905,19.4655,73.000333,412,200.44,5.005,35.042,2,-999,9,299.31,2,-999,9,0.17,2,10.37,2,0.72,2,4.65,2,2.083538,2,3.160255,2.00E+00,2157.52,2,2308.88,2,-999,9,-999
58JH20220524,502,1,158,5,20220531,905,19.4655,73.000333,412,150.24,5.136,35.035,2,-999,9,302.04,2,-999,9,0.16,2,9.98,2,0.7,2,4.35,2,-999,9,-999,9.00E+00,-999,9,-999,9,-999,9,-999
58JH20220524,502,1,159,6,20220531,905,19.4655,73.000333,412,99.97,5.327,35.039,2,-999,9,297.77,2,-999,9,0.19,2,10.35,2,0.72,2,4.64,2,2.084736,2,2.834491,2.00E+00,2155.29,2,2310.01,2,-999,9,-999
58JH20220524,502,1,160,7,20220531,905,19.4655,73.000333,412,74.06,5.37,35.037,2,-999,9,299,2,-999,9,0.2,2,10.24,2,0.71,2,4.67,2,-999,9,-999,9.00E+00,-999,9,-999,9,-999,9,-999
58JH20220524,502,1,161,8,20220531,905,19.4655,73.000333,412,49.59,5.496,35.033,2,-999,9,309.65,2,-999,9,0.23,2,10.06,2,0.7,2,4.6,2,2.068918,2,2.758149,2.00E+00,2154.96,2,2309.44,2,-999,9,-999
58JH20220524,502,1,162,9,20220531,905,19.4655,73.000333,412,30.12,6.088,35.025,2,-999,9,329.12,2,-999,9,0.16,2,5.89,2,0.5,2,2.96,2,-999,9,-999,9.00E+00,-999,9,-999,9,-999,9,-999
58JH20220524,502,1,163,10,20220531,905,19.4655,73.000333,412,20.44,6.392,35.024,2,-999,9,334.84,2,-999,9,0.14,2,4.6,2,0.41,2,2.79,2,2.112519,2,2.893958,2.00E+00,-999,9,-999,9,-999,9,-999
58JH20220524,502,1,164,11,20220531,905,19.4655,73.000333,412,9.86,6.617,34.999,2,-999,9,318.66,2,-999,9,0.13,2,4.57,2,0.44,2,3.24,2,-999,9,-999,9.00E+00,2122.01,2,2315.36,2,-999,9,-999
58JH20220524,502,1,165,12,20220531,905,19.4655,73.000333,412,5.25,6.903,34.971,2,-999,9,317.58,2,-999,9,0.13,2,5.49,2,0.49,2,3.78,2,-999,9,-999,9.00E+00,-999,9,-999,9,-999,9,-999
58JH20220524,503,1,166,1,20220531,1305,19.397333,73.251333,452,447.92,2.811,34.952,2,-999,9,308.35,2,-999,9,0.04,2,10.66,2,0.75,2,5.49,2,2.130648,2,3.574235,2.00E+00,2168.74,2,2304.98,2,-999,9,-999
58JH20220524,503,1,167,2,20220531,1305,19.397333,73.251333,452,399.46,3.695,35,2,-999,9,305.78,2,-999,9,0.09,2,10.36,2,0.73,2,4.9,2,2.075653,2,3.669536,2.00E+00,2161.78,2,2307.81,2,-999,9,-999
58JH20220524,503,1,168,3,20220531,1305,19.397333,73.251333,452,299.8,4.298,35.019,2,-999,9,306.29,2,-999,9,0.15,2,9.67,2,0.7,2,4.43,2,2.035167,2,3.658294,2.00E+00,2157.7,6,2308.98,2,-999,9,-999
58JH20220524,503,1,169,4,20220531,1305,19.397333,73.251333,452,200.17,4.617,35.029,2,-999,9,302.06,2,-999,9,0.13,2,10.34,2,0.72,2,4.52,2,2.111304,2,3.567335,2.00E+00,2157.33,2,2308.55,2,-999,9,-999
58JH20220524,503,1,170,5,20220531,1305,19.397333,73.251333,452,150.08,4.724,35.03,2,-999,9,302.69,2,-999,9,0.17,2,9.85,2,0.7,2,4.23,2,-999,9,-999,9.00E+00,-999,9,-999,9,-999,9,-999
58JH20220524,503,1,171,6,20220531,1305,19.397333,73.251333,452,100.11,4.864,35.035,2,-999,9,311.62,2,-999,9,0.15,2,9.54,2,0.7,2,3.99,2,2.116421,2,3.536331,2.00E+00,2156.06,2,2310.41,2,-999,9,-999
58JH20220524,503,1,172,7,20220531,1305,19.397333,73.251333,452,75.15,4.988,35.037,2,-999,9,314.72,2,-999,9,0.13,2,8.39,2,0.67,2,2.74,2,-999,9,-999,9.00E+00,-999,9,-999,9,-999,9,-999
58JH20220524,503,1,173,8,20220531,1305,19.397333,73.251333,452,50.56,5.253,35.036,2,-999,9,315.87,2,-999,9,0.14,2,7.6,2,0.6,2,2.37,2,2.071717,2,3.648016,2.00E+00,2145.38,2,2314.16,2,-999,9,-999
58JH20220524,503,1,174,9,20220531,1305,19.397333,73.251333,452,30.19,5.494,35.036,2,-999,9,334.78,2,-999,9,0.15,2,7.32,2,0.58,2,2.76,2,-999,9,-999,9.00E+00,2142.52,2,2311.98,2,-999,9,-999
58JH20220524,503,1,175,10,20220531,1305,19.397333,73.251333,452,20.24,5.842,35.032,2,-999,9,359.33,2,-999,9,0.15,2,5.29,2,0.49,2,2.42,2,-999,9,-999,9.00E+00,-999,9,-999,9,-999,9,-999
58JH20220524,503,1,176,11,20220531,1305,19.397333,73.251333,452,10.74,6.385,35.03,2,-999,9,360.1,2,-999,9,0.13,2,2.45,2,0.33,2,1.95,2,2.051014,2,3.681527,2.00E+00,2097.59,2,2318.74,2,-999,9,-999
58JH20220524,503,1,177,12,20220531,1305,19.397333,73.251333,452,4.88,6.623,35.031,2,-999,9,358.52,2,-999,9,0.13,2,1.95,2,0.31,2,2.32,2,-999,9,-999,9.00E+00,-999,9,-999,9,-999,9,-999
58JH20220524,504,1,178,1,20220531,1605,19.331667,73.5005,478,477.08,2.319,34.931,2,-999,9,315.76,2,-999,9,0.09,2,10.23,2,0.73,2,5.27,2,2.3587,2,3.283691,2.00E+00,2170.31,2,2305.47,2,-999,9,-999
58JH20220524,504,1,179,2,20220531,1605,19.331667,73.5005,478,399.86,3.312,34.989,2,-999,9,309.15,2,-999,9,0.11,2,10.05,2,0.72,2,4.78,2,2.260421,2,3.716721,2.00E+00,2162.98,2,2306.29,2,-999,9,-999
58JH20220524,504,1,180,3,20220531,1605,19.331667,73.5005,478,300.61,4.114,35.016,2,-999,9,307.44,2,-999,9,0.14,2,9.7,2,0.7,2,4.5,2,2.168972,2,3.331984,2.00E+00,2158.28,2,2311.02,2,-999,9,-999
58JH20220524,504,1,181,4,20220531,1605,19.331667,73.5005,478,200.5,4.527,35.03,2,-999,9,307.47,2,-999,9,0.13,2,9.52,2,0.68,2,3.97,2,2.132082,2,3.168042,2.00E+00,2158.3,2,2312.42,2,-999,9,-999
58JH20220524,504,1,182,5,20220531,1605,19.331667,73.5005,478,150.08,4.699,35.03,2,-999,9,306.84,2,-999,9,0.14,2,9.99,2,0.71,2,4.32,2,-999,9,-999,9.00E+00,2158.04,2,2311.48,2,-999,9,-999
58JH20220524,504,1,183,6,20220531,1605,19.331667,73.5005,478,99.88,5.023,35.041,2,-999,9,300.48,2,-999,9,0.18,2,10.4,2,0.71,2,4.53,2,2.077369,2,3.083604,2.00E+00,2156.72,2,2310.77,2,-999,9,-999
58JH20220524,504,1,184,7,20220531,1605,19.331667,73.5005,478,75.08,5.086,35.038,2,-999,9,301.17,2,-999,9,0.18,2,10.07,2,0.7,2,4.51,2,-999,9,-999,9.00E+00,2158.32,2,2311.34,2,-999,9,-999
58JH20220524,504,1,185,8,20220531,1605,19.331667,73.5005,478,49.74,5.135,35.034,2,-999,9,301.49,2,-999,9,0.16,2,9.92,2,0.7,2,4.47,2,2.066971,2,3.213729,2.00E+00,2154.24,2,2310.34,2,-999,9,-999
58JH20220524,504,1,186,9,20220531,1605,19.331667,73.5005,478,30.36,5.197,35.036,2,-999,9,327.64,2,-999,9,0.17,2,10.14,2,0.7,2,4.52,2,-999,9,-999,9.00E+00,2154.19,2,2309.48,2,-999,9,-999
58JH20220524,504,1,187,10,20220531,1605,19.331667,73.5005,478,20.23,5.644,35.031,2,-999,9,351.75,2,-999,9,0.14,2,7.36,2,0.57,2,3.34,2,-999,9,-999,9.00E+00,2141.39,2,2312.43,2,-999,9,-999
58JH20220524,504,1,188,11,20220531,1605,19.331667,73.5005,478,10.32,6.505,35.025,2,-999,9,350.68,2,-999,9,0.12,2,3.7,2,0.37,2,2.53,2,2.077123,2,3.437926,2.00E+00,2113.41,2,2316.46,2,-999,9,-999
58JH20220524,504,1,189,12,20220531,1605,19.331667,73.5005,478,5.24,6.657,35.021,2,-999,9,351.17,2,-999,9,0.12,2,2.7,2,0.32,2,2.59,2,-999,9,-999,9.00E+00,2107.98,2,2315.83,2,-999,9,-999
58JH20220524,505,1,190,1,20220531,2005,19.3005,73.667,349,345.98,2.349,34.917,2,-999,9,315.15,2,-999,9,0.12,2,10.21,2,0.75,2,4.74,2,-999,9,-999,9.00E+00,-999,9,-999,9,-999,9,-999
58JH20220524,505,1,191,2,20220531,2005,19.3005,73.667,349,298.88,2.466,34.919,2,-999,9,312.7,2,-999,9,0.11,2,10.64,2,0.75,2,4.89,2,-999,9,-999,9.00E+00,-999,9,-999,9,-999,9,-999
58JH20220524,505,1,192,3,20220531,2005,19.3005,73.667,349,248.92,3.492,34.973,2,-999,9,307.22,2,-999,9,0.11,2,10.25,2,0.73,2,4.43,2,-999,9,-999,9.00E+00,-999,9,-999,9,-999,9,-999
58JH20220524,505,1,193,4,20220531,2005,19.3005,73.667,349,199.07,3.918,34.973,2,-999,9,314.06,2,-999,9,0.12,2,10.6,2,0.74,2,4.5,2,-999,9,-999,9.00E+00,-999,9,-999,9,-999,9,-999
58JH20220524,505,1,194,5,20220531,2005,19.3005,73.667,349,149.21,4.68,35.035,2,-999,9,302.11,2,-999,9,0.15,2,10.45,2,0.72,2,4.53,2,-999,9,-999,9.00E+00,-999,9,-999,9,-999,9,-999
58JH20220524,505,1,195,6,20220531,2005,19.3005,73.667,349,98.55,5.055,35.05,2,-999,9,298.15,2,-999,9,0.13,2,10.54,2,0.73,2,4.71,2,-999,9,-999,9.00E+00,-999,9,-999,9,-999,9,-999
58JH20220524,505,1,196,7,20220531,2005,19.3005,73.667,349,73.46,5.124,35.031,2,-999,9,303.15,2,-999,9,0.17,2,9.87,2,0.7,2,4.43,2,-999,9,-999,9.00E+00,-999,9,-999,9,-999,9,-999
58JH20220524,505,1,197,8,20220531,2005,19.3005,73.667,349,49.53,5.038,34.986,2,-999,9,320.38,2,-999,9,0.15,2,8.15,2,0.61,2,3.81,2,-999,9,-999,9.00E+00,-999,9,-999,9,-999,9,-999
58JH20220524,505,1,198,9,20220531,2005,19.3005,73.667,349,28.84,5.306,34.988,2,-999,9,314.97,2,-999,9,0.14,2,7.65,2,0.57,2,3.8,2,-999,9,-999,9.00E+00,-999,9,-999,9,-999,9,-999
58JH20220524,505,1,199,10,20220531,2005,19.3005,73.667,349,19.19,6.122,35.019,2,-999,9,316.79,2,-999,9,0.16,2,8.06,2,0.6,2,4.3,2,-999,9,-999,9.00E+00,-999,9,-999,9,-999,9,-999
58JH20220524,505,1,200,11,20220531,2005,19.3005,73.667,349,9.24,6.667,35.012,2,-999,9,323.77,2,-999,9,0.16,2,7.59,2,0.59,2,4.2,2,-999,9,-999,9.00E+00,-999,9,-999,9,-999,9,-999
58JH20220524,505,1,201,12,20220531,2005,19.3005,73.667,349,3.84,6.697,35.016,2,-999,9,322.44,2,-999,9,0.14,2,6.5,2,-999,4,4.08,2,-999,9,-999,9.00E+00,-999,9,-999,9,-999,9,-999