BOTTLE,,,,,,,,,,,,,,,,,,,,,,,,,,,,,,,,,,,,,,
EXPOCODE, STNNBR, CASTNO,SAMPNO,BTLNBR, DATE, TIME, LONGITUDE, LATITUDE, MAXDEPTH, CTDPRS, CTDTMP, CTDSAL, CTDSAL_FLAG_W, SALNTY, SALNTY_FLAG_W, CTDOXY, CTDOXY_FLAG_W, OXYGEN, OXYGEN_FLAG_W, NITRIT, NITRIT_FLAG_W, NITRAT, NITRAT_FLAG_W, PHSPHT, PHSPHT_FLAG_W, SILCAT, SILCAT_FLAG_W, CFC12, CFC12_FLAG_W, SF6, SF6_FLAG_W, TCARBN, TCARBN_FLAG_W, ALKALI, ALKALI_FLAG_W, PH_TOT, PH_FLAG_W, PH_TEMP
, , ,, , , , , , meter, dbar, ITS-90, PSS-78, , PSS-78, , umol/kg, , umol/kg, , umol/kg, , umol/kg, , umol/kg, , umol/kg, , pmol/kg,  , fmol/kg,  , umol/kg, , umol/kg, , , , degC
58JH20220524,604,1,1283,1,20220616,406,-7.273,67.576167,2109,2119.49,-0.732,34.912,2,-999,9,294.31,2,-999,9,0.04,2,14.84,2,0.99,2,12.67,2,-999,9,-999,9.00E+00,-999,9,-999,9,-999,9,-999
58JH20220524,604,1,1284,2,20220616,406,-7.273,67.576167,2109,1799.22,-0.685,34.913,2,-999,9,296.99,2,-999,9,0.03,2,14.34,2,0.97,2,11.54,2,-999,9,-999,9.00E+00,-999,9,-999,9,-999,9,-999
58JH20220524,604,1,1285,3,20220616,406,-7.273,67.576167,2109,1498.72,-0.63,34.912,2,-999,9,299.12,2,-999,9,0.02,2,14.08,2,0.95,2,10.62,2,-999,9,-999,9.00E+00,-999,9,-999,9,-999,9,-999
58JH20220524,604,1,1286,4,20220616,406,-7.273,67.576167,2109,998.66,-0.362,34.91,2,-999,9,305.16,2,-999,9,0.03,2,13.13,2,0.91,2,8.28,2,-999,9,-999,9.00E+00,-999,9,-999,9,-999,9,-999
58JH20220524,604,1,1287,5,20220616,406,-7.273,67.576167,2109,798.59,-0.202,34.907,2,-999,9,305.99,2,-999,9,0.03,2,13.27,2,0.9,2,7.49,2,-999,9,-999,9.00E+00,-999,9,-999,9,-999,9,-999
58JH20220524,604,1,1288,6,20220616,406,-7.273,67.576167,2109,498.58,0.2,34.896,2,-999,9,306.21,2,-999,9,0.02,2,12.82,2,0.88,2,6.57,2,-999,9,-999,9.00E+00,-999,9,-999,9,-999,9,-999
58JH20220524,604,1,1289,7,20220616,406,-7.273,67.576167,2109,398.22,0.376,34.873,2,-999,9,309.9,2,-999,9,0.03,2,12.63,2,0.86,2,6.06,2,-999,9,-999,9.00E+00,-999,9,-999,9,-999,9,-999
58JH20220524,604,1,1290,8,20220616,406,-7.273,67.576167,2109,198,2.63,34.941,2,-999,9,313.75,2,-999,9,0.04,2,11.8,2,0.8,2,5.19,2,-999,9,-999,9.00E+00,-999,9,-999,9,-999,9,-999
58JH20220524,604,1,1291,9,20220616,406,-7.273,67.576167,2109,98.36,3.476,34.959,2,-999,9,308.97,2,-999,9,0.35,2,10.06,2,0.75,2,4.93,2,-999,9,-999,9.00E+00,-999,9,-999,9,-999,9,-999
58JH20220524,604,1,1292,10,20220616,406,-7.273,67.576167,2109,48.19,4.164,34.965,2,-999,9,334.64,2,-999,9,0.3,2,10.05,2,0.83,2,4.92,2,-999,9,-999,9.00E+00,-999,9,-999,9,-999,9,-999
58JH20220524,604,1,1293,11,20220616,406,-7.273,67.576167,2109,28.76,4.901,34.938,2,-999,9,342.38,2,-999,9,0.21,2,7.17,2,0.7,2,3.42,2,-999,9,-999,9.00E+00,-999,9,-999,9,-999,9,-999
58JH20220524,604,1,1294,12,20220616,406,-7.273,67.576167,2109,8.54,6.01,34.91,2,-999,9,323.76,2,-999,9,0.12,2,2.4,2,0.25,2,0.48,2,-999,9,-999,9.00E+00,-999,9,-999,9,-999,9,-999
58JH20220524,605,1,1295,1,20220616,706,-6.821,67.3955,2482,2517.39,-0.756,34.911,2,-999,9,292.87,2,-999,9,0.05,2,15.07,2,1,2,13.41,2,-999,9,-999,9.00E+00,-999,9,-999,9,-999,9,-999
58JH20220524,605,1,1296,2,20220616,706,-6.821,67.3955,2482,1998.11,-0.711,34.913,2,-999,9,295.86,2,-999,9,0.02,2,14.74,2,0.97,2,12.1,2,-999,9,-999,9.00E+00,-999,9,-999,9,-999,9,-999
58JH20220524,605,1,1297,3,20220616,706,-6.821,67.3955,2482,1498.08,-0.642,34.911,2,-999,9,298.89,2,-999,9,0.02,2,14.24,2,0.96,2,10.85,2,-999,9,-999,9.00E+00,-999,9,-999,9,-999,9,-999
58JH20220524,605,1,1298,4,20220616,706,-6.821,67.3955,2482,998.43,-0.376,34.91,2,-999,9,306.07,2,-999,9,0.04,2,13.36,2,0.91,2,8.34,2,-999,9,-999,9.00E+00,-999,9,-999,9,-999,9,-999
58JH20220524,605,1,1299,5,20220616,706,-6.821,67.3955,2482,799.33,-0.227,34.908,2,-999,9,306.58,2,-999,9,0.03,2,13.19,2,0.9,2,7.55,2,-999,9,-999,9.00E+00,-999,9,-999,9,-999,9,-999
58JH20220524,605,1,1300,6,20220616,706,-6.821,67.3955,2482,498.86,0.186,34.897,2,-999,9,307.39,2,-999,9,0.03,2,13.02,2,0.89,2,6.6,2,-999,9,-999,9.00E+00,-999,9,-999,9,-999,9,-999
58JH20220524,605,1,1301,7,20220616,706,-6.821,67.3955,2482,398.48,0.467,34.879,2,-999,9,309.98,2,-999,9,0.04,2,12.8,2,0.88,2,5.65,2,-999,9,-999,9.00E+00,-999,9,-999,9,-999,9,-999
58JH20220524,605,1,1302,8,20220616,706,-6.821,67.3955,2482,199.17,2.78,34.943,2,-999,9,309.09,2,-999,9,0.07,2,12.06,2,0.82,2,4.93,2,-999,9,-999,9.00E+00,-999,9,-999,9,-999,9,-999
58JH20220524,605,1,1303,9,20220616,706,-6.821,67.3955,2482,98.13,3.664,34.984,2,-999,9,308.72,2,-999,9,0.1,2,11.6,2,0.86,2,4.75,2,-999,9,-999,9.00E+00,-999,9,-999,9,-999,9,-999
58JH20220524,605,1,1304,10,20220616,706,-6.821,67.3955,2482,49,4.132,34.985,2,-999,9,313.34,2,-999,9,0.29,2,10.49,2,0.77,2,4.69,2,-999,9,-999,9.00E+00,-999,9,-999,9,-999,9,-999
58JH20220524,605,1,1305,11,20220616,706,-6.821,67.3955,2482,29.04,4.868,34.972,2,-999,9,334.34,2,-999,9,0.21,2,7.05,2,0.71,2,3,2,-999,9,-999,9.00E+00,-999,9,-999,9,-999,9,-999
58JH20220524,605,1,1306,12,20220616,706,-6.821,67.3955,2482,9.1,5.954,34.925,2,-999,9,333.34,2,-999,9,0.14,2,2.64,2,0.24,2,0.63,2,-999,9,-999,9.00E+00,-999,9,-999,9,-999,9,-999
58JH20220524,606,1,1307,1,20220616,1006,-6.363833,67.2115,2830,2874.93,-0.755,34.91,2,-999,9,292.13,2,-999,9,0.03,2,14.74,2,0.99,2,14.13,2,-999,9,-999,9.00E+00,-999,9,-999,9,-999,9,-999
58JH20220524,606,1,1308,2,20220616,1006,-6.363833,67.2115,2830,2498.79,-0.745,34.911,2,-999,9,293.47,2,-999,9,0.05,2,14.45,2,0.98,2,13.34,2,-999,9,-999,9.00E+00,-999,9,-999,9,-999,9,-999
58JH20220524,606,1,1309,3,20220616,1006,-6.363833,67.2115,2830,1998.46,-0.733,34.912,2,-999,9,295.37,2,-999,9,0.03,2,14.25,2,0.97,2,12.57,2,-999,9,-999,9.00E+00,-999,9,-999,9,-999,9,-999
58JH20220524,606,1,1310,4,20220616,1006,-6.363833,67.2115,2830,1498.62,-0.658,34.91,2,-999,9,298.71,2,-999,9,0.03,2,13.84,2,0.95,2,10.99,2,-999,9,-999,9.00E+00,-999,9,-999,9,-999,9,-999
58JH20220524,606,1,1311,5,20220616,1006,-6.363833,67.2115,2830,998.73,-0.409,34.909,2,-999,9,302.41,2,-999,9,0.04,2,13.4,2,0.92,2,9.07,2,-999,9,-999,9.00E+00,-999,9,-999,9,-999,9,-999
58JH20220524,606,1,1312,6,20220616,1006,-6.363833,67.2115,2830,798.81,-0.235,34.908,2,-999,9,303.37,2,-999,9,0.01,2,13.11,2,0.9,2,8.05,2,-999,9,-999,9.00E+00,-999,9,-999,9,-999,9,-999
58JH20220524,606,1,1313,7,20220616,1006,-6.363833,67.2115,2830,498.66,0.206,34.898,2,-999,9,305.75,2,-999,9,0.02,2,12.49,2,0.88,2,6.75,2,-999,9,-999,9.00E+00,-999,9,-999,9,-999,9,-999
58JH20220524,606,1,1314,8,20220616,1006,-6.363833,67.2115,2830,198.18,2.698,34.939,2,-999,9,312.43,2,-999,9,0.05,2,11.11,2,0.76,2,5.06,2,-999,9,-999,9.00E+00,-999,9,-999,9,-999,9,-999
58JH20220524,606,1,1315,9,20220616,1006,-6.363833,67.2115,2830,98.57,3.491,34.961,2,-999,9,311.57,2,-999,9,0.29,2,10.25,2,0.72,2,5,2,-999,9,-999,9.00E+00,-999,9,-999,9,-999,9,-999
58JH20220524,606,1,1316,10,20220616,1006,-6.363833,67.2115,2830,48.6,4.198,34.975,2,-999,9,315.77,2,-999,9,0.35,2,9.87,2,0.74,2,5.07,2,-999,9,-999,9.00E+00,-999,9,-999,9,-999,9,-999
58JH20220524,606,1,1317,11,20220616,1006,-6.363833,67.2115,2830,28.49,4.87,34.97,2,-999,9,335.5,2,-999,9,0.2,2,7.63,2,0.64,2,4.15,2,-999,9,-999,9.00E+00,-999,9,-999,9,-999,9,-999
58JH20220524,606,1,1318,12,20220616,1006,-6.363833,67.2115,2830,8.05,6.191,34.924,2,-999,9,323.9,2,-999,9,0.12,2,3.13,2,0.38,2,1.15,2,-999,9,-999,9.00E+00,-999,9,-999,9,-999,9,-999
58JH20220524,607,1,1319,1,20220616,1306,-5.9125,67.031167,3244,3261.66,-0.742,34.91,2,-999,9,291.32,2,-999,9,0.05,2,14.98,2,1,2,14.49,2,-999,9,-999,9.00E+00,-999,9,-999,9,-999,9,-999
58JH20220524,607,1,1320,2,20220616,1306,-5.9125,67.031167,3244,2499.07,-0.755,34.911,2,-999,9,293.74,2,-999,9,0.05,2,14.73,2,0.98,2,13.31,2,-999,9,-999,9.00E+00,-999,9,-999,9,-999,9,-999
58JH20220524,607,1,1321,3,20220616,1306,-5.9125,67.031167,3244,1998.53,-0.741,34.911,2,-999,9,295.48,2,-999,9,0.05,2,14.52,2,0.97,2,12.41,2,-999,9,-999,9.00E+00,-999,9,-999,9,-999,9,-999
58JH20220524,607,1,1322,4,20220616,1306,-5.9125,67.031167,3244,1498.33,-0.657,34.909,2,-999,9,298.47,2,-999,9,0.04,2,14.07,2,0.94,2,10.89,2,-999,9,-999,9.00E+00,-999,9,-999,9,-999,9,-999
58JH20220524,607,1,1323,5,20220616,1306,-5.9125,67.031167,3244,998.11,-0.415,34.908,2,-999,9,302.34,2,-999,9,0.03,2,13.8,2,0.93,2,8.95,2,-999,9,-999,9.00E+00,-999,9,-999,9,-999,9,-999
58JH20220524,607,1,1324,6,20220616,1306,-5.9125,67.031167,3244,798.99,-0.228,34.907,2,-999,9,302.08,2,-999,9,0.03,2,13.53,2,0.92,2,8.07,2,-999,9,-999,9.00E+00,-999,9,-999,9,-999,9,-999
58JH20220524,607,1,1325,7,20220616,1306,-5.9125,67.031167,3244,498.2,0.296,34.897,2,-999,9,301.93,2,-999,9,0.01,2,12.99,2,0.91,2,6.91,2,-999,9,-999,9.00E+00,-999,9,-999,9,-999,9,-999
58JH20220524,607,1,1326,8,20220616,1306,-5.9125,67.031167,3244,198.65,3.168,34.959,2,-999,9,309.63,2,-999,9,0.05,2,11.63,2,0.78,2,5.24,2,-999,9,-999,9.00E+00,-999,9,-999,9,-999,9,-999
58JH20220524,607,1,1327,9,20220616,1306,-5.9125,67.031167,3244,98.51,3.597,34.962,2,-999,9,311.44,2,-999,9,0.14,2,10.89,2,0.75,2,5.06,2,-999,9,-999,9.00E+00,-999,9,-999,9,-999,9,-999
58JH20220524,607,1,1328,10,20220616,1306,-5.9125,67.031167,3244,49.46,4.192,34.936,2,-999,9,318.01,2,-999,9,0.35,2,9.18,2,0.71,2,4.82,2,-999,9,-999,9.00E+00,-999,9,-999,9,-999,9,-999
58JH20220524,607,1,1329,11,20220616,1306,-5.9125,67.031167,3244,28.37,5.362,34.902,2,-999,9,323.51,2,-999,9,0.13,2,5.09,2,0.48,2,1.56,2,-999,9,-999,9.00E+00,-999,9,-999,9,-999,9,-999
58JH20220524,607,1,1330,12,20220616,1306,-5.9125,67.031167,3244,8.48,6.478,34.872,2,-999,9,328.8,2,-999,9,0.11,2,3.76,2,0.38,2,1.11,2,-999,9,-999,9.00E+00,-999,9,-999,9,-999,9,-999
58JH20220524,608,1,1331,1,20220616,1606,-5.455167,66.848667,3463,3518.32,-0.724,34.91,2,-999,9,290.76,2,293.68,2,0.02,2,15.06,2,1,2,14.53,2,-999,9,-999,9.00E+00,-999,9,-999,9,-999,9,-999
58JH20220524,608,1,1332,2,20220616,1606,-5.455167,66.848667,3463,2498.25,-0.757,34.911,2,-999,9,293.84,2,295.07,2,0.02,2,14.83,2,0.97,2,13.2,2,-999,9,-999,9.00E+00,-999,9,-999,9,-999,9,-999
58JH20220524,608,1,1333,3,20220616,1606,-5.455167,66.848667,3463,1998.13,-0.739,34.911,2,-999,9,295.76,2,296.72,2,0.01,2,14.52,2,0.96,2,12.3,2,-999,9,-999,9.00E+00,-999,9,-999,9,-999,9,-999
58JH20220524,608,1,1334,4,20220616,1606,-5.455167,66.848667,3463,1498.67,-0.645,34.909,2,-999,9,298.97,2,300.33,2,0.01,2,14.17,2,0.95,2,10.92,2,-999,9,-999,9.00E+00,-999,9,-999,9,-999,9,-999
58JH20220524,608,1,1335,5,20220616,1606,-5.455167,66.848667,3463,998.22,-0.366,34.908,2,-999,9,302.51,2,302.42,2,0.02,2,13.61,2,0.92,2,8.75,2,-999,9,-999,9.00E+00,-999,9,-999,9,-999,9,-999
58JH20220524,608,1,1336,6,20220616,1606,-5.455167,66.848667,3463,798.67,-0.188,34.907,2,-999,9,302.31,2,302.12,2,0.02,2,13.59,2,0.91,2,8.17,2,-999,9,-999,9.00E+00,-999,9,-999,9,-999,9,-999
58JH20220524,608,1,1337,7,20220616,1606,-5.455167,66.848667,3463,498.63,0.282,34.9,2,-999,9,301.44,2,303.3,2,0.02,2,13.39,2,0.89,2,6.95,2,-999,9,-999,9.00E+00,-999,9,-999,9,-999,9,-999
58JH20220524,608,1,1338,8,20220616,1606,-5.455167,66.848667,3463,197.96,3.247,34.961,2,-999,9,306.28,2,309.18,2,0.03,2,11.73,2,0.78,2,5.31,2,-999,9,-999,9.00E+00,-999,9,-999,9,-999,9,-999
58JH20220524,608,1,1339,9,20220616,1606,-5.455167,66.848667,3463,98.55,3.759,34.959,2,-999,9,309.03,2,313.1,2,0.41,2,10.3,2,0.73,2,5.09,2,-999,9,-999,9.00E+00,-999,9,-999,9,-999,9,-999
58JH20220524,608,1,1340,10,20220616,1606,-5.455167,66.848667,3463,48.49,5.239,34.942,2,-999,9,327.93,3,316.37,2,0.23,2,7.41,2,0.61,2,3.44,2,-999,9,-999,9.00E+00,-999,9,-999,9,-999,9,-999
58JH20220524,608,1,1341,11,20220616,1606,-5.455167,66.848667,3463,28.99,5.461,34.93,2,-999,9,331.93,3,323.51,2,0.13,2,5.66,2,0.5,2,2.32,2,-999,9,-999,9.00E+00,-999,9,-999,9,-999,9,-999
58JH20220524,608,1,1342,12,20220616,1606,-5.455167,66.848667,3463,8.59,6.989,34.892,2,-999,9,322.76,3,330.5,2,0.12,2,2.82,2,0.29,2,1.63,2,-999,9,-999,9.00E+00,-999,9,-999,9,-999,9,-999
58JH20220524,609,1,1343,1,20220616,2006,-5.000333,66.667,3597,3655.17,-0.709,34.91,2,-999,9,290.99,2,-999,9,0.01,2,15.19,2,0.99,2,14.58,2,-999,9,-999,9.00E+00,-999,9,-999,9,-999,9,-999
58JH20220524,609,1,1344,2,20220616,2006,-5.000333,66.667,3597,2498.66,-0.753,34.911,2,-999,9,294.15,2,-999,9,0.02,2,14.88,2,0.98,2,13.06,2,-999,9,-999,9.00E+00,-999,9,-999,9,-999,9,-999
58JH20220524,609,1,1345,3,20220616,2006,-5.000333,66.667,3597,1998.98,-0.736,34.911,2,-999,9,295.92,2,-999,9,0.05,2,14.63,2,0.97,2,12.33,2,-999,9,-999,9.00E+00,-999,9,-999,9,-999,9,-999
58JH20220524,609,1,1346,4,20220616,2006,-5.000333,66.667,3597,1497.99,-0.655,34.909,2,-999,9,298.78,2,-999,9,0.03,2,14.22,2,0.95,2,10.79,2,-999,9,-999,9.00E+00,-999,9,-999,9,-999,9,-999
58JH20220524,609,1,1347,5,20220616,2006,-5.000333,66.667,3597,998.91,-0.411,34.908,2,-999,9,302.21,2,-999,9,0.05,2,13.96,2,0.92,2,8.77,2,-999,9,-999,9.00E+00,-999,9,-999,9,-999,9,-999
58JH20220524,609,1,1348,6,20220616,2006,-5.000333,66.667,3597,798.47,-0.231,34.907,2,-999,9,302.6,2,-999,9,0.05,2,13.78,2,0.92,2,7.92,2,-999,9,-999,9.00E+00,-999,9,-999,9,-999,9,-999
58JH20220524,609,1,1349,7,20220616,2006,-5.000333,66.667,3597,498.79,0.227,34.901,2,-999,9,302.09,2,-999,9,0.05,2,13.6,2,0.9,2,6.83,2,-999,9,-999,9.00E+00,-999,9,-999,9,-999,9,-999
58JH20220524,609,1,1350,8,20220616,2006,-5.000333,66.667,3597,198.58,3.004,34.944,2,-999,9,310.61,2,-999,9,0.05,2,12.16,2,0.8,2,5.26,2,-999,9,-999,9.00E+00,-999,9,-999,9,-999,9,-999
58JH20220524,609,1,1351,9,20220616,2006,-5.000333,66.667,3597,97.86,3.445,34.921,2,-999,9,312.68,2,-999,9,0.3,2,10.46,2,0.72,2,4.74,2,-999,9,-999,9.00E+00,-999,9,-999,9,-999,9,-999
58JH20220524,609,1,1352,10,20220616,2006,-5.000333,66.667,3597,48.23,3.811,34.902,2,-999,9,318.81,2,-999,9,0.4,2,10.07,2,0.71,2,4.78,2,-999,9,-999,9.00E+00,-999,9,-999,9,-999,9,-999
58JH20220524,609,1,1353,11,20220616,2006,-5.000333,66.667,3597,28.15,5.556,34.903,2,-999,9,329.43,2,-999,9,0.25,2,6.7,2,0.6,2,3.16,2,-999,9,-999,9.00E+00,-999,9,-999,9,-999,9,-999
58JH20220524,609,1,1354,12,20220616,2006,-5.000333,66.667,3597,8.17,6.84,34.875,2,-999,9,317.97,2,-999,9,0.1,2,3.2,2,0.32,2,0.82,2,-999,9,-999,9.00E+00,-999,9,-999,9,-999,9,-999
58JH20220524,610,1,1355,1,20220617,6,-4.545167,66.485,2483,2601.65,-0.769,34.91,2,-999,9,293.04,2,-999,9,0.04,2,14.92,2,0.99,2,13.66,2,-999,9,-999,9.00E+00,-999,9,-999,9,-999,9,-999
58JH20220524,610,1,1356,2,20220617,6,-4.545167,66.485,2483,1998.83,-0.747,34.911,2,-999,9,294.93,2,-999,9,0.05,2,14.85,2,0.97,2,12.41,2,-999,9,-999,9.00E+00,-999,9,-999,9,-999,9,-999
58JH20220524,610,1,1357,3,20220617,6,-4.545167,66.485,2483,1498.53,-0.665,34.909,2,-999,9,298.18,2,-999,9,0.05,2,14.47,2,0.95,2,11.07,2,-999,9,-999,9.00E+00,-999,9,-999,9,-999,9,-999
58JH20220524,610,1,1358,4,20220617,6,-4.545167,66.485,2483,997.72,-0.417,34.909,2,-999,9,302.98,2,-999,9,0.04,2,13.87,2,0.92,2,8.97,2,-999,9,-999,9.00E+00,-999,9,-999,9,-999,9,-999
58JH20220524,610,1,1359,5,20220617,6,-4.545167,66.485,2483,798.87,-0.254,34.908,2,-999,9,303.69,2,-999,9,0.01,2,13.69,2,0.91,2,8.03,2,-999,9,-999,9.00E+00,-999,9,-999,9,-999,9,-999
58JH20220524,610,1,1360,6,20220617,6,-4.545167,66.485,2483,498.24,0.201,34.898,2,-999,9,304.99,2,-999,9,0.01,2,13.15,2,0.88,2,6.83,2,-999,9,-999,9.00E+00,-999,9,-999,9,-999,9,-999
58JH20220524,610,1,1361,7,20220617,6,-4.545167,66.485,2483,397.88,0.573,34.884,2,-999,9,305.12,2,-999,9,0.01,2,13.11,2,0.88,2,6.38,2,-999,9,-999,9.00E+00,-999,9,-999,9,-999,9,-999
58JH20220524,610,1,1362,8,20220617,6,-4.545167,66.485,2483,198.09,2.861,34.949,2,-999,9,312.84,2,-999,9,0.02,2,11.55,2,0.77,2,4.99,2,-999,9,-999,9.00E+00,-999,9,-999,9,-999,9,-999
58JH20220524,610,1,1363,9,20220617,6,-4.545167,66.485,2483,98.92,3.445,34.949,2,-999,9,313.71,2,-999,9,0.23,2,10.63,2,0.72,2,4.85,2,-999,9,-999,9.00E+00,-999,9,-999,9,-999,9,-999
58JH20220524,610,1,1364,10,20220617,6,-4.545167,66.485,2483,48.8,3.909,34.915,2,-999,9,315.14,2,-999,9,0.41,2,9.48,2,0.7,2,4.66,2,-999,9,-999,9.00E+00,-999,9,-999,9,-999,9,-999
58JH20220524,610,1,1365,11,20220617,6,-4.545167,66.485,2483,28.4,5.418,34.922,2,-999,9,323.41,2,-999,9,0.19,2,6.88,2,0.56,2,3.02,2,-999,9,-999,9.00E+00,-999,9,-999,9,-999,9,-999
58JH20220524,610,1,1366,12,20220617,6,-4.545167,66.485,2483,8.59,6.527,34.863,2,-999,9,324.15,2,-999,9,0.11,2,3.9,2,0.35,2,1.54,2,-999,9,-999,9.00E+00,-999,9,-999,9,-999,9,-999
58JH20220524,611,1,1367,1,20220617,306,-4.0915,66.302833,3342,3379.59,-0.733,34.91,2,-999,9,291.15,2,-999,9,0.05,2,15.04,2,1,2,14.68,2,-999,9,-999,9.00E+00,-999,9,-999,9,-999,9,-999
58JH20220524,611,1,1368,2,20220617,306,-4.0915,66.302833,3342,2498.72,-0.766,34.911,2,-999,9,293.7,2,-999,9,0.05,2,14.84,2,0.98,2,13.56,2,-999,9,-999,9.00E+00,-999,9,-999,9,-999,9,-999
58JH20220524,611,1,1369,3,20220617,306,-4.0915,66.302833,3342,1999.11,-0.749,34.911,2,-999,9,295.54,2,-999,9,0.05,2,14.52,2,0.97,2,12.64,2,-999,9,-999,9.00E+00,-999,9,-999,9,-999,9,-999
58JH20220524,611,1,1370,4,20220617,306,-4.0915,66.302833,3342,1498.09,-0.673,34.909,2,-999,9,298.51,2,-999,9,0.05,2,14.18,2,0.95,2,11.34,2,-999,9,-999,9.00E+00,-999,9,-999,9,-999,9,-999
58JH20220524,611,1,1371,5,20220617,306,-4.0915,66.302833,3342,998.07,-0.423,34.908,2,-999,9,302.49,2,-999,9,0.04,2,13.72,2,0.92,2,9.18,2,-999,9,-999,9.00E+00,-999,9,-999,9,-999,9,-999
58JH20220524,611,1,1372,6,20220617,306,-4.0915,66.302833,3342,798.6,-0.245,34.907,2,-999,9,302.68,2,-999,9,0.05,2,13.58,2,0.91,2,8.39,2,-999,9,-999,9.00E+00,-999,9,-999,9,-999,9,-999
58JH20220524,611,1,1373,7,20220617,306,-4.0915,66.302833,3342,498.72,0.225,34.9,2,-999,9,302.22,2,-999,9,0.05,2,13.35,2,0.9,2,7.24,2,-999,9,-999,9.00E+00,-999,9,-999,9,-999,9,-999
58JH20220524,611,1,1374,8,20220617,306,-4.0915,66.302833,3342,198.49,3.141,34.953,2,-999,9,309.88,2,-999,9,0.06,2,11.71,2,0.79,2,5.77,2,-999,9,-999,9.00E+00,-999,9,-999,9,-999,9,-999
58JH20220524,611,1,1375,9,20220617,306,-4.0915,66.302833,3342,98.87,3.63,34.941,2,-999,9,312.9,2,-999,9,0.52,2,9.82,2,0.71,2,5.51,2,-999,9,-999,9.00E+00,-999,9,-999,9,-999,9,-999
58JH20220524,611,1,1376,10,20220617,306,-4.0915,66.302833,3342,48.23,4.876,34.915,2,-999,9,317.79,2,-999,9,0.26,2,7.42,2,0.61,2,6.01,2,-999,9,-999,9.00E+00,-999,9,-999,9,-999,9,-999
58JH20220524,611,1,1377,11,20220617,306,-4.0915,66.302833,3342,28.04,5.68,34.912,2,-999,9,325.57,2,-999,9,0.13,2,5.18,2,0.47,2,1.98,2,-999,9,-999,9.00E+00,-999,9,-999,9,-999,9,-999
58JH20220524,611,1,1378,12,20220617,306,-4.0915,66.302833,3342,8.18,7.033,34.881,2,-999,9,321.67,2,-999,9,0.09,2,3.53,2,0.33,2,1.69,2,-999,9,-999,9.00E+00,-999,9,-999,9,-999,9,-999