BOTTLE,,,,,,,,,,,,,,,,,,,,,,,,,,,,,,,,,,,,,,
EXPOCODE, STNNBR, CASTNO,SAMPNO,BTLNBR, DATE, TIME, LONGITUDE, LATITUDE, MAXDEPTH, CTDPRS, CTDTMP, CTDSAL, CTDSAL_FLAG_W, SALNTY, SALNTY_FLAG_W, CTDOXY, CTDOXY_FLAG_W, OXYGEN, OXYGEN_FLAG_W, NITRIT, NITRIT_FLAG_W, NITRAT, NITRAT_FLAG_W, PHSPHT, PHSPHT_FLAG_W, SILCAT, SILCAT_FLAG_W, CFC12, CFC12_FLAG_W, SF6, SF6_FLAG_W, TCARBN, TCARBN_FLAG_W, ALKALI, ALKALI_FLAG_W, PH_TOT, PH_FLAG_W, PH_TEMP
, , ,, , , , , , meter, dbar, ITS-90, PSS-78, , PSS-78, , umol/kg, , umol/kg, , umol/kg, , umol/kg, , umol/kg, , umol/kg, , pmol/kg,  , fmol/kg,  , umol/kg, , umol/kg, , , , degC
58JH20220524,596,1,1187,1,20220614,2106,-5.936167,68.626333,3180,3222.3,-0.739,34.911,2,-999,9,291.07,2,286.52,3,0.02,2,15.14,2,1.01,2,14.06,2,-999,9,-999,9.00E+00,-999,9,-999,9,-999,9,-999
58JH20220524,596,1,1188,2,20220614,2106,-5.936167,68.626333,3180,2498.27,-0.711,34.912,2,-999,9,294.2,3,286.65,3,0.02,2,14.37,2,0.97,2,12.39,2,-999,9,-999,9.00E+00,-999,9,-999,9,-999,9,-999
58JH20220524,596,1,1189,3,20220614,2106,-5.936167,68.626333,3180,1999.25,-0.695,34.912,2,-999,9,296.06,2,290.04,3,0.04,2,14.51,2,0.97,2,11.71,2,-999,9,-999,9.00E+00,-999,9,-999,9,-999,9,-999
58JH20220524,596,1,1190,4,20220614,2106,-5.936167,68.626333,3180,1498.38,-0.594,34.91,2,-999,9,299.05,3,291.25,3,0.02,2,14.07,2,0.94,2,10.19,2,-999,9,-999,9.00E+00,-999,9,-999,9,-999,9,-999
58JH20220524,596,1,1191,5,20220614,2106,-5.936167,68.626333,3180,998.16,-0.304,34.91,2,-999,9,306.84,2,307.98,2,0.03,2,13.25,2,0.89,2,7.87,2,-999,9,-999,9.00E+00,-999,9,-999,9,-999,9,-999
58JH20220524,596,1,1192,6,20220614,2106,-5.936167,68.626333,3180,798.61,-0.144,34.907,2,-999,9,307.3,2,308.59,2,0.02,2,13.01,2,0.89,2,7.11,2,-999,9,-999,9.00E+00,-999,9,-999,9,-999,9,-999
58JH20220524,596,1,1193,7,20220614,2106,-5.936167,68.626333,3180,498.73,0.301,34.891,2,-999,9,308.24,2,-999,9,-999,9,-999,9,-999,9,-999,9,-999,9,-999,9.00E+00,-999,9,-999,9,-999,9,-999
58JH20220524,596,1,1194,8,20220614,2106,-5.936167,68.626333,3180,198.79,3.256,34.979,2,-999,9,309.57,2,307.35,2,0.06,2,11.37,2,0.77,2,4.91,2,-999,9,-999,9.00E+00,-999,9,-999,9,-999,9,-999
58JH20220524,596,1,1195,9,20220614,2106,-5.936167,68.626333,3180,97.58,3.956,35.014,2,-999,9,307.02,2,302.41,2,0.25,2,11.1,2,0.75,2,4.84,2,-999,9,-999,9.00E+00,-999,9,-999,9,-999,9,-999
58JH20220524,596,1,1196,10,20220614,2106,-5.936167,68.626333,3180,48.37,4.645,34.985,2,-999,9,319.15,2,319.47,2,0.27,2,10.48,2,0.75,2,4.84,2,-999,9,-999,9.00E+00,-999,9,-999,9,-999,9,-999
58JH20220524,596,1,1197,11,20220614,2106,-5.936167,68.626333,3180,27.84,5.079,34.977,2,-999,9,320.41,2,-999,9,0.18,2,6.51,2,0.54,2,3.29,2,-999,9,-999,9.00E+00,-999,9,-999,9,-999,9,-999
58JH20220524,596,1,1198,12,20220614,2106,-5.936167,68.626333,3180,8.67,5.939,34.964,2,-999,9,324.4,2,317.92,2,0.15,2,4.31,2,0.55,2,1.46,2,-999,9,-999,9.00E+00,-999,9,-999,9,-999,9,-999
58JH20220524,597,1,1199,1,20220615,806,-10.001,69.0825,2169,2171.77,-0.666,34.912,2,-999,9,287.55,2,289.82,2,0.02,2,15.11,2,1,2,14.5,2,-999,9,-999,9.00E+00,-999,9,-999,9,-999,9,-999
58JH20220524,597,1,1200,2,20220615,806,-10.001,69.0825,2169,1798.9,-0.667,34.912,2,-999,9,293.96,2,294.94,2,0.03,2,14.96,2,0.97,2,12.39,2,-999,9,-999,9.00E+00,-999,9,-999,9,-999,9,-999
58JH20220524,597,1,1201,3,20220615,806,-10.001,69.0825,2169,1498.31,-0.638,34.912,2,-999,9,297.08,2,298.42,2,0.02,2,14.43,2,0.95,2,11.11,2,-999,9,-999,9.00E+00,-999,9,-999,9,-999,9,-999
58JH20220524,597,1,1202,4,20220615,806,-10.001,69.0825,2169,997.57,-0.477,34.911,2,-999,9,301.15,2,301.81,2,0.01,2,14.03,2,0.92,2,9.24,2,-999,9,-999,9.00E+00,-999,9,-999,9,-999,9,-999
58JH20220524,597,1,1203,5,20220615,806,-10.001,69.0825,2169,797.92,-0.358,34.911,2,-999,9,301.88,2,302.25,2,0.02,2,13.64,2,0.91,2,8.47,2,-999,9,-999,9.00E+00,-999,9,-999,9,-999,9,-999
58JH20220524,597,1,1204,6,20220615,806,-10.001,69.0825,2169,498.63,-0.115,34.905,2,-999,9,304.13,2,304.6,2,0.02,2,13.37,2,0.89,2,7.21,2,-999,9,-999,9.00E+00,-999,9,-999,9,-999,9,-999
58JH20220524,597,1,1205,7,20220615,806,-10.001,69.0825,2169,397.74,-0.006,34.9,2,-999,9,305.08,2,306.64,2,0.03,2,13.08,2,0.89,2,6.74,2,-999,9,-999,9.00E+00,-999,9,-999,9,-999,9,-999
58JH20220524,597,1,1206,8,20220615,806,-10.001,69.0825,2169,198.72,0.235,34.868,2,-999,9,312.52,2,311.74,2,0.03,2,12.82,2,0.87,2,5.94,2,-999,9,-999,9.00E+00,-999,9,-999,9,-999,9,-999
58JH20220524,597,1,1207,9,20220615,806,-10.001,69.0825,2169,98.67,0.999,34.807,2,-999,9,332.8,2,332.53,2,0.09,2,9.88,2,0.7,2,4.19,2,-999,9,-999,9.00E+00,-999,9,-999,9,-999,9,-999
58JH20220524,597,1,1208,10,20220615,806,-10.001,69.0825,2169,48.68,0.992,34.728,2,-999,9,345.42,2,341.46,2,0.15,2,8.26,2,0.63,2,4.04,2,-999,9,-999,9.00E+00,-999,9,-999,9,-999,9,-999
58JH20220524,597,1,1209,11,20220615,806,-10.001,69.0825,2169,28.94,2.781,34.753,2,-999,9,346.39,2,346.8,2,0.1,2,6.99,2,0.56,2,3.1,2,-999,9,-999,9.00E+00,-999,9,-999,9,-999,9,-999
58JH20220524,597,1,1210,12,20220615,806,-10.001,69.0825,2169,8.4,3.448,34.678,2,-999,9,340.83,3,348.32,2,0.05,2,4.74,2,0.44,2,3.27,2,-999,9,-999,9.00E+00,-999,9,-999,9,-999,9,-999
58JH20220524,598,1,1211,1,20220615,1206,-10.001,68.666667,2068,2086.9,-0.672,34.912,2,-999,9,287.54,2,-999,9,0.02,2,15.15,2,1.01,2,14.43,2,-999,9,-999,9.00E+00,-999,9,-999,9,-999,9,-999
58JH20220524,598,1,1212,2,20220615,1206,-10.001,68.666667,2068,1798.63,-0.675,34.912,2,-999,9,293.04,2,-999,9,0.02,2,14.57,2,0.98,2,12.55,2,-999,9,-999,9.00E+00,-999,9,-999,9,-999,9,-999
58JH20220524,598,1,1213,3,20220615,1206,-10.001,68.666667,2068,1497.95,-0.644,34.911,2,-999,9,296.63,2,-999,9,0.02,2,14.39,2,0.96,2,11.34,2,-999,9,-999,9.00E+00,-999,9,-999,9,-999,9,-999
58JH20220524,598,1,1214,4,20220615,1206,-10.001,68.666667,2068,998.32,-0.475,34.91,2,-999,9,300.86,2,-999,9,0.02,2,13.93,2,0.94,2,9.24,2,-999,9,-999,9.00E+00,-999,9,-999,9,-999,9,-999
58JH20220524,598,1,1215,5,20220615,1206,-10.001,68.666667,2068,799.34,-0.362,34.91,2,-999,9,303.72,2,-999,9,0.02,2,13.44,2,0.91,2,8.37,2,-999,9,-999,9.00E+00,-999,9,-999,9,-999,9,-999
58JH20220524,598,1,1216,6,20220615,1206,-10.001,68.666667,2068,498.5,-0.131,34.904,2,-999,9,304.64,2,-999,9,0.04,2,13.63,2,0.9,2,7.31,2,-999,9,-999,9.00E+00,-999,9,-999,9,-999,9,-999
58JH20220524,598,1,1217,7,20220615,1206,-10.001,68.666667,2068,397.42,-0.025,34.9,2,-999,9,304.78,2,-999,9,0.04,2,13.53,2,0.89,2,6.82,2,-999,9,-999,9.00E+00,-999,9,-999,9,-999,9,-999
58JH20220524,598,1,1218,8,20220615,1206,-10.001,68.666667,2068,199.48,0.242,34.863,2,-999,9,320.39,2,-999,9,0.02,2,13.04,2,0.87,2,5.87,2,-999,9,-999,9.00E+00,-999,9,-999,9,-999,9,-999
58JH20220524,598,1,1219,9,20220615,1206,-10.001,68.666667,2068,98.16,0.453,34.714,2,-999,9,344.82,2,-999,9,0.18,2,8.75,2,0.65,2,3.77,2,-999,9,-999,9.00E+00,-999,9,-999,9,-999,9,-999
58JH20220524,598,1,1220,10,20220615,1206,-10.001,68.666667,2068,48.51,0.867,34.673,2,-999,9,351.29,2,-999,9,0.14,2,7.6,2,0.62,2,3.83,2,-999,9,-999,9.00E+00,-999,9,-999,9,-999,9,-999
58JH20220524,598,1,1221,11,20220615,1206,-10.001,68.666667,2068,27.86,2.578,34.64,2,-999,9,348.84,2,-999,9,0.09,2,6.29,2,0.56,2,3.84,2,-999,9,-999,9.00E+00,-999,9,-999,9,-999,9,-999
58JH20220524,598,1,1222,12,20220615,1206,-10.001,68.666667,2068,7.85,4.043,34.619,2,-999,9,337.59,2,-999,9,0.06,2,4.18,2,-999,4,3.42,2,-999,9,-999,9.00E+00,-999,9,-999,9,-999,9,-999
58JH20220524,599,1,1223,1,20220615,1506,-9.548167,68.4855,2106,2127.97,-0.665,34.913,2,-999,9,292.19,2,-999,9,0.02,2,14.97,2,0.99,2,13,2,-999,9,-999,9.00E+00,-999,9,-999,9,-999,9,-999
58JH20220524,599,1,1224,2,20220615,1506,-9.548167,68.4855,2106,1797.02,-0.638,34.912,2,-999,9,296.21,2,-999,9,0.01,2,14.37,2,0.95,2,11.69,2,-999,9,-999,9.00E+00,-999,9,-999,9,-999,9,-999
58JH20220524,599,1,1225,3,20220615,1506,-9.548167,68.4855,2106,1497.99,-0.602,34.912,2,-999,9,298.21,2,-999,9,0,2,14.1,2,0.95,2,10.87,2,-999,9,-999,9.00E+00,-999,9,-999,9,-999,9,-999
58JH20220524,599,1,1226,4,20220615,1506,-9.548167,68.4855,2106,999.14,-0.41,34.91,2,-999,9,301.11,2,-999,9,0,2,13.83,2,0.92,2,8.98,2,-999,9,-999,9.00E+00,-999,9,-999,9,-999,9,-999
58JH20220524,599,1,1227,5,20220615,1506,-9.548167,68.4855,2106,797.95,-0.278,34.909,2,-999,9,303.08,2,-999,9,0.01,2,13.57,2,0.91,2,8.08,2,-999,9,-999,9.00E+00,-999,9,-999,9,-999,9,-999
58JH20220524,599,1,1228,6,20220615,1506,-9.548167,68.4855,2106,497.56,-0.037,34.9,2,-999,9,305.23,2,-999,9,0.01,2,12.89,2,0.89,2,6.96,2,-999,9,-999,9.00E+00,-999,9,-999,9,-999,9,-999
58JH20220524,599,1,1229,7,20220615,1506,-9.548167,68.4855,2106,398.45,0.067,34.893,2,-999,9,305.97,2,-999,9,0.01,2,13.13,2,0.89,2,6.59,2,-999,9,-999,9.00E+00,-999,9,-999,9,-999,9,-999
58JH20220524,599,1,1230,8,20220615,1506,-9.548167,68.4855,2106,198.22,0.723,34.854,2,-999,9,318.73,2,-999,9,0.02,2,11.95,2,0.84,2,5.58,2,-999,9,-999,9.00E+00,-999,9,-999,9,-999,9,-999
58JH20220524,599,1,1231,9,20220615,1506,-9.548167,68.4855,2106,98.47,1.709,34.858,2,-999,9,334.03,2,-999,9,0.15,2,10.43,2,0.74,2,4.73,2,-999,9,-999,9.00E+00,-999,9,-999,9,-999,9,-999
58JH20220524,599,1,1232,10,20220615,1506,-9.548167,68.4855,2106,48.35,2.183,34.77,2,-999,9,339.34,2,-999,9,0.14,2,7.74,2,0.64,2,4.21,2,-999,9,-999,9.00E+00,-999,9,-999,9,-999,9,-999
58JH20220524,599,1,1233,11,20220615,1506,-9.548167,68.4855,2106,27.01,3.28,34.746,2,-999,9,352.84,2,-999,9,0.07,2,5.76,2,0.51,2,2.8,2,-999,9,-999,9.00E+00,-999,9,-999,9,-999,9,-999
58JH20220524,599,1,1234,12,20220615,1506,-9.548167,68.4855,2106,8.03,4.65,34.751,2,-999,9,350.71,2,-999,9,0.08,2,1.82,2,0.17,2,1.1,2,-999,9,-999,9.00E+00,-999,9,-999,9,-999,9,-999
58JH20220524,600,1,1235,1,20220615,1806,-9.091333,68.302167,1944,1957.98,-0.7,34.913,2,-999,9,294.76,2,-999,9,0.02,2,14.67,2,0.98,2,12.34,2,-999,9,-999,9.00E+00,-999,9,-999,9,-999,9,-999
58JH20220524,600,1,1236,2,20220615,1806,-9.091333,68.302167,1944,1798.86,-0.674,34.912,2,-999,9,293.99,2,-999,9,0.01,2,14.86,2,0.98,2,12.43,2,-999,9,-999,9.00E+00,-999,9,-999,9,-999,9,-999
58JH20220524,600,1,1237,3,20220615,1806,-9.091333,68.302167,1944,1498.66,-0.647,34.911,2,-999,9,295.32,2,-999,9,0,2,14.5,2,0.97,2,11.94,2,-999,9,-999,9.00E+00,-999,9,-999,9,-999,9,-999
58JH20220524,600,1,1238,4,20220615,1806,-9.091333,68.302167,1944,998.56,-0.434,34.911,2,-999,9,303.08,2,-999,9,0.01,2,13.69,2,0.92,2,8.94,2,-999,9,-999,9.00E+00,-999,9,-999,9,-999,9,-999
58JH20220524,600,1,1239,5,20220615,1806,-9.091333,68.302167,1944,799.72,-0.327,34.91,2,-999,9,303.84,2,-999,9,0.02,2,13.39,2,0.91,2,8.23,2,-999,9,-999,9.00E+00,-999,9,-999,9,-999,9,-999
58JH20220524,600,1,1240,6,20220615,1806,-9.091333,68.302167,1944,499.29,-0.001,34.902,2,-999,9,307,2,-999,9,0.02,2,13.31,2,0.89,2,6.9,2,-999,9,-999,9.00E+00,-999,9,-999,9,-999,9,-999
58JH20220524,600,1,1241,7,20220615,1806,-9.091333,68.302167,1944,398.94,0.14,34.896,2,-999,9,306.98,2,-999,9,0.02,2,12.84,2,0.89,2,6.6,2,-999,9,-999,9.00E+00,-999,9,-999,9,-999,9,-999
58JH20220524,600,1,1242,8,20220615,1806,-9.091333,68.302167,1944,199.01,1.024,34.877,2,-999,9,314.58,2,-999,9,0.02,2,12.17,2,0.84,2,5.58,2,-999,9,-999,9.00E+00,-999,9,-999,9,-999,9,-999
58JH20220524,600,1,1243,9,20220615,1806,-9.091333,68.302167,1944,98.62,1.85,34.852,2,-999,9,326.72,2,-999,9,0.1,2,10.87,2,0.75,2,4.75,2,-999,9,-999,9.00E+00,-999,9,-999,9,-999,9,-999
58JH20220524,600,1,1244,10,20220615,1806,-9.091333,68.302167,1944,48.02,2.081,34.78,2,-999,9,337.21,2,-999,9,0.21,2,8.82,2,0.68,2,4.41,2,-999,9,-999,9.00E+00,-999,9,-999,9,-999,9,-999
58JH20220524,600,1,1245,11,20220615,1806,-9.091333,68.302167,1944,28.53,3.805,34.739,2,-999,9,347.13,2,-999,9,0.11,2,5.89,2,0.54,2,1.55,2,-999,9,-999,9.00E+00,-999,9,-999,9,-999,9,-999
58JH20220524,600,1,1246,12,20220615,1806,-9.091333,68.302167,1944,9.03,4.659,34.693,2,-999,9,338.68,2,-999,9,0.07,2,3.31,2,0.36,2,0.65,2,-999,9,-999,9.00E+00,-999,9,-999,9,-999,9,-999
58JH20220524,601,1,1247,1,20220615,2106,-8.637333,68.120833,1601,1606.83,-0.677,34.912,2,-999,9,295.8,2,-999,9,0.03,2,14.54,2,0.98,2,12.11,2,-999,9,-999,9.00E+00,-999,9,-999,9,-999,9,-999
58JH20220524,601,1,1248,2,20220615,2106,-8.637333,68.120833,1601,1498.55,-0.69,34.912,2,-999,9,295.89,2,-999,9,0.03,2,14.74,2,0.98,2,12,2,-999,9,-999,9.00E+00,-999,9,-999,9,-999,9,-999
58JH20220524,601,1,1249,3,20220615,2106,-8.637333,68.120833,1601,1197.63,-0.522,34.911,2,-999,9,299.98,2,-999,9,0.02,2,14.16,2,0.95,2,10.18,2,-999,9,-999,9.00E+00,-999,9,-999,9,-999,9,-999
58JH20220524,601,1,1250,4,20220615,2106,-8.637333,68.120833,1601,998.36,-0.441,34.91,2,-999,9,302.18,2,-999,9,0.02,2,14.05,2,0.93,2,9.16,2,-999,9,-999,9.00E+00,-999,9,-999,9,-999,9,-999
58JH20220524,601,1,1251,5,20220615,2106,-8.637333,68.120833,1601,799.08,-0.334,34.909,2,-999,9,302.35,2,-999,9,0.01,2,13.78,2,0.92,2,8.43,2,-999,9,-999,9.00E+00,-999,9,-999,9,-999,9,-999
58JH20220524,601,1,1252,6,20220615,2106,-8.637333,68.120833,1601,499.05,-0.097,34.903,2,-999,9,304.81,2,-999,9,0.01,2,13.36,2,0.9,2,7.26,2,-999,9,-999,9.00E+00,-999,9,-999,9,-999,9,-999
58JH20220524,601,1,1253,7,20220615,2106,-8.637333,68.120833,1601,397.57,0.001,34.897,2,-999,9,305.25,2,-999,9,0.03,2,13.26,2,0.89,2,6.73,2,-999,9,-999,9.00E+00,-999,9,-999,9,-999,9,-999
58JH20220524,601,1,1254,8,20220615,2106,-8.637333,68.120833,1601,198.25,0.324,34.86,2,-999,9,315.01,2,-999,9,0.03,2,12.61,2,0.86,2,5.89,2,-999,9,-999,9.00E+00,-999,9,-999,9,-999,9,-999
58JH20220524,601,1,1255,9,20220615,2106,-8.637333,68.120833,1601,98.06,1.056,34.796,2,-999,9,333.55,2,-999,9,0.05,2,10.9,2,0.76,2,4.7,2,-999,9,-999,9.00E+00,-999,9,-999,9,-999,9,-999
58JH20220524,601,1,1256,10,20220615,2106,-8.637333,68.120833,1601,48.39,1.32,34.709,2,-999,9,346.27,2,-999,9,0.16,2,7.97,2,0.64,2,4.09,2,-999,9,-999,9.00E+00,-999,9,-999,9,-999,9,-999
58JH20220524,601,1,1257,11,20220615,2106,-8.637333,68.120833,1601,28.6,3.033,34.671,2,-999,9,349.49,2,-999,9,0.1,2,5.54,2,0.5,2,2.48,2,-999,9,-999,9.00E+00,-999,9,-999,9,-999,9,-999
58JH20220524,601,1,1258,12,20220615,2106,-8.637333,68.120833,1601,9.13,4.441,34.658,2,-999,9,336.85,2,-999,9,0.06,2,4.06,2,0.4,2,1.87,2,-999,9,-999,9.00E+00,-999,9,-999,9,-999,9,-999
58JH20220524,602,1,1259,1,20220615,2306,-8.181833,67.94,1504,1510.66,-0.651,34.912,2,-999,9,296.08,2,-999,9,0.04,2,14.74,2,0.97,2,11.98,2,-999,9,-999,9.00E+00,-999,9,-999,9,-999,9,-999
58JH20220524,602,1,1260,2,20220615,2306,-8.181833,67.94,1504,1198.22,-0.541,34.911,2,-999,9,299.91,2,-999,9,0.03,2,14.19,2,0.95,2,10.48,2,-999,9,-999,9.00E+00,-999,9,-999,9,-999,9,-999
58JH20220524,602,1,1261,3,20220615,2306,-8.181833,67.94,1504,998.05,-0.452,34.91,2,-999,9,302.21,2,-999,9,0.03,2,13.85,2,0.93,2,9.49,2,-999,9,-999,9.00E+00,-999,9,-999,9,-999,9,-999
58JH20220524,602,1,1262,4,20220615,2306,-8.181833,67.94,1504,798.29,-0.327,34.909,2,-999,9,303.89,2,-999,9,0.03,2,13.47,2,0.91,2,8.49,2,-999,9,-999,9.00E+00,-999,9,-999,9,-999,9,-999
58JH20220524,602,1,1263,5,20220615,2306,-8.181833,67.94,1504,498.55,-0.056,34.902,2,-999,9,305.36,2,-999,9,0.03,2,13.36,2,0.9,2,7.18,2,-999,9,-999,9.00E+00,-999,9,-999,9,-999,9,-999
58JH20220524,602,1,1264,6,20220615,2306,-8.181833,67.94,1504,397.98,0.07,34.896,2,-999,9,305.44,2,-999,9,0.03,2,13.26,2,0.9,2,6.81,2,-999,9,-999,9.00E+00,-999,9,-999,9,-999,9,-999
58JH20220524,602,1,1265,7,20220615,2306,-8.181833,67.94,1504,299.23,0.165,34.884,2,-999,9,308.29,2,-999,9,0.02,2,13.35,2,0.89,2,6.36,2,-999,9,-999,9.00E+00,-999,9,-999,9,-999,9,-999
58JH20220524,602,1,1266,8,20220615,2306,-8.181833,67.94,1504,198.93,0.395,34.844,2,-999,9,317.81,2,-999,9,0.04,2,12.52,2,0.85,2,5.56,2,-999,9,-999,9.00E+00,-999,9,-999,9,-999,9,-999
58JH20220524,602,1,1267,9,20220615,2306,-8.181833,67.94,1504,98.68,1.196,34.767,2,-999,9,333.01,2,-999,9,0.06,2,10.4,2,0.73,2,4.48,2,-999,9,-999,9.00E+00,-999,9,-999,9,-999,9,-999
58JH20220524,602,1,1268,10,20220615,2306,-8.181833,67.94,1504,47.78,1.621,34.707,2,-999,9,338.66,2,-999,9,0.19,2,8.06,2,0.65,2,4.22,2,-999,9,-999,9.00E+00,-999,9,-999,9,-999,9,-999
58JH20220524,602,1,1269,11,20220615,2306,-8.181833,67.94,1504,28.08,2.849,34.659,2,-999,9,348.38,2,-999,9,0.15,2,7.1,2,0.62,2,3,2,-999,9,-999,9.00E+00,-999,9,-999,9,-999,9,-999
58JH20220524,602,1,1270,12,20220615,2306,-8.181833,67.94,1504,8.14,4.661,34.628,2,-999,9,344.94,2,-999,9,0.09,2,4.24,2,0.44,2,1.53,2,-999,9,-999,9.00E+00,-999,9,-999,9,-999,9,-999
58JH20220524,603,1,1271,1,20220616,206,-7.728833,67.757833,1916,1922.37,-0.753,34.911,2,-999,9,294.63,2,-999,9,0.02,2,14.78,2,0.98,2,12.89,2,-999,9,-999,9.00E+00,-999,9,-999,9,-999,9,-999
58JH20220524,603,1,1272,2,20220616,206,-7.728833,67.757833,1916,1798.75,-0.716,34.913,2,-999,9,296.21,2,-999,9,0.03,2,14.55,2,0.97,2,12.15,2,-999,9,-999,9.00E+00,-999,9,-999,9,-999,9,-999
58JH20220524,603,1,1273,3,20220616,206,-7.728833,67.757833,1916,1497.88,-0.645,34.912,2,-999,9,298.82,2,-999,9,0.02,2,14.01,2,0.95,2,11.06,2,-999,9,-999,9.00E+00,-999,9,-999,9,-999,9,-999
58JH20220524,603,1,1274,4,20220616,206,-7.728833,67.757833,1916,998.39,-0.434,34.91,2,-999,9,302.74,2,-999,9,0.02,2,13.62,2,0.92,2,9.16,2,-999,9,-999,9.00E+00,-999,9,-999,9,-999,9,-999
58JH20220524,603,1,1275,5,20220616,206,-7.728833,67.757833,1916,797.84,-0.296,34.909,2,-999,9,304.61,2,-999,9,0.02,2,13.32,2,0.9,2,8.18,2,-999,9,-999,9.00E+00,-999,9,-999,9,-999,9,-999
58JH20220524,603,1,1276,6,20220616,206,-7.728833,67.757833,1916,499.21,-0.033,34.899,2,-999,9,305.65,2,-999,9,0.02,2,13.29,2,0.89,2,7.06,2,-999,9,-999,9.00E+00,-999,9,-999,9,-999,9,-999
58JH20220524,603,1,1277,7,20220616,206,-7.728833,67.757833,1916,398.86,0.077,34.893,2,-999,9,305.42,2,-999,9,0.02,2,12.32,2,0.89,2,6.61,2,-999,9,-999,9.00E+00,-999,9,-999,9,-999,9,-999
58JH20220524,603,1,1278,8,20220616,206,-7.728833,67.757833,1916,198.16,0.686,34.852,2,-999,9,314.04,2,-999,9,0.04,2,12.5,2,0.84,2,5.62,2,-999,9,-999,9.00E+00,-999,9,-999,9,-999,9,-999
58JH20220524,603,1,1279,9,20220616,206,-7.728833,67.757833,1916,98.67,1.067,34.729,2,-999,9,332.22,2,-999,9,0.07,2,10.33,2,0.73,2,4.56,2,-999,9,-999,9.00E+00,-999,9,-999,9,-999,9,-999
58JH20220524,603,1,1280,10,20220616,206,-7.728833,67.757833,1916,48.27,1.899,34.676,2,-999,9,340.15,2,-999,9,0.25,2,8.79,2,0.7,2,4.65,2,-999,9,-999,9.00E+00,-999,9,-999,9,-999,9,-999
58JH20220524,603,1,1281,11,20220616,206,-7.728833,67.757833,1916,28.93,4.251,34.716,2,-999,9,350.36,2,-999,9,0.12,2,4.94,2,0.57,2,2,2,-999,9,-999,9.00E+00,-999,9,-999,9,-999,9,-999
58JH20220524,603,1,1282,12,20220616,206,-7.728833,67.757833,1916,7.66,4.882,34.601,2,-999,9,358.7,2,-999,9,0.07,2,0.49,2,0.18,2,0.37,2,-999,9,-999,9.00E+00,-999,9,-999,9,-999,9,-999