BOTTLE,,,,,,,,,,,,,,,,,,,,,,,,,,,,,,,,,,,,,,
EXPOCODE, STNNBR, CASTNO,SAMPNO,BTLNBR, DATE, TIME, LONGITUDE, LATITUDE, MAXDEPTH, CTDPRS, CTDTMP, CTDSAL, CTDSAL_FLAG_W, SALNTY, SALNTY_FLAG_W, CTDOXY, CTDOXY_FLAG_W, OXYGEN, OXYGEN_FLAG_W, NITRIT, NITRIT_FLAG_W, NITRAT, NITRAT_FLAG_W, PHSPHT, PHSPHT_FLAG_W, SILCAT, SILCAT_FLAG_W, CFC12, CFC12_FLAG_W, SF6, SF6_FLAG_W, TCARBN, TCARBN_FLAG_W, ALKALI, ALKALI_FLAG_W, PH_TOT, PH_FLAG_W, PH_TEMP
, , ,, , , , , , meter, dbar, ITS-90, PSS-78, , PSS-78, , umol/kg, , umol/kg, , umol/kg, , umol/kg, , umol/kg, , umol/kg, , pmol/kg,  , fmol/kg,  , umol/kg, , umol/kg, , , , degC
58JH20220524,588,1,1091,1,20220613,1706,-1.224667,69.343833,2985,3030.25,-0.74,34.911,2,-999,9,292.26,2,-999,9,0.02,2,14.75,2,0.99,2,13.24,2,-999,9,-999,9.00E+00,-999,9,-999,9,-999,9,-999
58JH20220524,588,1,1092,2,20220613,1706,-1.224667,69.343833,2985,2499.52,-0.725,34.912,2,-999,9,294.27,2,-999,9,0.03,2,14.65,2,0.97,2,12.37,2,-999,9,-999,9.00E+00,-999,9,-999,9,-999,9,-999
58JH20220524,588,1,1093,3,20220613,1706,-1.224667,69.343833,2985,1999.56,-0.689,34.912,2,-999,9,296.54,2,-999,9,0.01,2,14.46,2,0.96,2,11.59,2,-999,9,-999,9.00E+00,-999,9,-999,9,-999,9,-999
58JH20220524,588,1,1094,4,20220613,1706,-1.224667,69.343833,2985,1498.68,-0.523,34.91,2,-999,9,301.05,2,-999,9,0.03,2,13.85,2,0.93,2,9.7,2,-999,9,-999,9.00E+00,-999,9,-999,9,-999,9,-999
58JH20220524,588,1,1095,5,20220613,1706,-1.224667,69.343833,2985,998.67,-0.157,34.907,2,-999,9,303.61,2,-999,9,0.01,2,13.37,2,0.9,2,7.61,2,-999,9,-999,9.00E+00,-999,9,-999,9,-999,9,-999
58JH20220524,588,1,1096,6,20220613,1706,-1.224667,69.343833,2985,797.37,0.168,34.903,2,-999,9,303.06,2,-999,9,0.01,2,13.28,2,0.9,2,6.69,2,-999,9,-999,9.00E+00,-999,9,-999,9,-999,9,-999
58JH20220524,588,1,1097,7,20220613,1706,-1.224667,69.343833,2985,498.2,2.993,34.941,2,-999,9,297.87,2,-999,9,0.03,2,12.27,2,0.85,2,5.42,2,-999,9,-999,9.00E+00,-999,9,-999,9,-999,9,-999
58JH20220524,588,1,1098,8,20220613,1706,-1.224667,69.343833,2985,198.96,5.35,35.016,2,-999,9,295.71,2,-999,9,0.07,2,11.27,2,0.76,2,4.95,2,-999,9,-999,9.00E+00,-999,9,-999,9,-999,9,-999
58JH20220524,588,1,1099,9,20220613,1706,-1.224667,69.343833,2985,97.95,6.234,35.07,2,-999,9,291.49,2,-999,9,0.25,2,10.8,2,0.75,2,4.83,2,-999,9,-999,9.00E+00,-999,9,-999,9,-999,9,-999
58JH20220524,588,1,1100,10,20220613,1706,-1.224667,69.343833,2985,48.46,6.952,35.076,2,-999,9,300.79,2,-999,9,0.17,2,7.62,2,0.57,2,3.81,2,-999,9,-999,9.00E+00,-999,9,-999,9,-999,9,-999
58JH20220524,588,1,1101,11,20220613,1706,-1.224667,69.343833,2985,28.02,7.19,35.083,2,-999,9,302.28,2,-999,9,0.16,2,7.1,2,0.52,2,3.3,2,-999,9,-999,9.00E+00,-999,9,-999,9,-999,9,-999
58JH20220524,588,1,1102,12,20220613,1706,-1.224667,69.343833,2985,7.79,7.263,35.074,2,-999,9,302.53,2,-999,9,0.16,2,6.87,2,0.51,2,3.4,2,-999,9,-999,9.00E+00,-999,9,-999,9,-999,9,-999
58JH20220524,589,1,1103,1,20220613,2006,-1.568667,69.266833,3234,3276.64,-0.739,34.911,2,-999,9,291.71,2,-999,9,0.01,2,15.08,2,1.01,2,13.58,2,-999,9,-999,9.00E+00,-999,9,-999,9,-999,9,-999
58JH20220524,589,1,1104,2,20220613,2006,-1.568667,69.266833,3234,2498.45,-0.721,34.912,2,-999,9,294.22,2,-999,9,0.01,2,14.66,2,0.98,2,12.19,2,-999,9,-999,9.00E+00,-999,9,-999,9,-999,9,-999
58JH20220524,589,1,1105,3,20220613,2006,-1.568667,69.266833,3234,2000.57,-0.698,34.912,2,-999,9,296.39,2,-999,9,0.01,2,14.44,2,0.97,2,11.32,2,-999,9,-999,9.00E+00,-999,9,-999,9,-999,9,-999
58JH20220524,589,1,1106,4,20220613,2006,-1.568667,69.266833,3234,1497.82,-0.597,34.91,2,-999,9,299.43,2,-999,9,0.01,2,14.14,2,0.95,2,10.02,2,-999,9,-999,9.00E+00,-999,9,-999,9,-999,9,-999
58JH20220524,589,1,1107,5,20220613,2006,-1.568667,69.266833,3234,998.06,-0.233,34.908,2,-999,9,303.52,2,-999,9,0.02,2,13.6,2,0.91,2,7.61,2,-999,9,-999,9.00E+00,-999,9,-999,9,-999,9,-999
58JH20220524,589,1,1108,6,20220613,2006,-1.568667,69.266833,3234,798.82,0.026,34.903,2,-999,9,303.49,2,-999,9,0.01,2,13.35,2,0.9,2,6.82,2,-999,9,-999,9.00E+00,-999,9,-999,9,-999,9,-999
58JH20220524,589,1,1109,7,20220613,2006,-1.568667,69.266833,3234,498.19,2.622,34.926,2,-999,9,299.14,2,-999,9,0.02,2,12.84,2,0.87,2,5.73,2,-999,9,-999,9.00E+00,-999,9,-999,9,-999,9,-999
58JH20220524,589,1,1110,8,20220613,2006,-1.568667,69.266833,3234,200.52,4.915,35.021,2,-999,9,298.31,2,-999,9,0.05,2,11.41,2,0.75,2,4.71,2,-999,9,-999,9.00E+00,-999,9,-999,9,-999,9,-999
58JH20220524,589,1,1111,9,20220613,2006,-1.568667,69.266833,3234,103.09,5.802,35.051,2,-999,9,292.05,2,-999,9,0.23,2,9.18,2,0.65,2,4.62,2,-999,9,-999,9.00E+00,-999,9,-999,9,-999,9,-999
58JH20220524,589,1,1112,10,20220613,2006,-1.568667,69.266833,3234,50.56,6.552,35.074,2,-999,9,297.3,2,-999,9,0.27,2,10.44,2,0.72,2,4.77,2,-999,9,-999,9.00E+00,-999,9,-999,9,-999,9,-999
58JH20220524,589,1,1113,11,20220613,2006,-1.568667,69.266833,3234,31.2,7,35.07,2,-999,9,308.6,2,-999,9,0.18,2,7.32,2,0.54,2,3.82,2,-999,9,-999,9.00E+00,-999,9,-999,9,-999,9,-999
58JH20220524,589,1,1114,12,20220613,2006,-1.568667,69.266833,3234,9.94,7.318,35.069,2,-999,9,305.85,2,-999,9,0.18,2,6.8,2,0.51,2,3.52,2,-999,9,-999,9.00E+00,-999,9,-999,9,-999,9,-999
58JH20220524,590,1,1115,1,20220613,2306,-1.912333,69.192333,3208,3651.98,-0.687,34.911,2,-999,9,291.09,2,-999,9,0.02,2,15.01,2,0.99,2,13.63,2,-999,9,-999,9.00E+00,-999,9,-999,9,-999,9,-999
58JH20220524,590,1,1116,2,20220613,2306,-1.912333,69.192333,3208,2498.83,-0.74,34.912,2,-999,9,293.88,2,-999,9,0.02,2,14.74,2,0.98,2,12.8,2,-999,9,-999,9.00E+00,-999,9,-999,9,-999,9,-999
58JH20220524,590,1,1117,3,20220613,2306,-1.912333,69.192333,3208,1998.21,-0.726,34.911,2,-999,9,295.89,2,-999,9,0.02,2,14.03,2,0.95,2,10.94,3,-999,9,-999,9.00E+00,-999,9,-999,9,-999,9,-999
58JH20220524,590,1,1118,4,20220613,2306,-1.912333,69.192333,3208,1497.41,-0.666,34.911,2,-999,9,298.27,2,-999,9,0.02,2,14.41,2,0.96,2,11.91,2,-999,9,-999,9.00E+00,-999,9,-999,9,-999,9,-999
58JH20220524,590,1,1119,5,20220613,2306,-1.912333,69.192333,3208,998.05,-0.372,34.909,2,-999,9,303.06,2,-999,9,0.02,2,13.47,2,0.92,2,8.4,2,-999,9,-999,9.00E+00,-999,9,-999,9,-999,9,-999
58JH20220524,590,1,1120,6,20220613,2306,-1.912333,69.192333,3208,799.03,-0.164,34.907,2,-999,9,303.57,2,-999,9,0.01,2,13.21,2,0.9,2,7.48,2,-999,9,-999,9.00E+00,-999,9,-999,9,-999,9,-999
58JH20220524,590,1,1121,7,20220613,2306,-1.912333,69.192333,3208,498.67,0.468,34.898,2,-999,9,301.48,2,-999,9,0.02,2,13.17,2,0.9,2,6.44,2,-999,9,-999,9.00E+00,-999,9,-999,9,-999,9,-999
58JH20220524,590,1,1122,8,20220613,2306,-1.912333,69.192333,3208,198.88,4.852,34.993,2,-999,9,300.37,2,-999,9,0.12,2,11.06,2,0.76,2,5,2,-999,9,-999,9.00E+00,-999,9,-999,9,-999,9,-999
58JH20220524,590,1,1123,9,20220613,2306,-1.912333,69.192333,3208,99.46,6.006,35.075,2,-999,9,292.05,2,-999,9,0.13,2,10.76,2,0.74,2,4.85,2,-999,9,-999,9.00E+00,-999,9,-999,9,-999,9,-999
58JH20220524,590,1,1124,10,20220613,2306,-1.912333,69.192333,3208,47.65,6.883,35.079,2,-999,9,296.68,2,-999,9,0.24,2,8.87,2,0.67,2,4.49,2,-999,9,-999,9.00E+00,-999,9,-999,9,-999,9,-999
58JH20220524,590,1,1125,11,20220613,2306,-1.912333,69.192333,3208,29.14,6.981,35.082,2,-999,9,304.82,2,-999,9,0.18,2,7.66,2,0.58,2,4.2,2,-999,9,-999,9.00E+00,-999,9,-999,9,-999,9,-999
58JH20220524,590,1,1126,12,20220613,2306,-1.912333,69.192333,3208,8.51,7.355,35.053,2,-999,9,304.71,2,-999,9,0.15,2,6.2,2,0.49,2,2.98,2,-999,9,-999,9.00E+00,-999,9,-999,9,-999,9,-999
58JH20220524,591,1,1127,1,20220614,206,-2.256333,69.1145,3582,3647.91,-0.704,34.911,2,-999,9,290.59,2,-999,9,0.01,2,15.01,2,1.01,2,13.9,2,-999,9,-999,9.00E+00,-999,9,-999,9,-999,9,-999
58JH20220524,591,1,1128,2,20220614,206,-2.256333,69.1145,3582,2999.45,-0.726,34.912,2,-999,9,292.92,2,-999,9,0.01,2,14.68,2,0.99,2,13.35,2,-999,9,-999,9.00E+00,-999,9,-999,9,-999,9,-999
58JH20220524,591,1,1129,3,20220614,206,-2.256333,69.1145,3582,2498.31,-0.726,34.912,2,-999,9,294.3,2,-999,9,0.01,2,14.5,2,0.98,2,12.42,2,-999,9,-999,9.00E+00,-999,9,-999,9,-999,9,-999
58JH20220524,591,1,1130,4,20220614,206,-2.256333,69.1145,3582,1997.99,-0.704,34.912,2,-999,9,295.95,2,-999,9,0.02,2,14.35,2,0.97,2,11.67,2,-999,9,-999,9.00E+00,-999,9,-999,9,-999,9,-999
58JH20220524,591,1,1131,5,20220614,206,-2.256333,69.1145,3582,1499.57,-0.628,34.911,2,-999,9,298.83,2,-999,9,0.02,2,14.04,2,0.95,2,10.69,2,-999,9,-999,9.00E+00,-999,9,-999,9,-999,9,-999
58JH20220524,591,1,1132,6,20220614,206,-2.256333,69.1145,3582,997.66,-0.387,34.909,2,-999,9,301.78,2,-999,9,0.02,2,13.67,2,0.93,2,8.49,2,-999,9,-999,9.00E+00,-999,9,-999,9,-999,9,-999
58JH20220524,591,1,1133,7,20220614,206,-2.256333,69.1145,3582,499.15,0.191,34.9,2,-999,9,302.02,2,-999,9,0.02,2,13.49,2,0.91,2,6.82,2,-999,9,-999,9.00E+00,-999,9,-999,9,-999,9,-999
58JH20220524,591,1,1134,8,20220614,206,-2.256333,69.1145,3582,198.01,3.356,34.952,2,-999,9,303.49,2,-999,9,0.03,2,12.01,2,0.81,2,5.3,2,-999,9,-999,9.00E+00,-999,9,-999,9,-999,9,-999
58JH20220524,591,1,1135,9,20220614,206,-2.256333,69.1145,3582,97.92,4.305,34.953,2,-999,9,303.49,2,-999,9,0.07,2,11.3,2,0.77,2,5.02,2,-999,9,-999,9.00E+00,-999,9,-999,9,-999,9,-999
58JH20220524,591,1,1136,10,20220614,206,-2.256333,69.1145,3582,48.61,6.105,34.996,2,-999,9,305.19,2,-999,9,0.26,2,9.22,2,0.67,2,4.64,2,-999,9,-999,9.00E+00,-999,9,-999,9,-999,9,-999
58JH20220524,591,1,1137,11,20220614,206,-2.256333,69.1145,3582,28.09,6.968,35.03,2,-999,9,309.69,2,-999,9,0.15,2,6.22,2,-999,4,3.45,2,-999,9,-999,9.00E+00,-999,9,-999,9,-999,9,-999
58JH20220524,591,1,1138,12,20220614,206,-2.256333,69.1145,3582,8.33,7.24,35.036,2,-999,9,307.86,2,-999,9,0.14,2,5.8,2,0.53,2,2.9,2,-999,9,-999,9.00E+00,-999,9,-999,9,-999,9,-999
58JH20220524,592,1,1139,1,20220614,506,-2.597667,69.038,3054,3052.32,-0.737,34.911,2,-999,9,292.08,2,-999,9,0.02,2,14.86,2,0.99,2,13.31,2,-999,9,-999,9.00E+00,-999,9,-999,9,-999,9,-999
58JH20220524,592,1,1140,2,20220614,506,-2.597667,69.038,3054,2497.87,-0.756,34.911,2,-999,9,293.12,2,-999,9,0.04,2,14.67,2,0.99,2,12.86,2,-999,9,-999,9.00E+00,-999,9,-999,9,-999,9,-999
58JH20220524,592,1,1141,3,20220614,506,-2.597667,69.038,3054,1999.08,-0.755,34.912,2,-999,9,294.69,2,-999,9,0.05,2,14.63,2,0.98,2,12.18,2,-999,9,-999,9.00E+00,-999,9,-999,9,-999,9,-999
58JH20220524,592,1,1142,4,20220614,506,-2.597667,69.038,3054,1499.25,-0.69,34.91,2,-999,9,297.75,2,-999,9,0.05,2,14.18,2,0.96,2,10.84,2,-999,9,-999,9.00E+00,-999,9,-999,9,-999,9,-999
58JH20220524,592,1,1143,5,20220614,506,-2.597667,69.038,3054,998.74,-0.436,34.909,2,-999,9,302.03,2,-999,9,0.05,2,13.7,2,0.93,2,8.7,2,-999,9,-999,9.00E+00,-999,9,-999,9,-999,9,-999
58JH20220524,592,1,1144,6,20220614,506,-2.597667,69.038,3054,798.91,-0.258,34.908,2,-999,9,302.16,2,-999,9,0.06,2,13.6,2,0.93,2,7.83,2,-999,9,-999,9.00E+00,-999,9,-999,9,-999,9,-999
58JH20220524,592,1,1145,7,20220614,506,-2.597667,69.038,3054,498.3,0.155,34.9,2,-999,9,302.18,2,-999,9,0.03,2,13.41,2,0.91,2,6.7,2,-999,9,-999,9.00E+00,-999,9,-999,9,-999,9,-999
58JH20220524,592,1,1146,8,20220614,506,-2.597667,69.038,3054,198.55,3.396,34.97,2,-999,9,305,2,-999,9,0.04,2,11.61,2,0.78,2,4.92,2,-999,9,-999,9.00E+00,-999,9,-999,9,-999,9,-999
58JH20220524,592,1,1147,9,20220614,506,-2.597667,69.038,3054,98.62,4.113,34.96,2,-999,9,305.33,2,-999,9,0.08,2,11.31,2,0.75,2,4.89,2,-999,9,-999,9.00E+00,-999,9,-999,9,-999,9,-999
58JH20220524,592,1,1148,10,20220614,506,-2.597667,69.038,3054,48.26,5.641,34.99,2,-999,9,313.08,2,-999,9,0.16,2,7.73,2,0.58,2,4,2,-999,9,-999,9.00E+00,-999,9,-999,9,-999,9,-999
58JH20220524,592,1,1149,11,20220614,506,-2.597667,69.038,3054,28.8,5.988,34.994,2,-999,9,315.7,2,-999,9,0.16,2,6.58,2,0.52,2,3.3,2,-999,9,-999,9.00E+00,-999,9,-999,9,-999,9,-999
58JH20220524,592,1,1150,12,20220614,506,-2.597667,69.038,3054,7.75,6.845,35.017,2,-999,9,308.97,2,-999,9,0.16,2,6.3,2,-999,4,2.91,2,-999,9,-999,9.00E+00,-999,9,-999,9,-999,9,-999
58JH20220524,593,1,1151,1,20220614,806,-2.9415,68.960333,3218,3290.05,-0.743,34.911,2,-999,9,290.8,2,-999,9,0.05,2,14.89,2,1,2,14.03,2,-999,9,-999,9.00E+00,-999,9,-999,9,-999,9,-999
58JH20220524,593,1,1152,2,20220614,806,-2.9415,68.960333,3218,2497.69,-0.76,34.911,2,-999,9,292.9,2,-999,9,0.04,2,14.74,2,0.99,2,12.91,2,-999,9,-999,9.00E+00,-999,9,-999,9,-999,9,-999
58JH20220524,593,1,1153,3,20220614,806,-2.9415,68.960333,3218,1997.09,-0.74,34.912,2,-999,9,294.7,2,-999,9,0.05,2,14.48,2,0.97,2,11.9,2,-999,9,-999,9.00E+00,-999,9,-999,9,-999,9,-999
58JH20220524,593,1,1154,4,20220614,806,-2.9415,68.960333,3218,1498.61,-0.672,34.91,2,-999,9,297.87,2,-999,9,0.04,2,14.2,2,0.96,2,10.69,2,-999,9,-999,9.00E+00,-999,9,-999,9,-999,9,-999
58JH20220524,593,1,1155,5,20220614,806,-2.9415,68.960333,3218,998.53,-0.396,34.909,2,-999,9,301.88,2,-999,9,0.04,2,13.62,2,0.93,2,8.5,2,-999,9,-999,9.00E+00,-999,9,-999,9,-999,9,-999
58JH20220524,593,1,1156,6,20220614,806,-2.9415,68.960333,3218,798.63,-0.211,34.908,2,-999,9,301.86,2,-999,9,0.05,2,13.47,2,0.92,2,7.61,2,-999,9,-999,9.00E+00,-999,9,-999,9,-999,9,-999
58JH20220524,593,1,1157,7,20220614,806,-2.9415,68.960333,3218,498.68,0.394,34.899,2,-999,9,300.33,2,-999,9,0.04,2,13.34,2,0.91,2,6.47,2,-999,9,-999,9.00E+00,-999,9,-999,9,-999,9,-999
58JH20220524,593,1,1158,8,20220614,806,-2.9415,68.960333,3218,199.22,3.432,34.983,2,-999,9,309.43,2,-999,9,0.11,2,11.04,2,0.76,2,4.87,2,-999,9,-999,9.00E+00,-999,9,-999,9,-999,9,-999
58JH20220524,593,1,1159,9,20220614,806,-2.9415,68.960333,3218,99.05,3.631,34.964,2,-999,9,311.07,2,-999,9,0.37,2,10.11,2,0.74,2,4.98,2,-999,9,-999,9.00E+00,-999,9,-999,9,-999,9,-999
58JH20220524,593,1,1160,10,20220614,806,-2.9415,68.960333,3218,48.99,5.056,34.983,2,-999,9,317.96,2,-999,9,0.18,2,6.81,2,0.56,2,3.29,2,-999,9,-999,9.00E+00,-999,9,-999,9,-999,9,-999
58JH20220524,593,1,1161,11,20220614,806,-2.9415,68.960333,3218,28.68,5.323,34.96,2,-999,9,326.94,2,-999,9,0.16,2,4.45,2,0.36,2,1.36,2,-999,9,-999,9.00E+00,-999,9,-999,9,-999,9,-999
58JH20220524,593,1,1162,12,20220614,806,-2.9415,68.960333,3218,9.04,5.791,34.957,2,-999,9,327.41,2,-999,9,0.15,2,3.79,2,0.34,2,1.28,2,-999,9,-999,9.00E+00,-999,9,-999,9,-999,9,-999
58JH20220524,594,1,1163,1,20220614,1006,-3.282167,68.885167,3633,3698.91,-0.704,34.911,2,-999,9,290.18,2,-999,9,0.06,2,15.08,2,1,2,14.15,2,-999,9,-999,9.00E+00,-999,9,-999,9,-999,9,-999
58JH20220524,594,1,1164,2,20220614,1006,-3.282167,68.885167,3633,2998.24,-0.742,34.911,2,-999,9,292.26,2,-999,9,0.06,2,15.1,2,0.99,2,13.53,2,-999,9,-999,9.00E+00,-999,9,-999,9,-999,9,-999
58JH20220524,594,1,1165,3,20220614,1006,-3.282167,68.885167,3633,2499.24,-0.746,34.912,2,-999,9,293.51,2,-999,9,0.05,2,14.98,2,0.98,2,12.76,2,-999,9,-999,9.00E+00,-999,9,-999,9,-999,9,-999
58JH20220524,594,1,1166,4,20220614,1006,-3.282167,68.885167,3633,1997.18,-0.727,34.911,2,-999,9,295.62,2,-999,9,0.05,2,14.55,2,0.97,2,11.79,2,-999,9,-999,9.00E+00,-999,9,-999,9,-999,9,-999
58JH20220524,594,1,1167,5,20220614,1006,-3.282167,68.885167,3633,1499.35,-0.62,34.909,2,-999,9,299.31,2,-999,9,0.05,2,14.13,2,0.95,2,10.15,2,-999,9,-999,9.00E+00,-999,9,-999,9,-999,9,-999
58JH20220524,594,1,1168,6,20220614,1006,-3.282167,68.885167,3633,998.48,-0.327,34.909,2,-999,9,301.75,2,-999,9,0.08,2,13.78,2,0.93,2,8.2,2,-999,9,-999,9.00E+00,-999,9,-999,9,-999,9,-999
58JH20220524,594,1,1169,7,20220614,1006,-3.282167,68.885167,3633,498.55,0.589,34.895,2,-999,9,300.69,2,-999,9,0.05,2,13.46,2,0.91,2,6.33,2,-999,9,-999,9.00E+00,-999,9,-999,9,-999,9,-999
58JH20220524,594,1,1170,8,20220614,1006,-3.282167,68.885167,3633,199.2,3.52,34.985,2,-999,9,309.42,2,-999,9,0.04,2,11.19,2,0.77,2,4.73,2,-999,9,-999,9.00E+00,-999,9,-999,9,-999,9,-999
58JH20220524,594,1,1171,9,20220614,1006,-3.282167,68.885167,3633,99.26,3.785,34.981,2,-999,9,309.5,2,-999,9,0.34,2,10.62,2,0.76,2,4.95,2,-999,9,-999,9.00E+00,-999,9,-999,9,-999,9,-999
58JH20220524,594,1,1172,10,20220614,1006,-3.282167,68.885167,3633,47.81,5.045,34.957,2,-999,9,327.32,2,-999,9,0.19,2,4.92,2,0.52,2,2.33,2,-999,9,-999,9.00E+00,-999,9,-999,9,-999,9,-999
58JH20220524,594,1,1173,11,20220614,1006,-3.282167,68.885167,3633,28.27,5.266,34.956,2,-999,9,330.45,2,-999,9,0.17,2,3.24,2,0.25,2,0.92,2,-999,9,-999,9.00E+00,-999,9,-999,9,-999,9,-999
58JH20220524,594,1,1174,12,20220614,1006,-3.282167,68.885167,3633,8.43,5.722,34.948,2,-999,9,329.03,2,-999,9,0.16,2,2.85,2,0.21,2,0.82,2,-999,9,-999,9.00E+00,-999,9,-999,9,-999,9,-999
58JH20220524,595,1,1175,1,20220614,1406,-3.975,68.731167,3603,3663.82,-0.71,34.911,2,-999,9,290.4,2,292.94,2,0.01,2,15.37,2,1.01,2,14.3,2,-999,9,-999,9.00E+00,-999,9,-999,9,-999,9,-999
58JH20220524,595,1,1176,2,20220614,1406,-3.975,68.731167,3603,2997.68,-0.751,34.911,2,-999,9,292.29,2,293.94,2,0.02,2,15.01,2,1,2,13.56,2,-999,9,-999,9.00E+00,-999,9,-999,9,-999,9,-999
58JH20220524,595,1,1177,3,20220614,1406,-3.975,68.731167,3603,2498.71,-0.756,34.911,2,-999,9,293.57,2,294.68,2,0.02,2,14.76,2,0.98,2,12.98,2,-999,9,-999,9.00E+00,-999,9,-999,9,-999,9,-999
58JH20220524,595,1,1178,4,20220614,1406,-3.975,68.731167,3603,1998.55,-0.737,34.911,2,-999,9,295.45,2,296.2,2,0.02,2,14.64,2,0.98,2,12.09,2,-999,9,-999,9.00E+00,-999,9,-999,9,-999,9,-999
58JH20220524,595,1,1179,5,20220614,1406,-3.975,68.731167,3603,1499.65,-0.653,34.91,2,-999,9,298.67,2,299.81,2,0.01,2,14.28,2,0.95,2,10.65,2,-999,9,-999,9.00E+00,-999,9,-999,9,-999,9,-999
58JH20220524,595,1,1180,6,20220614,1406,-3.975,68.731167,3603,998.91,-0.385,34.909,2,-999,9,302.3,2,303.07,2,0.03,2,13.76,2,0.93,2,8.54,2,-999,9,-999,9.00E+00,-999,9,-999,9,-999,9,-999
58JH20220524,595,1,1181,7,20220614,1406,-3.975,68.731167,3603,498.75,0.25,34.899,2,-999,9,301.38,2,302.04,2,0.02,2,13.61,2,0.91,2,6.88,2,-999,9,-999,9.00E+00,-999,9,-999,9,-999,9,-999
58JH20220524,595,1,1182,8,20220614,1406,-3.975,68.731167,3603,198.31,2.933,34.95,2,-999,9,310.02,2,309.65,2,0.03,2,11.71,2,0.8,2,5.15,2,-999,9,-999,9.00E+00,-999,9,-999,9,-999,9,-999
58JH20220524,595,1,1183,9,20220614,1406,-3.975,68.731167,3603,99.33,3.721,34.978,2,-999,9,312.31,2,314.05,2,0.33,2,10.4,2,0.74,2,4.86,2,-999,9,-999,9.00E+00,-999,9,-999,9,-999,9,-999
58JH20220524,595,1,1184,10,20220614,1406,-3.975,68.731167,3603,48.32,4.768,34.943,2,-999,9,317.12,2,314.27,2,0.24,2,8.86,2,0.7,2,4.41,2,-999,9,-999,9.00E+00,-999,9,-999,9,-999,9,-999
58JH20220524,595,1,1185,11,20220614,1406,-3.975,68.731167,3603,29.2,5.179,34.95,2,-999,9,326.62,2,322.02,2,0.15,2,5.86,2,0.51,2,2.29,2,-999,9,-999,9.00E+00,-999,9,-999,9,-999,9,-999
58JH20220524,595,1,1186,12,20220614,1406,-3.975,68.731167,3603,9.25,5.838,34.939,2,-999,9,324.32,2,330.74,2,0.13,2,3.2,2,0.3,2,0.83,2,-999,9,-999,9.00E+00,-999,9,-999,9,-999,9,-999