BOTTLE,,,,,,,,,,,,,,,,,,,,,,,,,,,,,,,,,,,,,,
EXPOCODE, STNNBR, CASTNO,SAMPNO,BTLNBR, DATE, TIME, LONGITUDE, LATITUDE, MAXDEPTH, CTDPRS, CTDTMP, CTDSAL, CTDSAL_FLAG_W, SALNTY, SALNTY_FLAG_W, CTDOXY, CTDOXY_FLAG_W, OXYGEN, OXYGEN_FLAG_W, NITRIT, NITRIT_FLAG_W, NITRAT, NITRAT_FLAG_W, PHSPHT, PHSPHT_FLAG_W, SILCAT, SILCAT_FLAG_W, CFC12, CFC12_FLAG_W, SF6, SF6_FLAG_W, TCARBN, TCARBN_FLAG_W, ALKALI, ALKALI_FLAG_W, PH_TOT, PH_FLAG_W, PH_TEMP
, , ,, , , , , , meter, dbar, ITS-90, PSS-78, , PSS-78, , umol/kg, , umol/kg, , umol/kg, , umol/kg, , umol/kg, , umol/kg, , pmol/kg,  , fmol/kg,  , umol/kg, , umol/kg, , , , degC
58JH20220524,552,1,696,1,20220607,2006,3.296333,71.9205,2594,2679.95,-0.744,34.911,2,-999,9,292.75,2,-999,9,0,2,14.76,2,0.99,2,13.76,2,-999,9,-999,9.00E+00,-999,9,-999,9,-999,9,-999
58JH20220524,552,1,697,2,20220607,2006,3.296333,71.9205,2594,2500.49,-0.728,34.911,2,-999,9,294.07,2,-999,9,0.02,2,14.7,2,0.99,2,13.16,2,-999,9,-999,9.00E+00,-999,9,-999,9,-999,9,-999
58JH20220524,552,1,698,3,20220607,2006,3.296333,71.9205,2594,1999.8,-0.696,34.912,2,-999,9,295.83,2,-999,9,0.02,2,14.25,2,0.97,2,12.14,2,-999,9,-999,9.00E+00,-999,9,-999,9,-999,9,-999
58JH20220524,552,1,699,4,20220607,2006,3.296333,71.9205,2594,1499.52,-0.584,34.91,2,-999,9,298.8,2,-999,9,0.04,2,13.68,2,0.94,2,10.53,2,-999,9,-999,9.00E+00,-999,9,-999,9,-999,9,-999
58JH20220524,552,1,700,5,20220607,2006,3.296333,71.9205,2594,1000.78,-0.168,34.909,2,-999,9,307.91,2,-999,9,0.03,2,12.79,2,0.89,2,7.6,2,-999,9,-999,9.00E+00,-999,9,-999,9,-999,9,-999
58JH20220524,552,1,701,6,20220607,2006,3.296333,71.9205,2594,799.67,0.151,34.903,2,-999,9,305.24,2,-999,9,0.04,2,12.9,2,0.89,2,7.09,2,-999,9,-999,9.00E+00,-999,9,-999,9,-999,9,-999
58JH20220524,552,1,702,7,20220607,2006,3.296333,71.9205,2594,498.66,2.397,34.944,2,-999,9,304.83,2,-999,9,0.05,2,12.46,2,0.85,2,6.1,2,-999,9,-999,9.00E+00,-999,9,-999,9,-999,9,-999
58JH20220524,552,1,703,8,20220607,2006,3.296333,71.9205,2594,199.03,4.662,35.061,2,-999,9,301.68,2,-999,9,0.1,2,10.84,2,0.74,2,5.02,2,-999,9,-999,9.00E+00,-999,9,-999,9,-999,9,-999
58JH20220524,552,1,704,9,20220607,2006,3.296333,71.9205,2594,99.33,4.85,35.067,2,-999,9,305.15,2,-999,9,0.31,2,10.35,2,0.73,2,4.98,2,-999,9,-999,9.00E+00,-999,9,-999,9,-999,9,-999
58JH20220524,552,1,705,10,20220607,2006,3.296333,71.9205,2594,50.65,5.42,35.042,2,-999,9,315.92,2,-999,9,0.13,2,7.17,2,0.56,2,4.83,2,-999,9,-999,9.00E+00,-999,9,-999,9,-999,9,-999
58JH20220524,552,1,706,11,20220607,2006,3.296333,71.9205,2594,30.4,5.421,35.042,2,-999,9,316.01,2,-999,9,0.13,2,7.09,2,0.56,2,4.84,2,-999,9,-999,9.00E+00,-999,9,-999,9,-999,9,-999
58JH20220524,552,1,707,12,20220607,2006,3.296333,71.9205,2594,10.82,5.42,35.043,2,-999,9,315.94,2,-999,9,0.13,2,7.15,2,0.56,2,4.8,2,-999,9,-999,9.00E+00,-999,9,-999,9,-999,9,-999
58JH20220524,553,1,708,1,20220608,6,3.835,71.749,3038,3082.92,-0.723,34.911,2,-999,9,292.04,2,291.42,2,0.01,2,14.57,2,1,2,14.21,2,-999,9,-999,9.00E+00,2169.42,2,2304.67,2,-999,9,-999
58JH20220524,553,1,709,2,20220608,6,3.835,71.749,3038,2500.93,-0.728,34.912,2,-999,9,294.73,2,295.64,2,0.01,2,14.45,2,0.98,2,12.94,2,-999,9,-999,9.00E+00,2167.7,2,2302.57,2,-999,9,-999
58JH20220524,553,1,710,3,20220608,6,3.835,71.749,3038,2001.1,-0.681,34.911,2,-999,9,297.22,2,298.98,2,0.01,2,13.95,2,0.96,2,11.79,2,-999,9,-999,9.00E+00,2167.49,2,2301.99,2,-999,9,-999
58JH20220524,553,1,711,4,20220608,6,3.835,71.749,3038,1501.51,-0.522,34.91,2,-999,9,301.68,2,302.77,2,0.01,2,13.65,2,0.95,2,9.95,2,-999,9,-999,9.00E+00,2169.78,2,2299.69,2,-999,9,-999
58JH20220524,553,1,712,5,20220608,6,3.835,71.749,3038,1001.16,-0.052,34.906,2,-999,9,304.24,2,304.99,2,0.01,2,12.94,2,0.9,2,7.5,2,-999,9,-999,9.00E+00,2178.67,2,2299.28,2,-999,9,-999
58JH20220524,553,1,713,6,20220608,6,3.835,71.749,3038,801.48,0.528,34.898,2,-999,9,304.66,2,304.18,2,0.01,2,12.68,2,0.89,2,6.64,2,-999,9,-999,9.00E+00,2178.66,2,2297.77,2,-999,9,-999
58JH20220524,553,1,714,7,20220608,6,3.835,71.749,3038,498.47,4.189,35.047,2,-999,9,301.26,2,305.23,2,0.02,2,11.11,2,0.77,2,5.1,2,-999,9,-999,9.00E+00,2162.92,2,2307.35,2,-999,9,-999
58JH20220524,553,1,715,8,20220608,6,3.835,71.749,3038,199.82,4.809,35.073,2,-999,9,301.04,2,303.9,2,0.07,2,10.83,2,0.74,2,4.95,2,-999,9,-999,9.00E+00,2161.68,2,2311.06,2,-999,9,-999
58JH20220524,553,1,716,9,20220608,6,3.835,71.749,3038,99.87,5,35.075,2,-999,9,299.84,2,302.17,2,0.31,2,10.36,2,0.73,2,4.85,2,-999,9,-999,9.00E+00,2158.26,2,2310.74,2,-999,9,-999
58JH20220524,553,1,717,10,20220608,6,3.835,71.749,3038,50.52,5.754,35.054,2,-999,9,309.37,2,310.54,2,0.18,2,7.48,2,0.58,2,4.55,2,-999,9,-999,9.00E+00,2137.56,2,2312.52,2,-999,9,-999
58JH20220524,553,1,718,11,20220608,6,3.835,71.749,3038,30.41,5.762,35.055,2,-999,9,309.18,2,312.24,2,0.17,2,7.48,2,0.58,2,4.58,2,-999,9,-999,9.00E+00,2138.34,2,2313.41,2,-999,9,-999
58JH20220524,553,1,719,12,20220608,6,3.835,71.749,3038,9.66,5.76,35.055,2,-999,9,308.97,2,311.8,2,0.17,2,7.63,2,0.58,2,4.61,2,-999,9,-999,9.00E+00,2140.44,2,2312.85,2,-999,9,-999
58JH20220524,554,1,720,1,20220608,606,4.9195,71.417,2795,2856.76,-0.73,34.911,2,-999,9,292.52,2,-999,9,0.02,2,14.73,2,0.99,2,13.8,2,0.663807,2,0.654511,2.00E+00,2170.2,2,2303.78,2,-999,9,-999
58JH20220524,554,1,721,2,20220608,606,4.9195,71.417,2795,2498.18,-0.756,34.911,2,-999,9,293.02,2,-999,9,0.04,2,15.56,2,1.03,2,13.85,2,0.700796,2,0.606999,2.00E+00,2168.72,2,2301.8,2,-999,9,-999
58JH20220524,554,1,722,3,20220608,606,4.9195,71.417,2795,1998.44,-0.675,34.911,2,-999,9,296.71,2,-999,9,0.02,2,14.16,2,0.97,2,11.85,2,1.152131,2,1.304701,2.00E+00,2168.34,2,2302.57,2,-999,9,-999
58JH20220524,554,1,723,4,20220608,606,4.9195,71.417,2795,1499.86,-0.445,34.909,2,-999,9,302.17,2,-999,9,0.01,2,13.48,2,0.93,2,9.46,2,2.280125,2,2.376763,2.00E+00,2176,2,2300.04,2,-999,9,-999
58JH20220524,554,1,724,5,20220608,606,4.9195,71.417,2795,998.38,0.09,34.903,2,-999,9,303.19,2,-999,9,0.01,2,13.15,2,0.9,2,7.35,2,3.211081,2,3.312551,2.00E+00,2179.97,2,2299.69,2,-999,9,-999
58JH20220524,554,1,725,6,20220608,606,4.9195,71.417,2795,798.22,1.387,34.91,2,-999,9,299.78,2,-999,9,0.01,2,13.11,2,0.9,2,6.59,2,3.255572,2,3.86377,2.00E+00,2178.68,2,2300.09,2,-999,9,-999
58JH20220524,554,1,726,7,20220608,606,4.9195,71.417,2795,498.12,4.471,35.061,2,-999,9,301.48,2,-999,9,0.03,2,11.12,2,0.75,2,5.03,2,2.874402,2,4.701531,2.00E+00,2161.3,2,2309.05,2,-999,9,-999
58JH20220524,554,1,727,8,20220608,606,4.9195,71.417,2795,200.68,4.951,35.078,2,-999,9,298.88,2,-999,9,0.03,2,10.88,2,0.74,2,4.96,2,2.705195,2,4.367541,2.00E+00,2159.27,2,2309.91,2,-999,9,-999
58JH20220524,554,1,728,9,20220608,606,4.9195,71.417,2795,99.75,5.296,35.075,2,-999,9,298.14,2,-999,9,0.1,2,10.65,2,0.73,2,4.94,2,2.733506,2,4.250352,2.00E+00,2159.22,2,2311.43,2,-999,9,-999
58JH20220524,554,1,729,10,20220608,606,4.9195,71.417,2795,49.45,6.358,35.034,2,-999,9,307.78,2,-999,9,0.14,2,6.87,2,0.54,2,4.56,2,2.658723,2,4.060374,2.00E+00,2136.4,2,2313.14,2,-999,9,-999
58JH20220524,554,1,730,11,20220608,606,4.9195,71.417,2795,29.59,6.402,35.038,2,-999,9,307.92,2,-999,9,0.12,2,6.54,2,0.53,2,4.49,2,-999,9,-999,9.00E+00,2133.17,2,2314.58,2,-999,9,-999
58JH20220524,554,1,731,12,20220608,606,4.9195,71.417,2795,9.12,6.411,35.039,2,-999,9,307.77,2,-999,9,0.12,2,6.55,2,0.53,2,4.44,2,2.846172,2,4.133282,2.00E+00,2133.55,2,2313.82,2,-999,9,-999
58JH20220524,555,1,732,1,20220608,1106,6.003667,71.083333,3085,3129.8,-0.725,34.911,2,-999,9,291.9,2,-999,9,0.01,2,14.85,2,1,2,13.76,2,0.627592,2,0.437783,2.00E+00,2169.3,2,2304.4,2,-999,9,-999
58JH20220524,555,1,733,2,20220608,1106,6.003667,71.083333,3085,2501.38,-0.728,34.912,2,-999,9,294.5,2,-999,9,0.01,2,14.45,2,0.98,2,12.63,2,0.812053,2,0.666965,2.00E+00,2166.06,2,2303.6,2,-999,9,-999
58JH20220524,555,1,734,3,20220608,1106,6.003667,71.083333,3085,2000.01,-0.684,34.911,2,-999,9,297.06,2,-999,9,0.02,2,14.21,2,0.97,2,11.52,2,1.115315,2,0.983278,2.00E+00,2165.64,2,2301.86,2,-999,9,-999
58JH20220524,555,1,735,4,20220608,1106,6.003667,71.083333,3085,1499.49,-0.515,34.91,2,-999,9,301.9,2,-999,9,0.02,2,13.75,2,0.94,2,9.53,2,1.963706,2,1.484628,2.00E+00,2169.75,2,2324.46,3,-999,9,-999
58JH20220524,555,1,736,5,20220608,1106,6.003667,71.083333,3085,1000.74,-0.099,34.906,2,-999,9,304.59,2,-999,9,0.01,2,13.12,2,0.9,2,7.28,2,2.881183,2,2.741807,2.00E+00,2176.43,2,2299.11,2,-999,9,-999
58JH20220524,555,1,737,6,20220608,1106,6.003667,71.083333,3085,800.18,0.387,34.9,2,-999,9,302.29,2,-999,9,0.02,2,13.17,2,0.9,2,6.71,2,3.116026,2,3.401573,2.00E+00,2177.96,2,2300.23,2,-999,9,-999
58JH20220524,555,1,738,7,20220608,1106,6.003667,71.083333,3085,499.23,4.212,35.051,2,-999,9,302.28,2,-999,9,0.05,2,11.17,2,0.76,2,5.04,2,3.176987,2,4.490624,2.00E+00,2162.18,2,2310.11,2,-999,9,-999
58JH20220524,555,1,739,8,20220608,1106,6.003667,71.083333,3085,199.72,5.046,35.071,2,-999,9,298.34,2,-999,9,0.07,2,10.98,2,0.75,2,5,2,3.092779,2,4.359232,2.00E+00,2158.96,2,2311.34,2,-999,9,-999
58JH20220524,555,1,740,9,20220608,1106,6.003667,71.083333,3085,98.77,5.609,35.068,2,-999,9,293.95,2,-999,9,0.11,2,11,2,0.75,2,5.02,2,2.869147,2,4.338236,2.00E+00,2156.31,2,2311.32,2,-999,9,-999
58JH20220524,555,1,741,10,20220608,1106,6.003667,71.083333,3085,49.85,6.241,35.047,2,-999,9,307.54,2,-999,9,0.17,2,8.41,2,0.64,2,4.72,2,2.737481,2,4.257494,2.00E+00,2147.23,2,2313.24,2,-999,9,-999
58JH20220524,555,1,742,11,20220608,1106,6.003667,71.083333,3085,30.59,6.271,35.05,2,-999,9,309.27,2,-999,9,0.14,2,7.21,2,0.57,2,4.66,2,-999,9,-999,9.00E+00,2138.54,2,2315.07,2,-999,9,-999
58JH20220524,555,1,743,12,20220608,1106,6.003667,71.083333,3085,9.09,6.277,35.05,2,-999,9,309.42,2,-999,9,0.13,2,7.29,2,0.57,2,4.67,2,2.630295,2,4.314405,2.00E+00,2136.01,2,2314.78,2,-999,9,-999
58JH20220524,556,1,744,1,20220608,1606,7.078667,70.751667,3017,3055.59,-0.726,34.911,2,-999,9,291.5,2,292.08,2,0.01,2,14.78,2,1.01,2,14.22,2,-999,9,-999,9.00E+00,2170.89,6,2305.94,2,-999,9,-999
58JH20220524,556,1,745,2,20220608,1606,7.078667,70.751667,3017,2501.45,-0.717,34.912,2,-999,9,294.8,2,294.94,2,0.01,2,14.41,2,0.98,2,12.82,2,-999,9,-999,9.00E+00,2167.67,2,2303.33,2,-999,9,-999
58JH20220524,556,1,746,3,20220608,1606,7.078667,70.751667,3017,1997.47,-0.656,34.911,2,-999,9,297.74,2,298.03,2,0.01,2,14,2,0.97,2,11.21,2,-999,9,-999,9.00E+00,2168.12,2,2301.38,2,-999,9,-999
58JH20220524,556,1,747,4,20220608,1606,7.078667,70.751667,3017,1497.87,-0.451,34.909,2,-999,9,302.14,2,302.38,2,0.01,2,13.61,2,0.94,2,9.17,2,-999,9,-999,9.00E+00,2174.39,2,2301.06,2,-999,9,-999
58JH20220524,556,1,748,5,20220608,1606,7.078667,70.751667,3017,998.65,0.08,34.903,2,-999,9,302.65,2,303.25,2,0.02,2,13.27,2,0.91,2,7.18,2,-999,9,-999,9.00E+00,2178.52,2,2301.86,2,-999,9,-999
58JH20220524,556,1,749,6,20220608,1606,7.078667,70.751667,3017,799.2,1.477,34.909,2,-999,9,297.64,2,297.2,2,0.01,2,13.22,2,0.91,2,6.55,2,-999,9,-999,9.00E+00,2176.52,6,2300.13,2,-999,9,-999
58JH20220524,556,1,750,7,20220608,1606,7.078667,70.751667,3017,500.38,4.918,35.071,2,-999,9,296.95,2,299.95,2,0.03,2,11.12,2,0.76,2,4.81,2,-999,9,-999,9.00E+00,2159.23,2,2311.43,2,-999,9,-999
58JH20220524,556,1,751,8,20220608,1606,7.078667,70.751667,3017,199.42,6.186,35.077,2,-999,9,288.64,2,290.95,2,0.04,2,10.86,2,0.75,2,4.71,2,-999,9,-999,9.00E+00,2154.8,2,2313.62,2,-999,9,-999
58JH20220524,556,1,752,9,20220608,1606,7.078667,70.751667,3017,100.16,6.669,35.074,2,-999,9,288.86,2,290.02,2,0.18,2,9.59,2,0.71,2,4.16,2,-999,9,-999,9.00E+00,2149.76,2,2313.34,2,-999,9,-999
58JH20220524,556,1,753,10,20220608,1606,7.078667,70.751667,3017,48.35,7.159,35.035,2,-999,9,294.01,2,-999,9,-999,9,-999,9,-999,9,-999,9,-999,9,-999,9.00E+00,2135.32,2,2315.45,2,-999,9,-999
58JH20220524,556,1,754,11,20220608,1606,7.078667,70.751667,3017,28.41,7.16,35.036,2,-999,9,294.08,2,297.13,2,0.13,2,6.59,2,0.56,2,3.51,2,-999,9,-999,9.00E+00,2135.22,2,2314.37,2,-999,9,-999
58JH20220524,556,1,755,12,20220608,1606,7.078667,70.751667,3017,9.02,7.157,35.036,2,-999,9,293.89,2,297.56,2,0.13,2,6.68,2,0.56,2,3.46,2,-999,9,-999,9.00E+00,2131.18,2,2316.58,2,-999,9,-999
58JH20220524,557,1,756,1,20220608,2106,8.179,70.406167,2922,2959.38,-0.737,34.911,2,-999,9,292.01,2,-999,9,0.01,2,14.83,2,1,2,14.15,2,-999,9,-999,9.00E+00,2168.56,2,2305.25,2,-999,9,-999
58JH20220524,557,1,757,2,20220608,2106,8.179,70.406167,2922,2499.43,-0.736,34.911,2,-999,9,294.12,2,-999,9,0,2,14.57,2,1,2,13.24,2,-999,9,-999,9.00E+00,2169.29,2,2303.61,2,-999,9,-999
58JH20220524,557,1,758,3,20220608,2106,8.179,70.406167,2922,2000.47,-0.699,34.911,2,-999,9,296.54,2,-999,9,0,2,14.15,2,0.98,2,11.94,2,-999,9,-999,9.00E+00,2167.23,2,2300,2,-999,9,-999
58JH20220524,557,1,759,4,20220608,2106,8.179,70.406167,2922,1499.44,-0.541,34.909,2,-999,9,301.5,2,-999,9,0,2,13.72,2,0.95,2,10.01,2,-999,9,-999,9.00E+00,2172.32,2,2300.43,2,-999,9,-999
58JH20220524,557,1,760,5,20220608,2106,8.179,70.406167,2922,999.31,-0.164,34.907,2,-999,9,304.3,2,-999,9,0,2,13.19,2,0.92,2,7.76,2,-999,9,-999,9.00E+00,2177.28,6,2300.07,2,-999,9,-999
58JH20220524,557,1,761,6,20220608,2106,8.179,70.406167,2922,799.38,0.159,34.903,2,-999,9,303.02,2,-999,9,0.02,2,13.16,2,0.91,2,7.03,2,-999,9,-999,9.00E+00,2178.78,2,2298.79,2,-999,9,-999
58JH20220524,557,1,762,7,20220608,2106,8.179,70.406167,2922,498.76,4.08,35.043,2,-999,9,302.06,2,-999,9,0.02,2,11.21,2,0.77,2,5.12,2,-999,9,-999,9.00E+00,2162.46,2,2308.64,2,-999,9,-999
58JH20220524,557,1,763,8,20220608,2106,8.179,70.406167,2922,199.59,5.265,35.075,2,-999,9,295.63,2,-999,9,0.04,2,11.06,2,0.75,2,5.07,2,-999,9,-999,9.00E+00,2158.26,2,2309.89,2,-999,9,-999
58JH20220524,557,1,764,9,20220608,2106,8.179,70.406167,2922,99.94,5.829,35.069,2,-999,9,291.29,2,-999,9,0.1,2,10.85,2,0.75,2,5.09,2,-999,9,-999,9.00E+00,2153.02,2,2311.66,2,-999,9,-999
58JH20220524,557,1,765,10,20220608,2106,8.179,70.406167,2922,50.13,6.902,35.04,2,-999,9,296.73,2,-999,9,0.19,2,9.49,2,0.7,2,4.46,2,-999,9,-999,9.00E+00,2151.45,2,2310.48,2,-999,9,-999
58JH20220524,557,1,766,11,20220608,2106,8.179,70.406167,2922,29.46,7.026,35.041,2,-999,9,296.93,2,-999,9,0.13,2,6.75,2,0.55,2,3.81,2,-999,9,-999,9.00E+00,2133.82,2,2313.64,2,-999,9,-999
58JH20220524,557,1,767,12,20220608,2106,8.179,70.406167,2922,10.77,7.021,35.043,2,-999,9,296.56,2,-999,9,0.13,2,6.7,2,0.56,2,3.79,2,-999,9,-999,9.00E+00,2133.63,2,2314.01,2,-999,9,-999
58JH20220524,558,1,768,1,20220609,106,8.8835,70.167,2.90E+03,2934.94,-0.737,34.911,2,-999,9,291.78,2,-999,9,0.01,2,14.97,2,1,2,14.17,2,-999,9,-999,9.00E+00,2168.44,2,2305.22,2,-999,9,-999
58JH20220524,558,1,769,2,20220609,106,8.8835,70.167,2.90E+03,2498.99,-0.751,34.911,2,-999,9,293.76,2,-999,9,0,2,14.62,2,0.99,2,13.36,2,-999,9,-999,9.00E+00,2168.67,2,2302.71,2,-999,9,-999
58JH20220524,558,1,770,3,20220609,106,8.8835,70.167,2.90E+03,1999.55,-0.726,34.911,2,-999,9,295.77,2,-999,9,0,2,14.38,2,0.97,2,12.36,2,-999,9,-999,9.00E+00,2167.89,2,2300.05,2,-999,9,-999
58JH20220524,558,1,771,4,20220609,106,8.8835,70.167,2.90E+03,1498.02,-0.614,34.91,2,-999,9,299.33,2,-999,9,0,2,14.03,2,0.95,2,10.71,2,-999,9,-999,9.00E+00,2167.79,2,2300.99,2,-999,9,-999
58JH20220524,558,1,772,5,20220609,106,8.8835,70.167,2.90E+03,999.56,-0.277,34.908,2,-999,9,302.72,2,-999,9,0,2,13.37,2,0.91,2,8.52,2,-999,9,-999,9.00E+00,2176.47,2,2306.06,2,-999,9,-999
58JH20220524,558,1,773,6,20220609,106,8.8835,70.167,2.90E+03,799.66,-0.087,34.904,2,-999,9,304.01,2,-999,9,0.01,2,13.24,2,0.9,2,7.71,2,-999,9,-999,9.00E+00,2178.49,2,2301.75,2,-999,9,-999
58JH20220524,558,1,774,7,20220609,106,8.8835,70.167,2.90E+03,498.71,1.56,34.906,2,-999,9,298.31,2,-999,9,0.01,2,13.31,2,0.91,2,6.61,2,-999,9,-999,9.00E+00,2178.92,2,2299.03,2,-999,9,-999
58JH20220524,558,1,775,8,20220609,106,8.8835,70.167,2.90E+03,199.52,5.386,35.063,2,-999,9,296.38,2,-999,9,0.3,2,10.33,2,0.73,2,4.7,2,-999,9,-999,9.00E+00,2157.98,2,2311.33,2,-999,9,-999
58JH20220524,558,1,776,9,20220609,106,8.8835,70.167,2.90E+03,99.51,6.048,35.063,2,-999,9,289.86,2,-999,9,0.09,2,11.37,2,0.77,2,5.14,2,-999,9,-999,9.00E+00,2158.49,2,2309.61,2,-999,9,-999
58JH20220524,558,1,777,10,20220609,106,8.8835,70.167,2.90E+03,49.19,6.745,35.057,2,-999,9,298.4,2,-999,9,0.17,2,8.58,2,0.63,2,4.42,2,-999,9,-999,9.00E+00,2143.74,2,2311.72,2,-999,9,-999
58JH20220524,558,1,778,11,20220609,106,8.8835,70.167,2.90E+03,28.96,7.297,35.049,2,-999,9,297.01,2,-999,9,0.13,2,6.86,2,0.55,2,3.86,2,-999,9,-999,9.00E+00,2133.63,2,2314.13,2,-999,9,-999
58JH20220524,558,1,779,12,20220609,106,8.8835,70.167,2.90E+03,9.03,7.313,35.054,2,-999,9,296.37,2,-999,9,0.12,2,6.61,2,0.54,2,3.9,2,-999,9,-999,9.00E+00,-999,9,2313.94,2,-999,9,-999
58JH20220524,559,1,780,1,20220609,506,9.581,69.951833,2878,2911.3,-0.737,34.911,2,-999,9,292,2,-999,9,0,2,14.78,2,1,2,14.16,2,-999,9,-999,9.00E+00,2170.48,2,2305.13,2,-999,9,-999
58JH20220524,559,1,781,2,20220609,506,9.581,69.951833,2878,2499.84,-0.736,34.911,2,-999,9,294.34,2,-999,9,0.02,2,14.84,2,1,2,13.23,2,-999,9,-999,9.00E+00,2167.34,2,2303.76,2,-999,9,-999
58JH20220524,559,1,782,3,20220609,506,9.581,69.951833,2878,1998.91,-0.698,34.912,2,-999,9,296.47,2,-999,9,0.01,2,14.22,2,0.97,2,12.08,2,-999,9,-999,9.00E+00,2167.33,2,2299.43,2,-999,9,-999
58JH20220524,559,1,783,4,20220609,506,9.581,69.951833,2878,1500.32,-0.564,34.91,2,-999,9,300.78,2,-999,9,0.03,2,13.86,2,0.95,2,10.28,2,-999,9,-999,9.00E+00,2169.79,2,2298.84,2,-999,9,-999
58JH20220524,559,1,784,5,20220609,506,9.581,69.951833,2878,999.27,-0.192,34.907,2,-999,9,304.69,2,-999,9,0.02,2,13.51,2,0.92,2,7.92,2,-999,9,-999,9.00E+00,2176.16,2,2298.25,2,-999,9,-999
58JH20220524,559,1,785,6,20220609,506,9.581,69.951833,2878,799.67,0.102,34.903,2,-999,9,303.51,2,-999,9,0.02,2,13.26,2,0.91,2,7.21,2,-999,9,-999,9.00E+00,2179.58,2,2299.5,2,-999,9,-999
58JH20220524,559,1,786,7,20220609,506,9.581,69.951833,2878,499.06,3.938,35.02,2,-999,9,299.78,2,-999,9,0.04,2,12.04,2,0.81,2,5.37,2,-999,9,-999,9.00E+00,2163.55,2,2307.59,2,-999,9,-999
58JH20220524,559,1,787,8,20220609,506,9.581,69.951833,2878,198.96,5.779,35.067,2,-999,9,291.74,2,-999,9,0.16,2,10.77,2,0.74,2,4.94,2,-999,9,-999,9.00E+00,2158.04,2,2310.89,2,-999,9,-999
58JH20220524,559,1,788,9,20220609,506,9.581,69.951833,2878,99.47,6.637,35.05,2,-999,9,290.37,2,-999,9,0.18,2,9.29,2,0.7,2,4.26,2,-999,9,-999,9.00E+00,2155.18,2,2313.22,2,-999,9,-999
58JH20220524,559,1,789,10,20220609,506,9.581,69.951833,2878,50.62,6.949,35.044,2,-999,9,294.37,2,-999,9,0.14,2,7.49,2,0.59,2,4.07,2,-999,9,-999,9.00E+00,2142.14,2,2314.14,2,-999,9,-999
58JH20220524,559,1,790,11,20220609,506,9.581,69.951833,2878,30.53,6.962,35.042,2,-999,9,295.62,2,-999,9,0.14,2,7.4,2,0.58,2,4.02,2,-999,9,-999,9.00E+00,2139.6,2,2314.26,2,-999,9,-999
58JH20220524,559,1,791,12,20220609,506,9.581,69.951833,2878,9.72,6.967,35.041,2,-999,9,295.56,2,-999,9,0.13,2,7.45,2,0.58,2,4.13,2,-999,9,-999,9.00E+00,2139.64,2,2315.03,2,-999,9,-999