BOTTLE,,,,,,,,,,,,,,,,,,,,,,,,,,,,,,,,,,,,,,
EXPOCODE, STNNBR, CASTNO,SAMPNO,BTLNBR, DATE, TIME, LONGITUDE, LATITUDE, MAXDEPTH, CTDPRS, CTDTMP, CTDSAL, CTDSAL_FLAG_W, SALNTY, SALNTY_FLAG_W, CTDOXY, CTDOXY_FLAG_W, OXYGEN, OXYGEN_FLAG_W, NITRIT, NITRIT_FLAG_W, NITRAT, NITRAT_FLAG_W, PHSPHT, PHSPHT_FLAG_W, SILCAT, SILCAT_FLAG_W, CFC12, CFC12_FLAG_W, SF6, SF6_FLAG_W, TCARBN, TCARBN_FLAG_W, ALKALI, ALKALI_FLAG_W, PH_TOT, PH_FLAG_W, PH_TEMP
, , ,, , , , , , meter, dbar, ITS-90, PSS-78, , PSS-78, , umol/kg, , umol/kg, , umol/kg, , umol/kg, , umol/kg, , umol/kg, , pmol/kg,  , fmol/kg,  , umol/kg, , umol/kg, , , , degC
58JH20220524,572,1,899,1,20220611,306,12.280833,69.033667,2681,2713.99,-0.75,34.911,2,-999,9,292.37,2,-999,9,0.01,2,14.82,2,0.99,2,13.73,2,-999,9,-999,9.00E+00,-999,9,-999,9,-999,9,-999
58JH20220524,572,1,900,2,20220611,306,12.280833,69.033667,2681,1999.12,-0.701,34.912,2,-999,9,296.74,2,-999,9,0.01,2,14.24,2,0.96,2,11.89,2,-999,9,-999,9.00E+00,-999,9,-999,9,-999,9,-999
58JH20220524,572,1,901,3,20220611,306,12.280833,69.033667,2681,1498.39,-0.575,34.911,2,-999,9,300.02,2,-999,9,0.02,2,13.91,2,0.94,2,10.49,2,-999,9,-999,9.00E+00,-999,9,-999,9,-999,9,-999
58JH20220524,572,1,902,4,20220611,306,12.280833,69.033667,2681,998.2,-0.206,34.908,2,-999,9,304.76,2,-999,9,0.01,2,13.33,2,0.9,2,7.97,2,-999,9,-999,9.00E+00,-999,9,-999,9,-999,9,-999
58JH20220524,572,1,903,5,20220611,306,12.280833,69.033667,2681,798.55,0.185,34.904,2,-999,9,302.58,2,-999,9,0.01,2,13.26,2,0.9,2,7.21,2,-999,9,-999,9.00E+00,-999,9,-999,9,-999,9,-999
58JH20220524,572,1,904,6,20220611,306,12.280833,69.033667,2681,498.57,4.611,35.047,2,-999,9,298.92,2,-999,9,0.02,2,11.69,2,0.78,2,5.48,2,-999,9,-999,9.00E+00,-999,9,-999,9,-999,9,-999
58JH20220524,572,1,905,7,20220611,306,12.280833,69.033667,2681,398.38,4.951,35.067,2,-999,9,296.61,2,-999,9,0.03,2,11.23,2,0.75,2,4.98,2,-999,9,-999,9.00E+00,-999,9,-999,9,-999,9,-999
58JH20220524,572,1,906,8,20220611,306,12.280833,69.033667,2681,198.71,6.191,35.07,2,-999,9,289.47,2,-999,9,0.15,2,10.81,2,0.72,2,4.85,2,-999,9,-999,9.00E+00,-999,9,-999,9,-999,9,-999
58JH20220524,572,1,907,9,20220611,306,12.280833,69.033667,2681,98.13,6.819,35.093,2,-999,9,288.94,2,-999,9,0.18,2,9.98,2,0.7,2,4.38,2,-999,9,-999,9.00E+00,-999,9,-999,9,-999,9,-999
58JH20220524,572,1,908,10,20220611,306,12.280833,69.033667,2681,48.39,7.389,35.089,2,-999,9,291.3,2,-999,9,0.14,2,8.64,2,0.63,2,4.32,2,-999,9,-999,9.00E+00,-999,9,-999,9,-999,9,-999
58JH20220524,572,1,909,11,20220611,306,12.280833,69.033667,2681,28.03,7.492,35.078,2,-999,9,297.74,2,-999,9,0.14,2,8.16,2,0.6,2,3.94,2,-999,9,-999,9.00E+00,-999,9,-999,9,-999,9,-999
58JH20220524,572,1,910,12,20220611,306,12.280833,69.033667,2681,8.61,7.491,35.079,2,-999,9,297.32,2,-999,9,0.13,2,7.15,2,0.55,2,3.73,2,-999,9,-999,9.00E+00,-999,9,-999,9,-999,9,-999
58JH20220524,573,1,911,1,20220611,806,11.9515,69.132167,2882,2918.7,-0.736,34.911,2,-999,9,291.55,2,-999,9,0.03,2,14.98,2,0.99,2,13.98,2,-999,9,-999,9.00E+00,-999,9,-999,9,-999,9,-999
58JH20220524,573,1,912,2,20220611,806,11.9515,69.132167,2882,2498.31,-0.732,34.912,2,-999,9,294.13,2,-999,9,0.01,2,14.6,2,0.98,2,12.85,2,-999,9,-999,9.00E+00,-999,9,-999,9,-999,9,-999
58JH20220524,573,1,913,3,20220611,806,11.9515,69.132167,2882,1998.5,-0.691,34.912,2,-999,9,296.96,2,-999,9,0.02,2,14.42,2,0.96,2,11.81,2,-999,9,-999,9.00E+00,-999,9,-999,9,-999,9,-999
58JH20220524,573,1,914,4,20220611,806,11.9515,69.132167,2882,1498.42,-0.533,34.91,2,-999,9,301.53,2,-999,9,0.02,2,13.89,2,0.93,2,9.89,2,-999,9,-999,9.00E+00,-999,9,-999,9,-999,9,-999
58JH20220524,573,1,915,5,20220611,806,11.9515,69.132167,2882,998.67,-0.121,34.907,2,-999,9,304.36,2,-999,9,0.02,2,13.39,2,0.89,2,7.51,2,-999,9,-999,9.00E+00,-999,9,-999,9,-999,9,-999
58JH20220524,573,1,916,6,20220611,806,11.9515,69.132167,2882,798.72,0.344,34.901,2,-999,9,302.32,2,-999,9,0.03,2,13.55,2,0.91,2,6.96,2,-999,9,-999,9.00E+00,-999,9,-999,9,-999,9,-999
58JH20220524,573,1,917,7,20220611,806,11.9515,69.132167,2882,498.54,4.493,35.039,2,-999,9,297.27,2,-999,9,0.03,2,11.51,2,0.77,2,5.06,2,-999,9,-999,9.00E+00,-999,9,-999,9,-999,9,-999
58JH20220524,573,1,918,8,20220611,806,11.9515,69.132167,2882,198.58,5.92,35.066,2,-999,9,290.02,2,-999,9,0.04,2,11.15,2,0.74,2,4.92,2,-999,9,-999,9.00E+00,-999,9,-999,9,-999,9,-999
58JH20220524,573,1,919,9,20220611,806,11.9515,69.132167,2882,98.79,6.653,35.084,2,-999,9,286.62,2,-999,9,0.19,2,10.42,2,0.72,2,4.63,2,-999,9,-999,9.00E+00,-999,9,-999,9,-999,9,-999
58JH20220524,573,1,920,10,20220611,806,11.9515,69.132167,2882,48.61,7.18,35.048,2,-999,9,296.71,2,-999,9,0.16,2,8.28,2,0.62,2,4.08,2,-999,9,-999,9.00E+00,-999,9,-999,9,-999,9,-999
58JH20220524,573,1,921,11,20220611,806,11.9515,69.132167,2882,28.61,7.406,35.065,2,-999,9,294.98,2,-999,9,0.13,2,6.79,2,0.54,2,3.75,2,-999,9,-999,9.00E+00,-999,9,-999,9,-999,9,-999
58JH20220524,573,1,922,12,20220611,806,11.9515,69.132167,2882,8.53,7.982,35.102,2,-999,9,291.41,2,-999,9,0.11,2,6.76,2,0.54,2,3.95,2,-999,9,-999,9.00E+00,-999,9,-999,9,-999,9,-999
58JH20220524,574,1,923,1,20220611,1106,11.617167,69.230833,2928,2969.72,-0.732,34.911,2,-999,9,291.62,2,-999,9,0.02,2,15.05,2,1,2,14.06,2,-999,9,-999,9.00E+00,-999,9,-999,9,-999,9,-999
58JH20220524,574,1,924,2,20220611,1106,11.617167,69.230833,2928,2498.43,-0.725,34.912,2,-999,9,294.48,2,-999,9,0.02,2,14.62,2,0.98,2,12.67,2,-999,9,-999,9.00E+00,-999,9,-999,9,-999,9,-999
58JH20220524,574,1,925,3,20220611,1106,11.617167,69.230833,2928,1998.27,-0.678,34.911,2,-999,9,297.07,2,-999,9,0.02,2,14.32,2,0.97,2,11.6,2,-999,9,-999,9.00E+00,-999,9,-999,9,-999,9,-999
58JH20220524,574,1,926,4,20220611,1106,11.617167,69.230833,2928,1498.66,-0.515,34.91,2,-999,9,302.07,2,-999,9,0.02,2,13.71,2,0.93,2,9.58,2,-999,9,-999,9.00E+00,-999,9,-999,9,-999,9,-999
58JH20220524,574,1,927,5,20220611,1106,11.617167,69.230833,2928,998.78,-0.097,34.906,2,-999,9,304.48,2,-999,9,0.03,2,13.28,2,0.89,2,7.37,2,-999,9,-999,9.00E+00,-999,9,-999,9,-999,9,-999
58JH20220524,574,1,928,6,20220611,1106,11.617167,69.230833,2928,798.03,0.43,34.898,2,-999,9,301.18,2,-999,9,0.02,2,13.32,2,0.89,2,6.89,2,-999,9,-999,9.00E+00,-999,9,-999,9,-999,9,-999
58JH20220524,574,1,929,7,20220611,1106,11.617167,69.230833,2928,498.55,4.71,35.065,2,-999,9,298.74,2,-999,9,0.02,2,11.22,2,0.75,2,4.75,2,-999,9,-999,9.00E+00,-999,9,-999,9,-999,9,-999
58JH20220524,574,1,930,8,20220611,1106,11.617167,69.230833,2928,198.48,6.398,35.076,2,-999,9,288.98,2,-999,9,0.2,2,10.52,2,0.71,2,4.57,2,-999,9,-999,9.00E+00,-999,9,-999,9,-999,9,-999
58JH20220524,574,1,931,9,20220611,1106,11.617167,69.230833,2928,98.66,7.038,35.114,2,-999,9,284.96,2,-999,9,0.14,2,10.82,2,0.73,2,4.55,2,-999,9,-999,9.00E+00,-999,9,-999,9,-999,9,-999
58JH20220524,574,1,932,10,20220611,1106,11.617167,69.230833,2928,48.53,7.694,35.113,2,-999,9,289.99,2,-999,9,0.15,2,8.34,2,0.61,2,4.15,2,-999,9,-999,9.00E+00,-999,9,-999,9,-999,9,-999
58JH20220524,574,1,933,11,20220611,1106,11.617167,69.230833,2928,28.57,7.779,35.116,2,-999,9,291,2,-999,9,0.14,2,8.05,2,0.59,2,4.2,2,-999,9,-999,9.00E+00,-999,9,-999,9,-999,9,-999
58JH20220524,574,1,934,12,20220611,1106,11.617167,69.230833,2928,8.35,7.957,35.119,2,-999,9,290.22,2,-999,9,0.14,2,7.85,2,0.57,2,4.18,2,-999,9,-999,9.00E+00,-999,9,-999,9,-999,9,-999
58JH20220524,575,1,935,1,20220611,1506,10.952667,69.4825,2948,2990.03,-0.73,34.911,2,-999,9,291.92,2,-999,9,0.02,2,15,2,0.99,2,13.96,2,-999,9,-999,9.00E+00,-999,9,-999,9,-999,9,-999
58JH20220524,575,1,936,2,20220611,1506,10.952667,69.4825,2948,2498.57,-0.72,34.912,2,-999,9,294.59,2,-999,9,0.01,2,14.73,2,0.97,2,12.67,2,-999,9,-999,9.00E+00,-999,9,-999,9,-999,9,-999
58JH20220524,575,1,937,3,20220611,1506,10.952667,69.4825,2948,1999.29,-0.676,34.911,2,-999,9,297.36,2,-999,9,0.01,2,14.34,2,0.96,2,11.55,2,-999,9,-999,9.00E+00,-999,9,-999,9,-999,9,-999
58JH20220524,575,1,938,4,20220611,1506,10.952667,69.4825,2948,1498.5,-0.471,34.911,2,-999,9,301.55,2,-999,9,0.01,2,13.67,2,0.92,2,9.56,2,-999,9,-999,9.00E+00,-999,9,-999,9,-999,9,-999
58JH20220524,575,1,939,5,20220611,1506,10.952667,69.4825,2948,997.12,-0.087,34.905,2,-999,9,303.86,2,-999,9,0.02,2,13.2,2,0.89,2,7.45,2,-999,9,-999,9.00E+00,-999,9,-999,9,-999,9,-999
58JH20220524,575,1,940,6,20220611,1506,10.952667,69.4825,2948,798.64,0.532,34.898,2,-999,9,301.07,2,-999,9,0.02,2,13.17,2,0.89,2,6.7,2,-999,9,-999,9.00E+00,-999,9,-999,9,-999,9,-999
58JH20220524,575,1,941,7,20220611,1506,10.952667,69.4825,2948,498.49,4.68,35.054,2,-999,9,298.86,2,-999,9,0.02,2,11.23,2,0.75,2,5.02,2,-999,9,-999,9.00E+00,-999,9,-999,9,-999,9,-999
58JH20220524,575,1,942,8,20220611,1506,10.952667,69.4825,2948,197.75,6.251,35.069,2,-999,9,288.62,2,-999,9,0.18,2,10.22,2,0.71,2,4.77,2,-999,9,-999,9.00E+00,-999,9,-999,9,-999,9,-999
58JH20220524,575,1,943,9,20220611,1506,10.952667,69.4825,2948,98.59,6.975,35.114,2,-999,9,285.49,2,-999,9,0.18,2,10.7,2,0.72,2,4.79,2,-999,9,-999,9.00E+00,-999,9,-999,9,-999,9,-999
58JH20220524,575,1,944,10,20220611,1506,10.952667,69.4825,2948,48.37,7.541,35.091,2,-999,9,291.12,2,-999,9,0.18,2,9.25,2,0.66,2,4.56,2,-999,9,-999,9.00E+00,-999,9,-999,9,-999,9,-999
58JH20220524,575,1,945,11,20220611,1506,10.952667,69.4825,2948,28.71,7.993,35.095,2,-999,9,292.25,2,-999,9,0.15,2,7.43,2,0.56,2,3.99,2,-999,9,-999,9.00E+00,-999,9,-999,9,-999,9,-999
58JH20220524,575,1,946,12,20220611,1506,10.952667,69.4825,2948,8.29,7.93,35.071,2,-999,9,292.01,2,-999,9,0.13,2,6.43,2,0.52,2,3.93,2,-999,9,-999,9.00E+00,-999,9,-999,9,-999,9,-999
58JH20220524,576,1,947,1,20220612,406,6.000667,69.900167,3191,3235.96,-0.715,34.911,2,-999,9,290.92,2,291.08,2,0.02,2,14.99,2,0.99,2,13.95,2,-999,9,-999,9.00E+00,-999,9,-999,9,-999,9,-999
58JH20220524,576,1,948,2,20220612,406,6.000667,69.900167,3191,2500.26,-0.727,34.912,2,-999,9,294.41,2,293.9,2,0.02,2,14.74,2,0.98,2,12.71,2,-999,9,-999,9.00E+00,-999,9,-999,9,-999,9,-999
58JH20220524,576,1,949,3,20220612,406,6.000667,69.900167,3191,1997.3,-0.69,34.911,2,-999,9,297,2,297.16,2,0.03,2,14.29,2,0.96,2,11.59,2,-999,9,-999,9.00E+00,-999,9,-999,9,-999,9,-999
58JH20220524,576,1,950,4,20220612,406,6.000667,69.900167,3191,1497.29,-0.553,34.91,2,-999,9,301.52,2,301.38,2,0.01,2,13.72,2,0.93,2,9.86,2,-999,9,-999,9.00E+00,-999,9,-999,9,-999,9,-999
58JH20220524,576,1,951,5,20220612,406,6.000667,69.900167,3191,998.04,-0.18,34.907,2,-999,9,305.19,2,303.81,2,0.03,2,13.2,2,0.9,2,7.62,2,-999,9,-999,9.00E+00,-999,9,-999,9,-999,9,-999
58JH20220524,576,1,952,6,20220612,406,6.000667,69.900167,3191,799.43,0.073,34.904,2,-999,9,304.02,2,304.25,2,0.04,2,13.21,2,0.89,2,7.07,2,-999,9,-999,9.00E+00,-999,9,-999,9,-999,9,-999
58JH20220524,576,1,953,7,20220612,406,6.000667,69.900167,3191,499,2.27,34.922,2,-999,9,298.01,2,297.82,2,0.03,2,12.85,2,0.88,2,6.1,2,-999,9,-999,9.00E+00,-999,9,-999,9,-999,9,-999
58JH20220524,576,1,954,8,20220612,406,6.000667,69.900167,3191,197.45,5.066,35.056,2,-999,9,296.47,2,298.05,2,0.06,2,11.28,2,0.79,2,4.94,2,-999,9,-999,9.00E+00,-999,9,-999,9,-999,9,-999
58JH20220524,576,1,955,9,20220612,406,6.000667,69.900167,3191,98.82,5.607,35.068,2,-999,9,294.05,2,296.84,2,0.28,2,10.33,2,0.73,2,4.79,2,-999,9,-999,9.00E+00,-999,9,-999,9,-999,9,-999
58JH20220524,576,1,956,10,20220612,406,6.000667,69.900167,3191,49.41,6.796,35.048,2,-999,9,301.48,2,296.89,2,0.22,2,8.85,2,0.67,2,4.38,2,-999,9,-999,9.00E+00,-999,9,-999,9,-999,9,-999
58JH20220524,576,1,957,11,20220612,406,6.000667,69.900167,3191,28.4,6.972,35.052,2,-999,9,301.66,2,303.12,2,0.13,2,6.7,2,0.55,2,3.89,2,-999,9,-999,9.00E+00,-999,9,-999,9,-999,9,-999
58JH20220524,576,1,958,12,20220612,406,6.000667,69.900167,3191,8.38,7.018,35.052,2,-999,9,301.61,2,305.2,2,0.12,2,6.56,2,0.53,2,3.92,2,-999,9,-999,9.00E+00,-999,9,-999,9,-999,9,-999
58JH20220524,577,1,959,1,20220612,1106,3.498,69.901833,3222,3271.34,-0.71,34.911,2,-999,9,291.55,2,290.03,2,0.02,2,14.86,2,0.99,2,14.03,2,-999,9,-999,9.00E+00,-999,9,-999,9,-999,9,-999
58JH20220524,577,1,960,2,20220612,1106,3.498,69.901833,3222,2496.73,-0.71,34.913,2,-999,9,294.78,2,293.47,2,0.02,2,14.53,2,0.97,2,12.58,2,-999,9,-999,9.00E+00,-999,9,-999,9,-999,9,-999
58JH20220524,577,1,961,3,20220612,1106,3.498,69.901833,3222,1998.68,-0.647,34.912,2,-999,9,298.14,2,293.82,2,0.02,2,14.2,2,0.95,2,11.22,2,-999,9,-999,9.00E+00,-999,9,-999,9,-999,9,-999
58JH20220524,577,1,962,4,20220612,1106,3.498,69.901833,3222,1498.47,-0.415,34.91,2,-999,9,303.4,2,300.99,2,0.02,2,13.66,2,0.92,2,8.95,2,-999,9,-999,9.00E+00,-999,9,-999,9,-999,9,-999
58JH20220524,577,1,963,5,20220612,1106,3.498,69.901833,3222,999.13,0.258,34.902,2,-999,9,303.39,2,302.52,2,0.02,2,13.38,2,0.9,2,6.84,2,-999,9,-999,9.00E+00,-999,9,-999,9,-999,9,-999
58JH20220524,577,1,964,6,20220612,1106,3.498,69.901833,3222,796.89,2.278,34.915,2,-999,9,297.26,2,297.69,2,0.02,2,13.15,2,0.89,2,6.17,2,-999,9,-999,9.00E+00,-999,9,-999,9,-999,9,-999
58JH20220524,577,1,965,7,20220612,1106,3.498,69.901833,3222,498.29,4.672,35.067,2,-999,9,301.35,2,298.46,2,0.14,2,11.28,2,0.75,2,4.82,2,-999,9,-999,9.00E+00,-999,9,-999,9,-999,9,-999
58JH20220524,577,1,966,8,20220612,1106,3.498,69.901833,3222,198.26,5.178,35.064,2,-999,9,295.54,2,299.79,2,0.11,2,10.92,2,0.74,2,4.83,2,-999,9,-999,9.00E+00,-999,9,-999,9,-999,9,-999
58JH20220524,577,1,967,9,20220612,1106,3.498,69.901833,3222,98.35,6.04,35.065,2,-999,9,293.26,2,294.51,2,0.19,2,10.59,2,0.73,2,4.72,2,-999,9,-999,9.00E+00,-999,9,-999,9,-999,9,-999
58JH20220524,577,1,968,10,20220612,1106,3.498,69.901833,3222,48.86,6.701,35.052,2,-999,9,298.51,3,289.15,2,0.15,2,8.39,2,0.62,2,4.19,2,-999,9,-999,9.00E+00,-999,9,-999,9,-999,9,-999
58JH20220524,577,1,969,11,20220612,1106,3.498,69.901833,3222,27.14,6.777,35.05,2,-999,9,301.06,2,299.76,2,0.13,2,7.49,2,0.58,2,4.04,2,-999,9,-999,9.00E+00,-999,9,-999,9,-999,9,-999
58JH20220524,577,1,970,12,20220612,1106,3.498,69.901833,3222,8.28,6.806,35.05,2,-999,9,300.88,2,-999,9,0.13,2,7.48,2,0.57,2,4.1,2,-999,9,-999,9.00E+00,-999,9,-999,9,-999,9,-999
58JH20220524,578,1,971,1,20220612,1906,0.834833,69.804667,3041,3081,-0.724,34.911,2,-999,9,291.49,2,293.64,2,0.03,2,14.82,2,0.99,2,13.95,2,-999,9,-999,9.00E+00,-999,9,-999,9,-999,9,-999
58JH20220524,578,1,972,2,20220612,1906,0.834833,69.804667,3041,2498.24,-0.703,34.912,2,-999,9,295.32,2,297.46,2,0.03,2,14.36,2,0.96,2,12.41,2,-999,9,-999,9.00E+00,-999,9,-999,9,-999,9,-999
58JH20220524,578,1,973,3,20220612,1906,0.834833,69.804667,3041,1997.96,-0.599,34.911,2,-999,9,299.68,2,300.03,2,0.02,2,13.97,2,0.94,2,10.74,2,-999,9,-999,9.00E+00,-999,9,-999,9,-999,9,-999
58JH20220524,578,1,974,4,20220612,1906,0.834833,69.804667,3041,1496.64,-0.155,34.908,2,-999,9,305.78,2,307.12,2,0.01,2,13.22,2,0.89,2,7.67,2,-999,9,-999,9.00E+00,-999,9,-999,9,-999,9,-999
58JH20220524,578,1,975,5,20220612,1906,0.834833,69.804667,3041,998.19,4.768,35.072,2,-999,9,300.67,2,303.5,2,0.02,2,10.92,2,0.74,2,4.76,2,-999,9,-999,9.00E+00,-999,9,-999,9,-999,9,-999
58JH20220524,578,1,976,6,20220612,1906,0.834833,69.804667,3041,799.7,4.755,35.074,2,-999,9,300.69,2,302.37,2,0.03,2,11.13,2,0.74,2,4.78,2,-999,9,-999,9.00E+00,-999,9,-999,9,-999,9,-999
58JH20220524,578,1,977,7,20220612,1906,0.834833,69.804667,3041,498.12,4.732,35.074,2,-999,9,300.72,2,304.59,2,0.03,2,10.94,2,0.74,2,4.78,2,-999,9,-999,9.00E+00,-999,9,-999,9,-999,9,-999
58JH20220524,578,1,978,8,20220612,1906,0.834833,69.804667,3041,199.8,4.719,35.074,2,-999,9,301.05,2,303.68,2,0.05,2,10.97,2,0.74,2,4.81,2,-999,9,-999,9.00E+00,-999,9,-999,9,-999,9,-999
58JH20220524,578,1,979,9,20220612,1906,0.834833,69.804667,3041,97.26,5.738,35.087,2,-999,9,294.06,2,293.63,2,0.07,2,10.87,2,0.73,2,4.83,2,-999,9,-999,9.00E+00,-999,9,-999,9,-999,9,-999
58JH20220524,578,1,980,10,20220612,1906,0.834833,69.804667,3041,47.7,5.873,35.081,2,-999,9,298.39,2,297.03,2,0.18,2,10.23,2,0.7,2,4.62,2,-999,9,-999,9.00E+00,-999,9,-999,9,-999,9,-999
58JH20220524,578,1,981,11,20220612,1906,0.834833,69.804667,3041,27.21,6.134,35.075,2,-999,9,305.57,2,306.55,2,0.18,2,8.5,2,0.61,2,4.48,2,-999,9,-999,9.00E+00,-999,9,-999,9,-999,9,-999
58JH20220524,578,1,982,12,20220612,1906,0.834833,69.804667,3041,8.92,6.133,35.076,2,-999,9,305.63,2,308.38,2,0.17,2,8.64,2,0.61,2,4.51,2,-999,9,-999,9.00E+00,-999,9,-999,9,-999,9,-999
58JH20220524,579,1,983,1,20220612,2206,0.6595,69.767833,3233,2000.73,-0.574,34.91,2,-999,9,299.88,2,-999,9,0.02,2,14.12,2,0.95,2,10.22,2,-999,9,-999,9.00E+00,-999,9,-999,9,-999,9,-999
58JH20220524,579,1,984,2,20220612,2206,0.6595,69.767833,3233,1799.07,-0.461,34.91,2,-999,9,302.36,2,-999,9,0.02,2,13.86,2,0.93,2,9.22,2,-999,9,-999,9.00E+00,-999,9,-999,9,-999,9,-999
58JH20220524,579,1,985,3,20220612,2206,0.6595,69.767833,3233,1498.26,-0.201,34.909,2,-999,9,304.47,2,-999,9,0.03,2,13.42,2,0.91,2,7.83,2,-999,9,-999,9.00E+00,-999,9,-999,9,-999,9,-999
58JH20220524,579,1,986,4,20220612,2206,0.6595,69.767833,3233,999.27,4.65,35.071,2,-999,9,300.56,2,-999,9,0.03,2,11.14,2,0.75,2,4.83,2,-999,9,-999,9.00E+00,-999,9,-999,9,-999,9,-999
58JH20220524,579,1,987,5,20220612,2206,0.6595,69.767833,3233,796.49,4.755,35.073,2,-999,9,300.42,2,-999,9,0.04,2,10.99,2,0.73,2,4.71,2,-999,9,-999,9.00E+00,-999,9,-999,9,-999,9,-999
58JH20220524,579,1,988,6,20220612,2206,0.6595,69.767833,3233,498.31,4.739,35.074,2,-999,9,300.54,2,-999,9,0.05,2,11.16,2,0.74,2,4.74,2,-999,9,-999,9.00E+00,-999,9,-999,9,-999,9,-999
58JH20220524,579,1,989,7,20220612,2206,0.6595,69.767833,3233,398.03,4.737,35.074,2,-999,9,300.38,2,-999,9,0.04,2,11.21,2,0.74,2,4.72,2,-999,9,-999,9.00E+00,-999,9,-999,9,-999,9,-999
58JH20220524,579,1,990,8,20220612,2206,0.6595,69.767833,3233,198.81,4.765,35.075,2,-999,9,300.84,2,-999,9,0.08,2,11.11,2,0.74,2,4.81,2,-999,9,-999,9.00E+00,-999,9,-999,9,-999,9,-999
58JH20220524,579,1,991,9,20220612,2206,0.6595,69.767833,3233,99.13,5.587,35.09,2,-999,9,294.41,2,-999,9,0.05,2,10.87,2,0.73,2,4.86,2,-999,9,-999,9.00E+00,-999,9,-999,9,-999,9,-999
58JH20220524,579,1,992,10,20220612,2206,0.6595,69.767833,3233,48.16,5.806,35.086,2,-999,9,294.88,2,-999,9,0.08,2,10.77,2,0.72,2,4.73,2,-999,9,-999,9.00E+00,-999,9,-999,9,-999,9,-999
58JH20220524,579,1,993,11,20220612,2206,0.6595,69.767833,3233,27.91,6.088,35.074,2,-999,9,305.71,2,-999,9,0.15,2,9.9,2,0.68,2,4.7,2,-999,9,-999,9.00E+00,-999,9,-999,9,-999,9,-999
58JH20220524,579,1,994,12,20220612,2206,0.6595,69.767833,3233,9.07,6.181,35.073,2,-999,9,306.09,2,-999,9,0.17,2,8.37,2,0.6,2,4.64,2,-999,9,-999,9.00E+00,-999,9,-999,9,-999,9,-999