BOTTLE,,,,,,,,,,,,,,,,,,,,,,,,,,,,,,,,,,,,,,
EXPOCODE, STNNBR, CASTNO,SAMPNO,BTLNBR, DATE, TIME, LONGITUDE, LATITUDE, MAXDEPTH, CTDPRS, CTDTMP, CTDSAL, CTDSAL_FLAG_W, SALNTY, SALNTY_FLAG_W, CTDOXY, CTDOXY_FLAG_W, OXYGEN, OXYGEN_FLAG_W, NITRIT, NITRIT_FLAG_W, NITRAT, NITRAT_FLAG_W, PHSPHT, PHSPHT_FLAG_W, SILCAT, SILCAT_FLAG_W, CFC12, CFC12_FLAG_W, SF6, SF6_FLAG_W, TCARBN, TCARBN_FLAG_W, ALKALI, ALKALI_FLAG_W, PH_TOT, PH_FLAG_W, PH_TEMP
, , ,, , , , , , meter, dbar, ITS-90, PSS-78, , PSS-78, , umol/kg, , umol/kg, , umol/kg, , umol/kg, , umol/kg, , umol/kg, , pmol/kg,  , fmol/kg,  , umol/kg, , umol/kg, , , , degC
58JH20220524,517,1,305,1,20220601,1606,15.501667,74.499,1340,1346.1,-0.77,34.91,2,-999,9,295.01,2,-999,9,0.01,2,14.72,2,0.98,2,12.85,2,0.542826,4,1.271063,3.00E+00,2170.99,2,2300.73,2,-999,9,-999
58JH20220524,517,1,306,2,20220601,1606,15.501667,74.499,1340,1200.71,-0.732,34.91,2,-999,9,295.79,2,-999,9,0.01,2,14.62,2,0.98,2,12.42,2,0.652257,4,1.205159,3.00E+00,2171.05,2,2298.6,2,-999,9,-999
58JH20220524,517,1,307,3,20220601,1606,15.501667,74.499,1340,1000.44,-0.51,34.909,2,-999,9,300.05,2,-999,9,0.02,2,14.17,2,0.96,2,10.54,2,1.090917,4,1.440645,3.00E+00,2173.9,2,2297.33,2,-999,9,-999
58JH20220524,517,1,308,4,20220601,1606,15.501667,74.499,1340,799.85,1.457,34.937,2,-999,9,299.27,2,-999,9,0.01,2,13.01,2,0.89,2,7.14,2,1.818183,4,2.287376,3.00E+00,2173.97,2,2298.34,2,-999,9,-999
58JH20220524,517,1,309,5,20220601,1606,15.501667,74.499,1340,500.33,4.119,35.048,2,-999,9,301.81,2,-999,9,0.05,2,11.15,2,0.75,2,4.84,2,1.939837,4,3.508686,3.00E+00,2162.71,2,2306.04,2,-999,9,-999
58JH20220524,517,1,310,6,20220601,1606,15.501667,74.499,1340,400.15,4.714,35.059,2,-999,9,299.05,2,-999,9,0.07,2,11.2,2,0.75,2,4.8,2,1.882317,4,3.559943,3.00E+00,2158.32,2,2306.79,2,-999,9,-999
58JH20220524,517,1,311,7,20220601,1606,15.501667,74.499,1340,300.67,5.105,35.058,2,-999,9,297.55,2,-999,9,0.18,2,10.58,2,0.72,2,4.59,2,1.860579,4,3.199025,3.00E+00,2157.39,2,2326.75,3,-999,9,-999
58JH20220524,517,1,312,8,20220601,1606,15.501667,74.499,1340,200.73,5.407,35.053,2,-999,9,296.83,2,-999,9,0.17,2,10.4,2,0.71,2,4.51,2,1.804589,4,3.36441,3.00E+00,2155.73,2,2308.06,2,-999,9,-999
58JH20220524,517,1,313,9,20220601,1606,15.501667,74.499,1340,99.77,5.682,35.045,2,-999,9,294.99,2,-999,9,0.17,2,10.3,2,0.7,2,4.43,2,1.831718,4,3.413819,3.00E+00,2153.31,2,2308.36,2,-999,9,-999
58JH20220524,517,1,314,10,20220601,1606,15.501667,74.499,1340,50.59,6.041,35.007,2,-999,9,301.85,2,-999,9,0.17,2,8.59,2,0.62,2,4.1,2,1.817186,4,3.256827,3.00E+00,2147.75,2,2308.04,2,-999,9,-999
58JH20220524,517,1,315,11,20220601,1606,15.501667,74.499,1340,30.18,7.136,34.926,2,-999,9,320.47,2,-999,9,0.14,2,6.63,2,0.53,2,3.84,2,-999,9,-999,9.00E+00,2134.7,2,2309.45,2,-999,9,-999
58JH20220524,517,1,316,12,20220601,1606,15.501667,74.499,1340,9.6,7.293,34.929,2,-999,9,326.01,2,-999,9,0.12,2,3.57,2,0.38,2,3.49,2,1.851272,4,3.298082,3.00E+00,2108.25,2,2312.08,2,-999,9,-999
58JH20220524,518,1,317,1,20220601,1906,15.2525,74.501667,1376,1554.31,-0.738,34.91,2,-999,9,295.12,2,-999,9,0.02,2,14.55,2,0.98,2,12.63,2,0.569392,4,0.961133,3.00E+00,2167.91,2,2299.81,2,-999,9,-999
58JH20220524,518,1,318,2,20220601,1906,15.2525,74.501667,1376,1500.76,-0.74,34.91,2,-999,9,295.14,2,-999,9,0.02,2,14.37,2,0.98,2,12.57,2,0.56312,4,1.213064,3.00E+00,2169.81,2,2298.51,2,-999,9,-999
58JH20220524,518,1,319,3,20220601,1906,15.2525,74.501667,1376,1200.65,-0.529,34.91,2,-999,9,298.23,2,-999,9,0.01,2,14.03,2,0.96,2,10.98,2,0.902079,4,1.238514,3.00E+00,2171.47,6,2298.69,2,-999,9,-999
58JH20220524,518,1,320,4,20220601,1906,15.2525,74.501667,1376,1001.14,-0.119,34.91,2,-999,9,303.79,2,-999,9,0.02,2,13.41,2,0.9,2,7.89,2,1.687578,4,1.982859,3.00E+00,2177.35,6,2295.91,2,-999,9,-999
58JH20220524,518,1,321,5,20220601,1906,15.2525,74.501667,1376,801.28,0.868,34.917,2,-999,9,303.71,2,-999,9,0.01,2,13.06,2,0.89,2,6.73,2,1.981401,4,2.586523,3.00E+00,2176.67,2,2296.74,2,-999,9,-999
58JH20220524,518,1,322,6,20220601,1906,15.2525,74.501667,1376,501.12,3.96,35.045,2,-999,9,304.93,2,-999,9,0.06,2,11.02,2,0.74,2,4.87,2,1.906652,4,3.489733,3.00E+00,2161.31,2,2309.05,2,-999,9,-999
58JH20220524,518,1,323,7,20220601,1906,15.2525,74.501667,1376,400.68,4.33,35.036,2,-999,9,295.54,2,-999,9,0.05,2,11.26,2,0.76,2,5.04,2,1.90462,4,3.597853,3.00E+00,2164.2,2,2304.86,2,-999,9,-999
58JH20220524,518,1,324,8,20220601,1906,15.2525,74.501667,1376,201.19,5.336,35.055,2,-999,9,294.73,2,-999,9,0.12,2,10.56,2,0.71,2,4.66,2,1.794333,4,3.13831,3.00E+00,2156.48,2,2308.46,2,-999,9,-999
58JH20220524,518,1,325,9,20220601,1906,15.2525,74.501667,1376,101.29,5.606,35.04,2,-999,9,295.3,2,-999,9,0.2,2,10.16,2,0.7,2,4.51,2,1.779028,4,3.056279,3.00E+00,2152.04,2,2308.84,2,-999,9,-999
58JH20220524,518,1,326,10,20220601,1906,15.2525,74.501667,1376,50.82,6.09,35.041,2,-999,9,294.57,2,-999,9,0.18,2,10.11,2,0.69,2,4.46,2,1.740758,4,2.824176,3.00E+00,2152.32,2,2308.49,2,-999,9,-999
58JH20220524,518,1,327,11,20220601,1906,15.2525,74.501667,1376,30.17,6.232,34.999,2,-999,9,314.61,2,-999,9,0.14,2,7.56,2,0.57,2,4.09,2,-999,9,-999,9.00E+00,2139.99,2,2307.36,2,-999,9,-999
58JH20220524,518,1,328,12,20220601,1906,15.2525,74.501667,1376,10.52,6.85,34.941,2,-999,9,312.51,2,-999,9,0.13,2,5.29,2,0.45,2,3.74,2,1.800292,4,3.090792,3.00E+00,2123.15,2,2310.52,2,-999,9,-999
58JH20220524,519,1,329,1,20220601,2206,14.4095,74.502833,2028,2051.51,-0.75,34.912,2,-999,9,294.08,2,-999,9,0.02,2,14.67,2,0.99,2,12.9,2,0.435634,4,0.870413,3.00E+00,2166.38,2,2301.19,2,-999,9,-999
58JH20220524,519,1,330,2,20220601,2206,14.4095,74.502833,2028,1998.6,-0.751,34.912,2,-999,9,294.83,2,-999,9,0.01,2,14.46,2,0.98,2,12.81,2,0.431314,4,0.714695,3.00E+00,2167.98,2,2298.8,2,-999,9,-999
58JH20220524,519,1,331,3,20220601,2206,14.4095,74.502833,2028,1500.87,-0.665,34.91,2,-999,9,298.61,2,-999,9,0.01,2,14.07,2,0.96,2,11.26,2,0.763244,4,0.827269,3.00E+00,2166.43,2,2297.79,2,-999,9,-999
58JH20220524,519,1,332,4,20220601,2206,14.4095,74.502833,2028,1000.56,-0.288,34.91,2,-999,9,309.59,2,-999,9,0.01,2,12.87,2,0.89,2,7.77,2,1.735999,4,1.966758,3.00E+00,2174.25,2,2296.01,2,-999,9,-999
58JH20220524,519,1,333,5,20220601,2206,14.4095,74.502833,2028,800.58,0.08,34.91,2,-999,9,307.26,2,-999,9,0.01,2,13.16,2,0.89,2,7.19,2,1.790037,4,1.776913,3.00E+00,2177.24,2,2297.09,2,-999,9,-999
58JH20220524,519,1,334,6,20220601,2206,14.4095,74.502833,2028,500.25,3.142,35.012,2,-999,9,308.91,2,-999,9,0.03,2,11.23,2,0.76,2,5.12,2,1.883968,4,3.203245,3.00E+00,2167.23,2,2304.08,2,-999,9,-999
58JH20220524,519,1,335,7,20220601,2206,14.4095,74.502833,2028,400.43,3.466,35.025,2,-999,9,305.08,2,-999,9,0.08,2,10.82,2,0.74,2,4.9,2,1.691444,4,3.01378,3.00E+00,2164.06,2,2306.55,2,-999,9,-999
58JH20220524,519,1,336,8,20220601,2206,14.4095,74.502833,2028,200.43,4.594,35.065,2,-999,9,300.37,2,-999,9,0.1,2,10.83,2,0.74,2,4.86,2,1.611022,4,2.098028,3.00E+00,2161.13,2,2307.58,2,-999,9,-999
58JH20220524,519,1,337,9,20220601,2206,14.4095,74.502833,2028,100.27,4.861,35.043,2,-999,9,306.39,2,-999,9,0.18,2,9.56,2,0.68,2,4.52,2,1.691701,4,3.330212,3.00E+00,2158.99,2,2308.25,2,-999,9,-999
58JH20220524,519,1,338,10,20220601,2206,14.4095,74.502833,2028,50.1,5.479,35.056,2,-999,9,301.47,2,-999,9,0.18,2,9.14,2,0.66,2,4.58,2,1.650622,4,2.734295,3.00E+00,2156.96,2,2309.09,2,-999,9,-999
58JH20220524,519,1,339,11,20220601,2206,14.4095,74.502833,2028,30.22,5.562,35.054,2,-999,9,302.93,2,-999,9,0.16,2,8.8,2,0.64,2,4.47,2,-999,9,-999,9.00E+00,2152.29,2,2309.85,2,-999,9,-999
58JH20220524,519,1,340,12,20220601,2206,14.4095,74.502833,2028,10.05,6.916,35.015,2,-999,9,315.74,2,-999,9,0.13,2,6.2,2,0.52,2,4.21,2,2.125129,4,3.516252,3.00E+00,2138.88,2,2311.64,2,-999,9,-999
58JH20220524,520,1,341,1,20220602,106,13.5005,74.500833,2157,2181.85,-0.732,34.912,2,-999,9,295.2,2,293.64,2,0.05,2,14.36,2,0.98,2,12.63,2,0.550554,2,0.412082,2.00E+00,2169.38,2,2299.57,2,-999,9,-999
58JH20220524,520,1,342,2,20220602,106,13.5005,74.500833,2157,1999.69,-0.73,34.912,2,-999,9,295.95,2,294.25,2,0.04,2,14.5,2,0.97,2,12.29,2,0.626574,2,0.622077,2.00E+00,2168.38,2,2297.8,2,-999,9,-999
58JH20220524,520,1,343,3,20220602,106,13.5005,74.500833,2157,1501.37,-0.56,34.91,2,-999,9,302.18,2,300.25,2,0.04,2,13.93,2,0.94,2,9.97,2,1.325261,2,1.868324,2.00E+00,2170.92,2,2297.43,2,-999,9,-999
58JH20220524,520,1,344,4,20220602,106,13.5005,74.500833,2157,1000.33,-0.146,34.909,2,-999,9,314.24,2,313.85,2,0.04,2,12.57,2,0.86,2,6.48,2,2.489248,2,2.315037,2.00E+00,2177.92,2,2296.7,2,-999,9,-999
58JH20220524,520,1,345,5,20220602,106,13.5005,74.500833,2157,800.99,0.346,34.911,2,-999,9,311.15,2,308.51,2,0.03,2,12.76,2,0.87,2,6.35,2,2.489062,2,2.797069,2.00E+00,2178.72,6,2296.21,2,-999,9,-999
58JH20220524,520,1,346,6,20220602,106,13.5005,74.500833,2157,501.34,2.776,35.001,2,-999,9,310.28,2,309.98,2,0.05,2,11.36,2,0.77,2,4.95,2,2.492646,2,3.587876,2.00E+00,2171.52,2,2303.23,2,-999,9,-999
58JH20220524,520,1,347,7,20220602,106,13.5005,74.500833,2157,400.32,3.177,35.025,2,-999,9,309.82,2,318.98,3,0.06,2,11.02,2,0.75,2,4.68,2,2.508102,2,3.643081,2.00E+00,2168.72,2,2305.42,2,-999,9,-999
58JH20220524,520,1,348,8,20220602,106,13.5005,74.500833,2157,200.65,3.572,35.032,2,-999,9,306.75,2,309.65,2,0.11,2,10.8,2,0.73,2,4.69,2,2.463417,2,3.10856,2.00E+00,2175.67,3,2307.94,2,-999,9,-999
58JH20220524,520,1,349,9,20220602,106,13.5005,74.500833,2157,99.96,4.315,35.042,2,-999,9,314.45,2,307.93,2,0.15,2,10.05,2,0.7,2,4.5,2,2.387179,2,3.605379,2.00E+00,2167.76,2,2307.85,2,-999,9,-999
58JH20220524,520,1,350,10,20220602,106,13.5005,74.500833,2157,51.16,4.828,35.04,2,-999,9,330.79,2,325.42,2,0.11,2,7.71,2,0.57,2,4.36,2,2.382427,2,3.501572,2.00E+00,2158.2,2,2310.27,2,-999,9,-999
58JH20220524,520,1,351,11,20220602,106,13.5005,74.500833,2157,30.13,5.933,35.034,2,-999,9,311.52,3,328.24,2,0.11,2,6.35,2,0.53,2,4.29,2,-999,9,-999,9.00E+00,2140.96,2,2313.02,2,-999,9,-999
58JH20220524,520,1,352,12,20220602,106,13.5005,74.500833,2157,10.32,6.504,35.023,2,-999,9,310.62,3,321.31,2,0.12,2,6.17,2,0.51,2,4.22,2,2.274063,2,3.357988,2.00E+00,2140.09,2,2309.19,2,-999,9,-999
58JH20220524,521,1,353,1,20220602,806,13.266167,73.724167,1680,1691.14,-0.778,34.91,2,-999,9,294.48,2,-999,9,-999,9,-999,9,-999,9,-999,9,-999,9,-999,9.00E+00,-999,9,-999,9,-999,9,-999
58JH20220524,521,1,354,2,20220602,806,13.266167,73.724167,1680,1690.85,-0.778,34.91,2,-999,9,294.47,2,-999,9,-999,9,-999,9,-999,9,-999,9,-999,9,-999,9.00E+00,-999,9,-999,9,-999,9,-999
58JH20220524,521,1,355,3,20220602,806,13.266167,73.724167,1680,1691.11,-0.778,34.91,2,-999,9,294.48,2,-999,9,-999,9,-999,9,-999,9,-999,9,-999,9,-999,9.00E+00,-999,9,-999,9,-999,9,-999
58JH20220524,521,1,356,4,20220602,806,13.266167,73.724167,1680,1691.14,-0.778,34.91,2,-999,9,294.48,2,-999,9,-999,9,-999,9,-999,9,-999,9,-999,9,-999,9.00E+00,-999,9,-999,9,-999,9,-999
58JH20220524,521,1,357,5,20220602,806,13.266167,73.724167,1680,1691.17,-0.778,34.91,2,-999,9,294.48,2,-999,9,-999,9,-999,9,-999,9,-999,9,-999,9,-999,9.00E+00,-999,9,-999,9,-999,9,-999
58JH20220524,521,1,358,6,20220602,806,13.266167,73.724167,1680,1691.76,-0.778,34.91,2,-999,9,294.1,2,-999,9,-999,9,-999,9,-999,9,-999,9,-999,9,-999,9.00E+00,-999,9,-999,9,-999,9,-999
58JH20220524,521,1,359,7,20220602,806,13.266167,73.724167,1680,1691.16,-0.778,34.911,2,-999,9,294.48,2,-999,9,-999,9,-999,9,-999,9,-999,9,-999,9,-999,9.00E+00,-999,9,-999,9,-999,9,-999
58JH20220524,521,1,360,8,20220602,806,13.266167,73.724167,1680,1691.04,-0.778,34.91,2,-999,9,294.47,2,-999,9,-999,9,-999,9,-999,9,-999,9,-999,9,-999,9.00E+00,-999,9,-999,9,-999,9,-999
58JH20220524,521,1,361,9,20220602,806,13.266167,73.724167,1680,1691.56,-0.778,34.91,2,-999,9,294.09,2,-999,9,-999,9,-999,9,-999,9,-999,9,-999,9,-999,9.00E+00,-999,9,-999,9,-999,9,-999
58JH20220524,521,1,362,10,20220602,806,13.266167,73.724167,1680,1691.42,-0.778,34.91,2,-999,9,294.49,2,-999,9,-999,9,-999,9,-999,9,-999,9,-999,9,-999,9.00E+00,-999,9,-999,9,-999,9,-999
58JH20220524,521,1,363,11,20220602,806,13.266167,73.724167,1680,1691.59,-0.778,34.91,2,-999,9,294.09,2,-999,9,-999,9,-999,9,-999,9,-999,9,-999,9,-999,9.00E+00,-999,9,-999,9,-999,9,-999
58JH20220524,521,1,364,12,20220602,806,13.266167,73.724167,1680,1691.77,-0.778,34.911,2,-999,9,294.1,2,-999,9,-999,9,-999,9,-999,9,-999,9,-999,9,-999,9.00E+00,-999,9,-999,9,-999,9,-999
58JH20220524,522,1,365,1,20220602,1006,13.271833,73.724667,1679,1688.21,-0.777,34.91,2,-999,9,294.44,2,-999,9,-999,9,-999,9,-999,9,-999,9,-999,9,-999,9.00E+00,-999,9,-999,9,-999,9,-999
58JH20220524,522,1,366,2,20220602,1006,13.271833,73.724667,1679,1688.01,-0.777,34.911,2,-999,9,294.43,2,-999,9,-999,9,-999,9,-999,9,-999,9,-999,9,-999,9.00E+00,-999,9,-999,9,-999,9,-999
58JH20220524,522,1,367,3,20220602,1006,13.271833,73.724667,1679,1688.63,-0.777,34.91,2,-999,9,294.15,2,-999,9,-999,9,-999,9,-999,9,-999,9,-999,9,-999,9.00E+00,-999,9,-999,9,-999,9,-999
58JH20220524,522,1,368,4,20220602,1006,13.271833,73.724667,1679,1688.61,-0.777,34.91,2,-999,9,294.15,2,-999,9,-999,9,-999,9,-999,9,-999,9,-999,9,-999,9.00E+00,-999,9,-999,9,-999,9,-999
58JH20220524,522,1,369,5,20220602,1006,13.271833,73.724667,1679,1688.4,-0.777,34.911,2,-999,9,294.45,2,-999,9,-999,9,-999,9,-999,9,-999,9,-999,9,-999,9.00E+00,-999,9,-999,9,-999,9,-999
58JH20220524,522,1,370,6,20220602,1006,13.271833,73.724667,1679,1688.92,-0.777,34.91,2,-999,9,294.16,2,-999,9,-999,9,-999,9,-999,9,-999,9,-999,9,-999,9.00E+00,-999,9,-999,9,-999,9,-999
58JH20220524,522,1,371,7,20220602,1006,13.271833,73.724667,1679,1688.66,-0.778,34.911,2,-999,9,294.15,2,-999,9,-999,9,-999,9,-999,9,-999,9,-999,9,-999,9.00E+00,-999,9,-999,9,-999,9,-999
58JH20220524,522,1,372,8,20220602,1006,13.271833,73.724667,1679,1688.67,-0.777,34.91,2,-999,9,294.15,2,-999,9,-999,9,-999,9,-999,9,-999,9,-999,9,-999,9.00E+00,-999,9,-999,9,-999,9,-999
58JH20220524,522,1,373,9,20220602,1006,13.271833,73.724667,1679,1688.29,-0.777,34.91,2,-999,9,294.44,2,-999,9,-999,9,-999,9,-999,9,-999,9,-999,9,-999,9.00E+00,-999,9,-999,9,-999,9,-999
58JH20220524,522,1,374,10,20220602,1006,13.271833,73.724667,1679,1688.7,-0.777,34.91,2,-999,9,294.15,2,-999,9,-999,9,-999,9,-999,9,-999,9,-999,9,-999,9.00E+00,-999,9,-999,9,-999,9,-999
58JH20220524,522,1,375,11,20220602,1006,13.271833,73.724667,1679,1688.56,-0.777,34.911,2,-999,9,294.15,2,-999,9,-999,9,-999,9,-999,9,-999,9,-999,9,-999,9.00E+00,-999,9,-999,9,-999,9,-999
58JH20220524,522,1,376,12,20220602,1006,13.271833,73.724667,1679,1688.87,-0.777,34.91,2,-999,9,294.16,2,-999,9,-999,9,-999,9,-999,9,-999,9,-999,9,-999,9.00E+00,-999,9,-999,9,-999,9,-999
58JH20220524,523,1,377,1,20220602,1106,13.268833,73.724333,1675,1689.42,-0.777,34.911,2,-999,9,294.46,2,-999,9,-999,9,-999,9,-999,9,-999,9,-999,9,-999,9.00E+00,-999,9,-999,9,-999,9,-999
58JH20220524,523,1,378,2,20220602,1106,13.268833,73.724333,1675,1689.49,-0.777,34.911,2,-999,9,294.46,2,-999,9,-999,9,-999,9,-999,9,-999,9,-999,9,-999,9.00E+00,-999,9,-999,9,-999,9,-999
58JH20220524,523,1,379,3,20220602,1106,13.268833,73.724333,1675,1689.52,-0.777,34.911,2,-999,9,294.16,2,-999,9,-999,9,-999,9,-999,9,-999,9,-999,9,-999,9.00E+00,-999,9,-999,9,-999,9,-999
58JH20220524,523,1,380,4,20220602,1106,13.268833,73.724333,1675,1689.65,-0.777,34.911,2,-999,9,294.16,2,-999,9,-999,9,-999,9,-999,9,-999,9,-999,9,-999,9.00E+00,-999,9,-999,9,-999,9,-999
58JH20220524,523,1,381,5,20220602,1106,13.268833,73.724333,1675,1689.79,-0.777,34.911,2,-999,9,294.17,2,-999,9,-999,9,-999,9,-999,9,-999,9,-999,9,-999,9.00E+00,-999,9,-999,9,-999,9,-999
58JH20220524,523,1,382,6,20220602,1106,13.268833,73.724333,1675,1689.57,-0.777,34.911,2,-999,9,294.16,2,-999,9,-999,9,-999,9,-999,9,-999,9,-999,9,-999,9.00E+00,-999,9,-999,9,-999,9,-999
58JH20220524,523,1,383,7,20220602,1106,13.268833,73.724333,1675,1689.41,-0.777,34.911,2,-999,9,294.46,2,-999,9,-999,9,-999,9,-999,9,-999,9,-999,9,-999,9.00E+00,-999,9,-999,9,-999,9,-999
58JH20220524,523,1,384,8,20220602,1106,13.268833,73.724333,1675,1689.94,-0.777,34.911,2,-999,9,294.17,2,-999,9,-999,9,-999,9,-999,9,-999,9,-999,9,-999,9.00E+00,-999,9,-999,9,-999,9,-999
58JH20220524,523,1,385,9,20220602,1106,13.268833,73.724333,1675,1690,-0.777,34.911,2,-999,9,294.18,2,-999,9,-999,9,-999,9,-999,9,-999,9,-999,9,-999,9.00E+00,-999,9,-999,9,-999,9,-999
58JH20220524,523,1,386,10,20220602,1106,13.268833,73.724333,1675,1689.78,-0.777,34.911,2,-999,9,294.17,2,-999,9,-999,9,-999,9,-999,9,-999,9,-999,9,-999,9.00E+00,-999,9,-999,9,-999,9,-999
58JH20220524,523,1,387,11,20220602,1106,13.268833,73.724333,1675,1690.09,-0.777,34.91,2,-999,9,294.18,2,-999,9,-999,9,-999,9,-999,9,-999,9,-999,9,-999,9.00E+00,-999,9,-999,9,-999,9,-999
58JH20220524,523,1,388,12,20220602,1106,13.268833,73.724333,1675,1689.81,-0.777,34.911,2,-999,9,294.17,2,-999,9,-999,9,-999,9,-999,9,-999,9,-999,9,-999,9.00E+00,-999,9,-999,9,-999,9,-999
58JH20220524,524,1,389,1,20220603,6,12.516667,74.497,2277,2311.89,-0.725,34.913,2,-999,9,295.21,2,-999,9,0.01,2,14.58,2,0.97,2,12.64,2,0.544495,2,0.891206,2.00E+00,2164.6,2,2299.17,2,-999,9,-999
58JH20220524,524,1,390,2,20220603,6,12.516667,74.497,2277,2000.62,-0.715,34.913,2,-999,9,296.83,2,-999,9,0.01,2,14.42,2,0.97,2,11.91,2,0.658294,2,0.690943,2.00E+00,2163.99,2,2297.42,2,-999,9,-999
58JH20220524,524,1,391,3,20220603,6,12.516667,74.497,2277,1501.15,-0.587,34.911,2,-999,9,301.33,2,-999,9,0.01,2,13.97,2,0.94,2,10.2,2,1.215812,2,1.456345,2.00E+00,2167.86,2,2297.35,2,-999,9,-999
58JH20220524,524,1,392,4,20220603,6,12.516667,74.497,2277,1000.88,-0.174,34.91,2,-999,9,311.46,2,-999,9,0.01,2,12.82,2,0.88,2,7.08,2,2.321168,2,2.754419,2.00E+00,2174.68,2,2296.1,2,-999,9,-999
58JH20220524,524,1,393,5,20220603,6,12.516667,74.497,2277,800.59,0.184,34.909,2,-999,9,310.03,2,-999,9,0.01,2,12.69,2,0.87,2,6.59,2,2.458993,2,2.946525,2.00E+00,2175.65,2,2294.46,2,-999,9,-999
58JH20220524,524,1,394,6,20220603,6,12.516667,74.497,2277,500.85,2.662,34.995,2,-999,9,309.24,2,-999,9,0.03,2,11.59,2,0.78,2,5.19,2,2.455189,2,3.29476,2.00E+00,2167.13,2,2301.39,2,-999,9,-999
58JH20220524,524,1,395,7,20220603,6,12.516667,74.497,2277,400.21,3.156,35.024,2,-999,9,310.49,2,-999,9,0.05,2,11.03,2,0.75,2,4.88,2,2.442854,2,3.48196,2.00E+00,2166.6,2,2305.19,2,-999,9,-999
58JH20220524,524,1,396,8,20220603,6,12.516667,74.497,2277,201.05,3.532,35.039,2,-999,9,310.37,2,-999,9,0.15,2,10.76,2,0.73,2,4.8,2,2.429385,2,3.527057,2.00E+00,2162.73,2,2305.62,2,-999,9,-999
58JH20220524,524,1,397,9,20220603,6,12.516667,74.497,2277,100.5,3.987,35.045,2,-999,9,305.74,2,-999,9,0.16,2,10.22,2,0.71,2,4.79,2,2.387261,2,3.418518,2.00E+00,2161.4,2,2308.66,2,-999,9,-999
58JH20220524,524,1,398,10,20220603,6,12.516667,74.497,2277,49.66,4.446,35.041,2,-999,9,319.62,2,-999,9,0.14,2,9.2,2,0.65,2,4.61,2,2.36935,2,3.590562,2.00E+00,2156.68,2,2308.23,2,-999,9,-999
58JH20220524,524,1,399,11,20220603,6,12.516667,74.497,2277,29.81,4.656,35.038,2,-999,9,328.81,2,-999,9,0.1,2,7.52,2,0.56,2,4.55,2,-999,9,-999,9.00E+00,2144.66,2,2309.13,2,-999,9,-999
58JH20220524,524,1,400,12,20220603,6,12.516667,74.497,2277,10.4,6.515,35.046,2,-999,9,322.63,2,-999,9,0.1,2,5.08,2,0.47,2,4.35,2,2.314139,2,3.518576,2.00E+00,2130.25,2,2313.48,2,-999,9,-999